Net-Backtype v0.03 Perl 5 v5.27.7 x86_64-linux-thread-multi

Status
Pass
From
Andreas J. König (ANDK)
Dist
Net-Backtype v0.03
Platform
Perl 5 v5.27.7 x86_64-linux-thread-multi
Date
2017-12-10 08:17:01
ID
7f59b82a-dd82-11e7-b850-3dc11f28cb7a
This distribution has been tested as part of the CPAN Testers
project, supporting the Perl programming language.  See
http://wiki.cpantesters.org/ for more information or email
questions to cpan-testers-discuss@perl.org


--
Dear Franck Cuny,

This is a computer-generated report for Net-Backtype-0.03
on perl 5.27.7, created by CPAN-Reporter-1.2018.

Thank you for uploading your work to CPAN.  Congratulations!
All tests were successful.

Sections of this report:

    * Tester comments
    * Program output
    * Prerequisites
    * Environment and other context

------------------------------
TESTER COMMENTS
------------------------------

Additional comments from tester:

this report is from an automated smoke testing program
and was not reviewed by a human for accuracy

------------------------------
PROGRAM OUTPUT
------------------------------

Output from '/usr/bin/make test':

PERL_DL_NONLAZY=1 "/tmp/basesmoker-reloperl-QG1T/bin/perl" "-MExtUtils::Command::MM" "-MTest::Harness" "-e" "undef *Test::Harness::Switches; test_harness(0, 'blib/lib', 'blib/arch')" t/*.t
Passing a list of values to enum is deprecated. Enum values should be wrapped in an arrayref. at /home/sand/src/perl/repoperls/installed-perls/host/k93msid/v5.27.6-172-g9a3c928729/1e0c/lib/site_perl/5.27.7/x86_64-linux-thread-multi/Moose/Util/TypeConstraints.pm line 437.
	Moose::Util::TypeConstraints::enum("Method", "HEAD", "GET", "POST", "PUT", "DELETE") called at /home/sand/src/perl/repoperls/installed-perls/host/k93msid/v5.27.6-172-g9a3c928729/1e0c/lib/site_perl/5.27.7/Net/HTTP/API/Meta/Method.pm line 21
	require Net/HTTP/API/Meta/Method.pm called at /home/sand/src/perl/repoperls/installed-perls/host/k93msid/v5.27.6-172-g9a3c928729/1e0c/lib/site_perl/5.27.7/Net/HTTP/API/Meta/Method/APIMethod.pm line 10
	Net::HTTP::API::Meta::Method::APIMethod::BEGIN() called at /home/sand/src/perl/repoperls/installed-perls/host/k93msid/v5.27.6-172-g9a3c928729/1e0c/lib/site_perl/5.27.7/Net/HTTP/API/Meta/Method.pm line 0
	eval {...} called at /home/sand/src/perl/repoperls/installed-perls/host/k93msid/v5.27.6-172-g9a3c928729/1e0c/lib/site_perl/5.27.7/Net/HTTP/API/Meta/Method.pm line 0
	require Net/HTTP/API/Meta/Method/APIMethod.pm called at /home/sand/src/perl/repoperls/installed-perls/host/k93msid/v5.27.6-172-g9a3c928729/1e0c/lib/site_perl/5.27.7/Module/Runtime.pm line 314
	Module::Runtime::require_module("Net::HTTP::API::Meta::Method::APIMethod") called at /home/sand/src/perl/repoperls/installed-perls/host/k93msid/v5.27.6-172-g9a3c928729/1e0c/lib/site_perl/5.27.7/Module/Runtime.pm line 391
	eval {...} called at /home/sand/src/perl/repoperls/installed-perls/host/k93msid/v5.27.6-172-g9a3c928729/1e0c/lib/site_perl/5.27.7/Module/Runtime.pm line 391
	Module::Runtime::use_package_optimistically("Net::HTTP::API::Meta::Method::APIMethod") called at /home/sand/src/perl/repoperls/installed-perls/host/k93msid/v5.27.6-172-g9a3c928729/1e0c/lib/site_perl/5.27.7/x86_64-linux-thread-multi/Moose/Util.pm line 352
	Moose::Util::_load_user_class("Net::HTTP::API::Meta::Method::APIMethod", undef) called at /home/sand/src/perl/repoperls/installed-perls/host/k93msid/v5.27.6-172-g9a3c928729/1e0c/lib/site_perl/5.27.7/x86_64-linux-thread-multi/Moose/Util.pm line 147
	Moose::Util::_apply_all_roles(Moose::Meta::Role=HASH(0x55b281a0daf8), undef, "Net::HTTP::API::Meta::Method::APIMethod", "Net::HTTP::API::Meta::Method::APIDeclare") called at /home/sand/src/perl/repoperls/installed-perls/host/k93msid/v5.27.6-172-g9a3c928729/1e0c/lib/site_perl/5.27.7/x86_64-linux-thread-multi/Moose/Util.pm line 114
	Moose::Util::apply_all_roles(Moose::Meta::Role=HASH(0x55b281a0daf8), "Net::HTTP::API::Meta::Method::APIMethod", "Net::HTTP::API::Meta::Method::APIDeclare") called at /home/sand/src/perl/repoperls/installed-perls/host/k93msid/v5.27.6-172-g9a3c928729/1e0c/lib/site_perl/5.27.7/x86_64-linux-thread-multi/Moose/Role.pm line 25
	Moose::Role::with(Moose::Meta::Role=HASH(0x55b281a0daf8), "Net::HTTP::API::Meta::Method::APIMethod", "Net::HTTP::API::Meta::Method::APIDeclare") called at /home/sand/src/perl/repoperls/installed-perls/host/k93msid/v5.27.6-172-g9a3c928729/1e0c/lib/site_perl/5.27.7/x86_64-linux-thread-multi/Moose/Exporter.pm line 419
	Moose::Role::with("Net::HTTP::API::Meta::Method::APIMethod", "Net::HTTP::API::Meta::Method::APIDeclare") called at /home/sand/src/perl/repoperls/installed-perls/host/k93msid/v5.27.6-172-g9a3c928729/1e0c/lib/site_perl/5.27.7/Net/HTTP/API/Meta/Class.pm line 10
	require Net/HTTP/API/Meta/Class.pm called at /home/sand/src/perl/repoperls/installed-perls/host/k93msid/v5.27.6-172-g9a3c928729/1e0c/lib/site_perl/5.27.7/Module/Runtime.pm line 314
	Module::Runtime::require_module("Net::HTTP::API::Meta::Class") called at /home/sand/src/perl/repoperls/installed-perls/host/k93msid/v5.27.6-172-g9a3c928729/1e0c/lib/site_perl/5.27.7/Module/Runtime.pm line 391
	eval {...} called at /home/sand/src/perl/repoperls/installed-perls/host/k93msid/v5.27.6-172-g9a3c928729/1e0c/lib/site_perl/5.27.7/Module/Runtime.pm line 391
	Module::Runtime::use_package_optimistically("Net::HTTP::API::Meta::Class") called at /home/sand/src/perl/repoperls/installed-perls/host/k93msid/v5.27.6-172-g9a3c928729/1e0c/lib/site_perl/5.27.7/x86_64-linux-thread-multi/Moose/Util.pm line 352
	Moose::Util::_load_user_class("Net::HTTP::API::Meta::Class", undef) called at /home/sand/src/perl/repoperls/installed-perls/host/k93msid/v5.27.6-172-g9a3c928729/1e0c/lib/site_perl/5.27.7/x86_64-linux-thread-multi/Moose/Util.pm line 147
	Moose::Util::_apply_all_roles(Moose::Meta::Class=HASH(0x55b2819e32d0), undef, "Net::HTTP::API::Meta::Class") called at /home/sand/src/perl/repoperls/installed-perls/host/k93msid/v5.27.6-172-g9a3c928729/1e0c/lib/site_perl/5.27.7/x86_64-linux-thread-multi/Moose/Util.pm line 114
	Moose::Util::apply_all_roles(Moose::Meta::Class=HASH(0x55b2819e32d0), "Net::HTTP::API::Meta::Class") called at /home/sand/src/perl/repoperls/installed-perls/host/k93msid/v5.27.6-172-g9a3c928729/1e0c/lib/site_perl/5.27.7/x86_64-linux-thread-multi/Moose/Meta/Class.pm line 88
	Moose::Meta::Class::create("Moose::Meta::Class", "Moose::Meta::Class::__ANON__::SERIAL::1", "superclasses", ARRAY(0x55b2819dffc8), "weaken", "", "roles", ARRAY(0x55b28182a268)) called at /home/sand/src/perl/repoperls/installed-perls/host/k93msid/v5.27.6-172-g9a3c928729/1e0c/lib/site_perl/5.27.7/x86_64-linux-thread-multi/Class/MOP/Package.pm line 120
	Class::MOP::Package::create_anon("Moose::Meta::Class", "superclasses", ARRAY(0x55b2819dffc8), "roles", ARRAY(0x55b28182a268), "cache", 1) called at /home/sand/src/perl/repoperls/installed-perls/host/k93msid/v5.27.6-172-g9a3c928729/1e0c/lib/site_perl/5.27.7/x86_64-linux-thread-multi/Class/MOP/Class.pm line 472
	Class::MOP::Class::create_anon_class("Moose::Meta::Class", "superclasses", ARRAY(0x55b2819dffc8), "roles", ARRAY(0x55b28182a268), "cache", 1) called at /home/sand/src/perl/repoperls/installed-perls/host/k93msid/v5.27.6-172-g9a3c928729/1e0c/lib/site_perl/5.27.7/x86_64-linux-thread-multi/Moose/Util/MetaRole.pm line 108
	Moose::Util::MetaRole::_make_new_class("Moose::Meta::Class", ARRAY(0x55b28182a268)) called at /home/sand/src/perl/repoperls/installed-perls/host/k93msid/v5.27.6-172-g9a3c928729/1e0c/lib/site_perl/5.27.7/x86_64-linux-thread-multi/Moose/Util/MetaRole.pm line 53
	Moose::Util::MetaRole::_make_new_metaclass(Moose::Meta::Class=HASH(0x55b2819dfad0), HASH(0x55b280b05578), "class") called at /home/sand/src/perl/repoperls/installed-perls/host/k93msid/v5.27.6-172-g9a3c928729/1e0c/lib/site_perl/5.27.7/x86_64-linux-thread-multi/Moose/Util/MetaRole.pm line 21
	Moose::Util::MetaRole::apply_metaroles("for", "Net::Backtype", "class_metaroles", HASH(0x55b280b05578)) called at /home/sand/src/perl/repoperls/installed-perls/host/k93msid/v5.27.6-172-g9a3c928729/1e0c/lib/site_perl/5.27.7/Net/HTTP/API.pm line 34
	Net::HTTP::API::init_meta("Net::HTTP::API", "for_class", "MooseX::Types::Moose", "metaclass", undef, "meta_name", "meta") called at /home/sand/src/perl/repoperls/installed-perls/host/k93msid/v5.27.6-172-g9a3c928729/1e0c/lib/site_perl/5.27.7/x86_64-linux-thread-multi/Moose/Exporter.pm line 484
	Net::HTTP::API::import("Net::HTTP::API") called at /tmp/loop_over_bdir-1953-AdmLsQ/Net-Backtype-0.03-0/blib/lib/Net/Backtype.pm line 5
	Net::Backtype::BEGIN() called at /home/sand/src/perl/repoperls/installed-perls/host/k93msid/v5.27.6-172-g9a3c928729/1e0c/lib/site_perl/5.27.7/Net/HTTP/API/Meta/Method.pm line 0
	eval {...} called at /home/sand/src/perl/repoperls/installed-perls/host/k93msid/v5.27.6-172-g9a3c928729/1e0c/lib/site_perl/5.27.7/Net/HTTP/API/Meta/Method.pm line 0
	require Net/Backtype.pm called at t/00_compile.t line 4
	main::BEGIN() called at /home/sand/src/perl/repoperls/installed-perls/host/k93msid/v5.27.6-172-g9a3c928729/1e0c/lib/site_perl/5.27.7/Net/HTTP/API/Meta/Method.pm line 0
	eval {...} called at /home/sand/src/perl/repoperls/installed-perls/host/k93msid/v5.27.6-172-g9a3c928729/1e0c/lib/site_perl/5.27.7/Net/HTTP/API/Meta/Method.pm line 0
	eval 'package main;
BEGIN { ${^WARNING_BITS} = $args[-1] if defined $args[-1] }
#line 4 t/00_compile.t
use Net::Backtype @{$args[0]};
1;
' called at /home/sand/src/perl/repoperls/installed-perls/host/k93msid/v5.27.6-172-g9a3c928729/1e0c/lib/5.27.7/Test/More.pm line 1031
	Test::More::_eval("package main;\x{a}BEGIN { \${^WARNING_BITS} = \$args[-1] if defined"..., ARRAY(0x55b280ab24d8), undef) called at /home/sand/src/perl/repoperls/installed-perls/host/k93msid/v5.27.6-172-g9a3c928729/1e0c/lib/5.27.7/Test/More.pm line 1007
	Test::More::use_ok("Net::Backtype") called at t/00_compile.t line 4
	main::BEGIN() called at /home/sand/src/perl/repoperls/installed-perls/host/k93msid/v5.27.6-172-g9a3c928729/1e0c/lib/site_perl/5.27.7/Net/HTTP/API/Meta/Method.pm line 0
	eval {...} called at /home/sand/src/perl/repoperls/installed-perls/host/k93msid/v5.27.6-172-g9a3c928729/1e0c/lib/site_perl/5.27.7/Net/HTTP/API/Meta/Method.pm line 0
Passing a list of values to enum is deprecated. Enum values should be wrapped in an arrayref. at /home/sand/src/perl/repoperls/installed-perls/host/k93msid/v5.27.6-172-g9a3c928729/1e0c/lib/site_perl/5.27.7/x86_64-linux-thread-multi/Moose/Util/TypeConstraints.pm line 437.
	Moose::Util::TypeConstraints::enum("FormatMode", "content-type", "append") called at /home/sand/src/perl/repoperls/installed-perls/host/k93msid/v5.27.6-172-g9a3c928729/1e0c/lib/site_perl/5.27.7/Net/HTTP/API/Role/Format.pm line 23
	require Net/HTTP/API/Role/Format.pm called at /home/sand/src/perl/repoperls/installed-perls/host/k93msid/v5.27.6-172-g9a3c928729/1e0c/lib/site_perl/5.27.7/Module/Runtime.pm line 314
	Module::Runtime::require_module("Net::HTTP::API::Role::Format") called at /home/sand/src/perl/repoperls/installed-perls/host/k93msid/v5.27.6-172-g9a3c928729/1e0c/lib/site_perl/5.27.7/Module/Runtime.pm line 391
	eval {...} called at /home/sand/src/perl/repoperls/installed-perls/host/k93msid/v5.27.6-172-g9a3c928729/1e0c/lib/site_perl/5.27.7/Module/Runtime.pm line 391
	Module::Runtime::use_package_optimistically("Net::HTTP::API::Role::Format") called at /home/sand/src/perl/repoperls/installed-perls/host/k93msid/v5.27.6-172-g9a3c928729/1e0c/lib/site_perl/5.27.7/x86_64-linux-thread-multi/Moose/Util.pm line 352
	Moose::Util::_load_user_class("Net::HTTP::API::Role::Format", undef) called at /home/sand/src/perl/repoperls/installed-perls/host/k93msid/v5.27.6-172-g9a3c928729/1e0c/lib/site_perl/5.27.7/x86_64-linux-thread-multi/Moose/Util.pm line 147
	Moose::Util::_apply_all_roles(Moose::Meta::Class=HASH(0x55b281d34978), undef, "Net::HTTP::API::Role::UserAgent", "Net::HTTP::API::Role::Format", "Net::HTTP::API::Role::Authentication", "Net::HTTP::API::Role::Serialization", "Net::HTTP::API::Role::Request") called at /home/sand/src/perl/repoperls/installed-perls/host/k93msid/v5.27.6-172-g9a3c928729/1e0c/lib/site_perl/5.27.7/x86_64-linux-thread-multi/Moose/Util.pm line 114
	Moose::Util::apply_all_roles(Moose::Meta::Class=HASH(0x55b281d34978), "Net::HTTP::API::Role::UserAgent", "Net::HTTP::API::Role::Format", "Net::HTTP::API::Role::Authentication", "Net::HTTP::API::Role::Serialization", "Net::HTTP::API::Role::Request") called at /home/sand/src/perl/repoperls/installed-perls/host/k93msid/v5.27.6-172-g9a3c928729/1e0c/lib/site_perl/5.27.7/x86_64-linux-thread-multi/Moose/Meta/Class.pm line 88
	Moose::Meta::Class::create("Moose::Meta::Class", "Moose::Meta::Class::__ANON__::SERIAL::10", "roles", ARRAY(0x55b280b053c8), "superclasses", ARRAY(0x55b281e87920), "weaken", "") called at /home/sand/src/perl/repoperls/installed-perls/host/k93msid/v5.27.6-172-g9a3c928729/1e0c/lib/site_perl/5.27.7/x86_64-linux-thread-multi/Class/MOP/Package.pm line 120
	Class::MOP::Package::create_anon("Moose::Meta::Class", "superclasses", ARRAY(0x55b281e87920), "roles", ARRAY(0x55b280b053c8), "cache", 1) called at /home/sand/src/perl/repoperls/installed-perls/host/k93msid/v5.27.6-172-g9a3c928729/1e0c/lib/site_perl/5.27.7/x86_64-linux-thread-multi/Class/MOP/Class.pm line 472
	Class::MOP::Class::create_anon_class("Moose::Meta::Class", "superclasses", ARRAY(0x55b281e87920), "roles", ARRAY(0x55b280b053c8), "cache", 1) called at /home/sand/src/perl/repoperls/installed-perls/host/k93msid/v5.27.6-172-g9a3c928729/1e0c/lib/site_perl/5.27.7/x86_64-linux-thread-multi/Moose/Util/MetaRole.pm line 108
	Moose::Util::MetaRole::_make_new_class("Net::Backtype", ARRAY(0x55b280b053c8), ARRAY(0x55b281e87920)) called at /home/sand/src/perl/repoperls/installed-perls/host/k93msid/v5.27.6-172-g9a3c928729/1e0c/lib/site_perl/5.27.7/x86_64-linux-thread-multi/Moose/Util/MetaRole.pm line 88
	Moose::Util::MetaRole::apply_base_class_roles("for", "Net::Backtype", "roles", ARRAY(0x55b280b053c8)) called at /home/sand/src/perl/repoperls/installed-perls/host/k93msid/v5.27.6-172-g9a3c928729/1e0c/lib/site_perl/5.27.7/Net/HTTP/API.pm line 41
	Net::HTTP::API::init_meta("Net::HTTP::API", "for_class", "Net::HTTP::API::Role::Format", "metaclass", undef, "meta_name", "meta") called at /home/sand/src/perl/repoperls/installed-perls/host/k93msid/v5.27.6-172-g9a3c928729/1e0c/lib/site_perl/5.27.7/x86_64-linux-thread-multi/Moose/Exporter.pm line 484
	Net::HTTP::API::import("Net::HTTP::API") called at /tmp/loop_over_bdir-1953-AdmLsQ/Net-Backtype-0.03-0/blib/lib/Net/Backtype.pm line 5
	Net::Backtype::BEGIN() called at /home/sand/src/perl/repoperls/installed-perls/host/k93msid/v5.27.6-172-g9a3c928729/1e0c/lib/site_perl/5.27.7/Net/HTTP/API/Role/Format.pm line 0
	eval {...} called at /home/sand/src/perl/repoperls/installed-perls/host/k93msid/v5.27.6-172-g9a3c928729/1e0c/lib/site_perl/5.27.7/Net/HTTP/API/Role/Format.pm line 0
	require Net/Backtype.pm called at t/00_compile.t line 4
	main::BEGIN() called at /home/sand/src/perl/repoperls/installed-perls/host/k93msid/v5.27.6-172-g9a3c928729/1e0c/lib/site_perl/5.27.7/Net/HTTP/API/Role/Format.pm line 0
	eval {...} called at /home/sand/src/perl/repoperls/installed-perls/host/k93msid/v5.27.6-172-g9a3c928729/1e0c/lib/site_perl/5.27.7/Net/HTTP/API/Role/Format.pm line 0
	eval 'package main;
BEGIN { ${^WARNING_BITS} = $args[-1] if defined $args[-1] }
#line 4 t/00_compile.t
use Net::Backtype @{$args[0]};
1;
' called at /home/sand/src/perl/repoperls/installed-perls/host/k93msid/v5.27.6-172-g9a3c928729/1e0c/lib/5.27.7/Test/More.pm line 1031
	Test::More::_eval("package main;\x{a}BEGIN { \${^WARNING_BITS} = \$args[-1] if defined"..., ARRAY(0x55b280ab24d8), undef) called at /home/sand/src/perl/repoperls/installed-perls/host/k93msid/v5.27.6-172-g9a3c928729/1e0c/lib/5.27.7/Test/More.pm line 1007
	Test::More::use_ok("Net::Backtype") called at t/00_compile.t line 4
	main::BEGIN() called at /home/sand/src/perl/repoperls/installed-perls/host/k93msid/v5.27.6-172-g9a3c928729/1e0c/lib/site_perl/5.27.7/Net/HTTP/API/Role/Format.pm line 0
	eval {...} called at /home/sand/src/perl/repoperls/installed-perls/host/k93msid/v5.27.6-172-g9a3c928729/1e0c/lib/site_perl/5.27.7/Net/HTTP/API/Role/Format.pm line 0
t/00_compile.t ............ ok
Passing a list of values to enum is deprecated. Enum values should be wrapped in an arrayref. at /home/sand/src/perl/repoperls/installed-perls/host/k93msid/v5.27.6-172-g9a3c928729/1e0c/lib/site_perl/5.27.7/x86_64-linux-thread-multi/Moose/Util/TypeConstraints.pm line 437.
	Moose::Util::TypeConstraints::enum("Method", "HEAD", "GET", "POST", "PUT", "DELETE") called at /home/sand/src/perl/repoperls/installed-perls/host/k93msid/v5.27.6-172-g9a3c928729/1e0c/lib/site_perl/5.27.7/Net/HTTP/API/Meta/Method.pm line 21
	require Net/HTTP/API/Meta/Method.pm called at /home/sand/src/perl/repoperls/installed-perls/host/k93msid/v5.27.6-172-g9a3c928729/1e0c/lib/site_perl/5.27.7/Net/HTTP/API/Meta/Method/APIMethod.pm line 10
	Net::HTTP::API::Meta::Method::APIMethod::BEGIN() called at /home/sand/src/perl/repoperls/installed-perls/host/k93msid/v5.27.6-172-g9a3c928729/1e0c/lib/site_perl/5.27.7/Net/HTTP/API/Meta/Method.pm line 0
	eval {...} called at /home/sand/src/perl/repoperls/installed-perls/host/k93msid/v5.27.6-172-g9a3c928729/1e0c/lib/site_perl/5.27.7/Net/HTTP/API/Meta/Method.pm line 0
	require Net/HTTP/API/Meta/Method/APIMethod.pm called at /home/sand/src/perl/repoperls/installed-perls/host/k93msid/v5.27.6-172-g9a3c928729/1e0c/lib/site_perl/5.27.7/Module/Runtime.pm line 314
	Module::Runtime::require_module("Net::HTTP::API::Meta::Method::APIMethod") called at /home/sand/src/perl/repoperls/installed-perls/host/k93msid/v5.27.6-172-g9a3c928729/1e0c/lib/site_perl/5.27.7/Module/Runtime.pm line 391
	eval {...} called at /home/sand/src/perl/repoperls/installed-perls/host/k93msid/v5.27.6-172-g9a3c928729/1e0c/lib/site_perl/5.27.7/Module/Runtime.pm line 391
	Module::Runtime::use_package_optimistically("Net::HTTP::API::Meta::Method::APIMethod") called at /home/sand/src/perl/repoperls/installed-perls/host/k93msid/v5.27.6-172-g9a3c928729/1e0c/lib/site_perl/5.27.7/x86_64-linux-thread-multi/Moose/Util.pm line 352
	Moose::Util::_load_user_class("Net::HTTP::API::Meta::Method::APIMethod", undef) called at /home/sand/src/perl/repoperls/installed-perls/host/k93msid/v5.27.6-172-g9a3c928729/1e0c/lib/site_perl/5.27.7/x86_64-linux-thread-multi/Moose/Util.pm line 147
	Moose::Util::_apply_all_roles(Moose::Meta::Role=HASH(0x556f569926d8), undef, "Net::HTTP::API::Meta::Method::APIMethod", "Net::HTTP::API::Meta::Method::APIDeclare") called at /home/sand/src/perl/repoperls/installed-perls/host/k93msid/v5.27.6-172-g9a3c928729/1e0c/lib/site_perl/5.27.7/x86_64-linux-thread-multi/Moose/Util.pm line 114
	Moose::Util::apply_all_roles(Moose::Meta::Role=HASH(0x556f569926d8), "Net::HTTP::API::Meta::Method::APIMethod", "Net::HTTP::API::Meta::Method::APIDeclare") called at /home/sand/src/perl/repoperls/installed-perls/host/k93msid/v5.27.6-172-g9a3c928729/1e0c/lib/site_perl/5.27.7/x86_64-linux-thread-multi/Moose/Role.pm line 25
	Moose::Role::with(Moose::Meta::Role=HASH(0x556f569926d8), "Net::HTTP::API::Meta::Method::APIMethod", "Net::HTTP::API::Meta::Method::APIDeclare") called at /home/sand/src/perl/repoperls/installed-perls/host/k93msid/v5.27.6-172-g9a3c928729/1e0c/lib/site_perl/5.27.7/x86_64-linux-thread-multi/Moose/Exporter.pm line 419
	Moose::Role::with("Net::HTTP::API::Meta::Method::APIMethod", "Net::HTTP::API::Meta::Method::APIDeclare") called at /home/sand/src/perl/repoperls/installed-perls/host/k93msid/v5.27.6-172-g9a3c928729/1e0c/lib/site_perl/5.27.7/Net/HTTP/API/Meta/Class.pm line 10
	require Net/HTTP/API/Meta/Class.pm called at /home/sand/src/perl/repoperls/installed-perls/host/k93msid/v5.27.6-172-g9a3c928729/1e0c/lib/site_perl/5.27.7/Module/Runtime.pm line 314
	Module::Runtime::require_module("Net::HTTP::API::Meta::Class") called at /home/sand/src/perl/repoperls/installed-perls/host/k93msid/v5.27.6-172-g9a3c928729/1e0c/lib/site_perl/5.27.7/Module/Runtime.pm line 391
	eval {...} called at /home/sand/src/perl/repoperls/installed-perls/host/k93msid/v5.27.6-172-g9a3c928729/1e0c/lib/site_perl/5.27.7/Module/Runtime.pm line 391
	Module::Runtime::use_package_optimistically("Net::HTTP::API::Meta::Class") called at /home/sand/src/perl/repoperls/installed-perls/host/k93msid/v5.27.6-172-g9a3c928729/1e0c/lib/site_perl/5.27.7/x86_64-linux-thread-multi/Moose/Util.pm line 352
	Moose::Util::_load_user_class("Net::HTTP::API::Meta::Class", undef) called at /home/sand/src/perl/repoperls/installed-perls/host/k93msid/v5.27.6-172-g9a3c928729/1e0c/lib/site_perl/5.27.7/x86_64-linux-thread-multi/Moose/Util.pm line 147
	Moose::Util::_apply_all_roles(Moose::Meta::Class=HASH(0x556f569685e0), undef, "Net::HTTP::API::Meta::Class") called at /home/sand/src/perl/repoperls/installed-perls/host/k93msid/v5.27.6-172-g9a3c928729/1e0c/lib/site_perl/5.27.7/x86_64-linux-thread-multi/Moose/Util.pm line 114
	Moose::Util::apply_all_roles(Moose::Meta::Class=HASH(0x556f569685e0), "Net::HTTP::API::Meta::Class") called at /home/sand/src/perl/repoperls/installed-perls/host/k93msid/v5.27.6-172-g9a3c928729/1e0c/lib/site_perl/5.27.7/x86_64-linux-thread-multi/Moose/Meta/Class.pm line 88
	Moose::Meta::Class::create("Moose::Meta::Class", "Moose::Meta::Class::__ANON__::SERIAL::1", "superclasses", ARRAY(0x556f56964a78), "weaken", "", "roles", ARRAY(0x556f567b2ec8)) called at /home/sand/src/perl/repoperls/installed-perls/host/k93msid/v5.27.6-172-g9a3c928729/1e0c/lib/site_perl/5.27.7/x86_64-linux-thread-multi/Class/MOP/Package.pm line 120
	Class::MOP::Package::create_anon("Moose::Meta::Class", "superclasses", ARRAY(0x556f56964a78), "roles", ARRAY(0x556f567b2ec8), "cache", 1) called at /home/sand/src/perl/repoperls/installed-perls/host/k93msid/v5.27.6-172-g9a3c928729/1e0c/lib/site_perl/5.27.7/x86_64-linux-thread-multi/Class/MOP/Class.pm line 472
	Class::MOP::Class::create_anon_class("Moose::Meta::Class", "superclasses", ARRAY(0x556f56964a78), "roles", ARRAY(0x556f567b2ec8), "cache", 1) called at /home/sand/src/perl/repoperls/installed-perls/host/k93msid/v5.27.6-172-g9a3c928729/1e0c/lib/site_perl/5.27.7/x86_64-linux-thread-multi/Moose/Util/MetaRole.pm line 108
	Moose::Util::MetaRole::_make_new_class("Moose::Meta::Class", ARRAY(0x556f567b2ec8)) called at /home/sand/src/perl/repoperls/installed-perls/host/k93msid/v5.27.6-172-g9a3c928729/1e0c/lib/site_perl/5.27.7/x86_64-linux-thread-multi/Moose/Util/MetaRole.pm line 53
	Moose::Util::MetaRole::_make_new_metaclass(Moose::Meta::Class=HASH(0x556f56964538), HASH(0x556f55ae2728), "class") called at /home/sand/src/perl/repoperls/installed-perls/host/k93msid/v5.27.6-172-g9a3c928729/1e0c/lib/site_perl/5.27.7/x86_64-linux-thread-multi/Moose/Util/MetaRole.pm line 21
	Moose::Util::MetaRole::apply_metaroles("for", "Net::Backtype", "class_metaroles", HASH(0x556f55ae2728)) called at /home/sand/src/perl/repoperls/installed-perls/host/k93msid/v5.27.6-172-g9a3c928729/1e0c/lib/site_perl/5.27.7/Net/HTTP/API.pm line 34
	Net::HTTP::API::init_meta("Net::HTTP::API", "for_class", "MooseX::Types::Moose", "metaclass", undef, "meta_name", "meta") called at /home/sand/src/perl/repoperls/installed-perls/host/k93msid/v5.27.6-172-g9a3c928729/1e0c/lib/site_perl/5.27.7/x86_64-linux-thread-multi/Moose/Exporter.pm line 484
	Net::HTTP::API::import("Net::HTTP::API") called at /tmp/loop_over_bdir-1953-AdmLsQ/Net-Backtype-0.03-0/blib/lib/Net/Backtype.pm line 5
	Net::Backtype::BEGIN() called at /home/sand/src/perl/repoperls/installed-perls/host/k93msid/v5.27.6-172-g9a3c928729/1e0c/lib/site_perl/5.27.7/Net/HTTP/API/Meta/Method.pm line 0
	eval {...} called at /home/sand/src/perl/repoperls/installed-perls/host/k93msid/v5.27.6-172-g9a3c928729/1e0c/lib/site_perl/5.27.7/Net/HTTP/API/Meta/Method.pm line 0
	require Net/Backtype.pm called at t/01_basic.t line 6
	main::BEGIN() called at /home/sand/src/perl/repoperls/installed-perls/host/k93msid/v5.27.6-172-g9a3c928729/1e0c/lib/site_perl/5.27.7/Net/HTTP/API/Meta/Method.pm line 0
	eval {...} called at /home/sand/src/perl/repoperls/installed-perls/host/k93msid/v5.27.6-172-g9a3c928729/1e0c/lib/site_perl/5.27.7/Net/HTTP/API/Meta/Method.pm line 0
Passing a list of values to enum is deprecated. Enum values should be wrapped in an arrayref. at /home/sand/src/perl/repoperls/installed-perls/host/k93msid/v5.27.6-172-g9a3c928729/1e0c/lib/site_perl/5.27.7/x86_64-linux-thread-multi/Moose/Util/TypeConstraints.pm line 437.
	Moose::Util::TypeConstraints::enum("FormatMode", "content-type", "append") called at /home/sand/src/perl/repoperls/installed-perls/host/k93msid/v5.27.6-172-g9a3c928729/1e0c/lib/site_perl/5.27.7/Net/HTTP/API/Role/Format.pm line 23
	require Net/HTTP/API/Role/Format.pm called at /home/sand/src/perl/repoperls/installed-perls/host/k93msid/v5.27.6-172-g9a3c928729/1e0c/lib/site_perl/5.27.7/Module/Runtime.pm line 314
	Module::Runtime::require_module("Net::HTTP::API::Role::Format") called at /home/sand/src/perl/repoperls/installed-perls/host/k93msid/v5.27.6-172-g9a3c928729/1e0c/lib/site_perl/5.27.7/Module/Runtime.pm line 391
	eval {...} called at /home/sand/src/perl/repoperls/installed-perls/host/k93msid/v5.27.6-172-g9a3c928729/1e0c/lib/site_perl/5.27.7/Module/Runtime.pm line 391
	Module::Runtime::use_package_optimistically("Net::HTTP::API::Role::Format") called at /home/sand/src/perl/repoperls/installed-perls/host/k93msid/v5.27.6-172-g9a3c928729/1e0c/lib/site_perl/5.27.7/x86_64-linux-thread-multi/Moose/Util.pm line 352
	Moose::Util::_load_user_class("Net::HTTP::API::Role::Format", undef) called at /home/sand/src/perl/repoperls/installed-perls/host/k93msid/v5.27.6-172-g9a3c928729/1e0c/lib/site_perl/5.27.7/x86_64-linux-thread-multi/Moose/Util.pm line 147
	Moose::Util::_apply_all_roles(Moose::Meta::Class=HASH(0x556f56d44c10), undef, "Net::HTTP::API::Role::UserAgent", "Net::HTTP::API::Role::Format", "Net::HTTP::API::Role::Authentication", "Net::HTTP::API::Role::Serialization", "Net::HTTP::API::Role::Request") called at /home/sand/src/perl/repoperls/installed-perls/host/k93msid/v5.27.6-172-g9a3c928729/1e0c/lib/site_perl/5.27.7/x86_64-linux-thread-multi/Moose/Util.pm line 114
	Moose::Util::apply_all_roles(Moose::Meta::Class=HASH(0x556f56d44c10), "Net::HTTP::API::Role::UserAgent", "Net::HTTP::API::Role::Format", "Net::HTTP::API::Role::Authentication", "Net::HTTP::API::Role::Serialization", "Net::HTTP::API::Role::Request") called at /home/sand/src/perl/repoperls/installed-perls/host/k93msid/v5.27.6-172-g9a3c928729/1e0c/lib/site_perl/5.27.7/x86_64-linux-thread-multi/Moose/Meta/Class.pm line 88
	Moose::Meta::Class::create("Moose::Meta::Class", "Moose::Meta::Class::__ANON__::SERIAL::10", "superclasses", ARRAY(0x556f56dd7720), "weaken", "", "roles", ARRAY(0x556f55ae26e0)) called at /home/sand/src/perl/repoperls/installed-perls/host/k93msid/v5.27.6-172-g9a3c928729/1e0c/lib/site_perl/5.27.7/x86_64-linux-thread-multi/Class/MOP/Package.pm line 120
	Class::MOP::Package::create_anon("Moose::Meta::Class", "superclasses", ARRAY(0x556f56dd7720), "roles", ARRAY(0x556f55ae26e0), "cache", 1) called at /home/sand/src/perl/repoperls/installed-perls/host/k93msid/v5.27.6-172-g9a3c928729/1e0c/lib/site_perl/5.27.7/x86_64-linux-thread-multi/Class/MOP/Class.pm line 472
	Class::MOP::Class::create_anon_class("Moose::Meta::Class", "superclasses", ARRAY(0x556f56dd7720), "roles", ARRAY(0x556f55ae26e0), "cache", 1) called at /home/sand/src/perl/repoperls/installed-perls/host/k93msid/v5.27.6-172-g9a3c928729/1e0c/lib/site_perl/5.27.7/x86_64-linux-thread-multi/Moose/Util/MetaRole.pm line 108
	Moose::Util::MetaRole::_make_new_class("Net::Backtype", ARRAY(0x556f55ae26e0), ARRAY(0x556f56dd7720)) called at /home/sand/src/perl/repoperls/installed-perls/host/k93msid/v5.27.6-172-g9a3c928729/1e0c/lib/site_perl/5.27.7/x86_64-linux-thread-multi/Moose/Util/MetaRole.pm line 88
	Moose::Util::MetaRole::apply_base_class_roles("for", "Net::Backtype", "roles", ARRAY(0x556f55ae26e0)) called at /home/sand/src/perl/repoperls/installed-perls/host/k93msid/v5.27.6-172-g9a3c928729/1e0c/lib/site_perl/5.27.7/Net/HTTP/API.pm line 41
	Net::HTTP::API::init_meta("Net::HTTP::API", "for_class", "Net::HTTP::API::Role::Format", "metaclass", undef, "meta_name", "meta") called at /home/sand/src/perl/repoperls/installed-perls/host/k93msid/v5.27.6-172-g9a3c928729/1e0c/lib/site_perl/5.27.7/x86_64-linux-thread-multi/Moose/Exporter.pm line 484
	Net::HTTP::API::import("Net::HTTP::API") called at /tmp/loop_over_bdir-1953-AdmLsQ/Net-Backtype-0.03-0/blib/lib/Net/Backtype.pm line 5
	Net::Backtype::BEGIN() called at /home/sand/src/perl/repoperls/installed-perls/host/k93msid/v5.27.6-172-g9a3c928729/1e0c/lib/site_perl/5.27.7/Net/HTTP/API/Role/Format.pm line 0
	eval {...} called at /home/sand/src/perl/repoperls/installed-perls/host/k93msid/v5.27.6-172-g9a3c928729/1e0c/lib/site_perl/5.27.7/Net/HTTP/API/Role/Format.pm line 0
	require Net/Backtype.pm called at t/01_basic.t line 6
	main::BEGIN() called at /home/sand/src/perl/repoperls/installed-perls/host/k93msid/v5.27.6-172-g9a3c928729/1e0c/lib/site_perl/5.27.7/Net/HTTP/API/Role/Format.pm line 0
	eval {...} called at /home/sand/src/perl/repoperls/installed-perls/host/k93msid/v5.27.6-172-g9a3c928729/1e0c/lib/site_perl/5.27.7/Net/HTTP/API/Role/Format.pm line 0
Class::MOP::load_class is deprecated at /home/sand/src/perl/repoperls/installed-perls/host/k93msid/v5.27.6-172-g9a3c928729/1e0c/lib/site_perl/5.27.7/x86_64-linux-thread-multi/Class/MOP.pm line 69.
	Class::MOP::load_class("Net::HTTP::API::Parser::JSON") called at /home/sand/src/perl/repoperls/installed-perls/host/k93msid/v5.27.6-172-g9a3c928729/1e0c/lib/site_perl/5.27.7/Net/HTTP/API/Role/Serialization.pm line 74
	Net::HTTP::API::Role::Serialization::_load_serializer(Net::Backtype=HASH(0x556f551b2198), "json") called at /home/sand/src/perl/repoperls/installed-perls/host/k93msid/v5.27.6-172-g9a3c928729/1e0c/lib/site_perl/5.27.7/Net/HTTP/API/Role/Serialization.pm line 53
	Net::HTTP::API::Role::Serialization::deserialize(Net::Backtype=HASH(0x556f551b2198), "{\"startindex\" : 1, \"itemsperpage\" : 25, \"since_ts\" : 12758740"..., ARRAY(0x556f56f71d40)) called at /home/sand/src/perl/repoperls/installed-perls/host/k93msid/v5.27.6-172-g9a3c928729/1e0c/lib/site_perl/5.27.7/Net/HTTP/API/Role/Serialization.pm line 37
	Net::HTTP::API::Role::Serialization::get_content(Net::Backtype=HASH(0x556f551b2198), HTTP::Response=HASH(0x556f57802870)) called at /home/sand/src/perl/repoperls/installed-perls/host/k93msid/v5.27.6-172-g9a3c928729/1e0c/lib/site_perl/5.27.7/Net/HTTP/API/Meta/Method.pm line 134
	Net::Backtype::comments_search(Net::Backtype=HASH(0x556f551b2198), "key", "s3kr3t", "q", "lumberjaph") called at /home/sand/src/perl/repoperls/installed-perls/host/k93msid/v5.27.6-172-g9a3c928729/1e0c/lib/site_perl/5.27.7/x86_64-linux-thread-multi/Class/MOP/Method/Wrapped.pm line 44
	Net::Backtype::_wrapped_comments_search(Net::Backtype=HASH(0x556f551b2198), "key", "s3kr3t", "q", "lumberjaph") called at /home/sand/src/perl/repoperls/installed-perls/host/k93msid/v5.27.6-172-g9a3c928729/1e0c/lib/site_perl/5.27.7/x86_64-linux-thread-multi/Class/MOP/Method/Wrapped.pm line 95
	Net::Backtype::comments_search(Net::Backtype=HASH(0x556f551b2198), "key", "s3kr3t", "q", "lumberjaph") called at t/01_basic.t line 14
t/01_basic.t .............. ok
t/release-eol.t ........... skipped: these tests are for release candidate testing
t/release-no-tabs.t ....... skipped: these tests are for release candidate testing
t/release-pod-coverage.t .. skipped: these tests are for release candidate testing
t/release-pod-syntax.t .... skipped: these tests are for release candidate testing
All tests successful.
Files=6, Tests=7,  2 wallclock secs ( 0.02 usr  0.05 sys +  1.45 cusr  0.18 csys =  1.70 CPU)
Result: PASS

------------------------------
PREREQUISITES
------------------------------

Prerequisite modules loaded:

requires:

    Module              Need Have    
    ------------------- ---- --------
    Moose               0    2.2009  
    Net::HTTP::API      0    0.11    

build_requires:

    Module              Need Have    
    ------------------- ---- --------
    HTTP::Response      0    6.13    
    Test::More          0    1.302120

configure_requires:

    Module              Need Have    
    ------------------- ---- --------
    ExtUtils::MakeMaker 6.31 7.30    


------------------------------
ENVIRONMENT AND OTHER CONTEXT
------------------------------

Environment variables:

    AUTOMATED_TESTING = 1
    LANG = en_US.UTF-8
    PATH = /home/sand/bin:/usr/local/bin:/usr/bin:/bin:/usr/games:/usr/local/perl/bin:/usr/X11/bin:/sbin:/usr/sbin
    PERL5LIB = 
    PERL5OPT = 
    PERL5_CPANPLUS_IS_RUNNING = 32189
    PERL5_CPAN_IS_RUNNING = 32189
    PERL_CANARY_STABILITY_NOPROMPT = 1
    PERL_MM_USE_DEFAULT = 1
    PERL_USE_UNSAFE_INC = 1
    SHELL = /usr/bin/zsh
    TERM = screen

Perl special variables (and OS-specific diagnostics, for MSWin32):

    $^X = /tmp/basesmoker-reloperl-QG1T/bin/perl
    $UID/$EUID = 1005 / 1005
    $GID = 1005 1005
    $EGID = 1005 1005

Perl module toolchain versions installed:

    Module              Have    
    ------------------- --------
    CPAN                2.20    
    CPAN::Meta          2.150010
    Cwd                 3.70    
    ExtUtils::CBuilder  0.280230
    ExtUtils::Command   7.30    
    ExtUtils::Install   2.14    
    ExtUtils::MakeMaker 7.30    
    ExtUtils::Manifest  1.70    
    ExtUtils::ParseXS   3.36    
    File::Spec          3.69    
    JSON                2.97000 
    JSON::PP            2.97000 
    Module::Build       0.4224  
    Module::Signature   0.81    
    Parse::CPAN::Meta   2.150010
    Test::Harness       3.39    
    Test::More          1.302120
    YAML                1.24    
    YAML::Syck          1.30    
    version             0.9918  


--

Summary of my perl5 (revision 5 version 27 subversion 7) configuration:
  Commit id: 9a3c92872991415ec8cb2977e94b735767207cfa
  Platform:
    osname=linux
    osvers=4.12.0-2-amd64
    archname=x86_64-linux-thread-multi
    uname='linux k93msid 4.12.0-2-amd64 #1 smp debian 4.12.13-1 (2017-09-19) x86_64 gnulinux '
    config_args='-Dprefix=/home/sand/src/perl/repoperls/installed-perls/host/k93msid/v5.27.6-172-g9a3c928729/1e0c -Dmyhostname=k93msid -Dinstallusrbinperl=n -Uversiononly -Dusedevel -des -Ui_db -Dlibswanted=cl pthread socket inet nsl gdbm dbm malloc dl ld sun m crypt sec util c cposix posix ucb BSD gdbm_compat -Duseithreads -Uuselongdouble -DEBUGGING=-g'
    hint=recommended
    useposix=true
    d_sigaction=define
    useithreads=define
    usemultiplicity=define
    use64bitint=define
    use64bitall=define
    uselongdouble=undef
    usemymalloc=n
    default_inc_excludes_dot=define
    bincompat5005=undef
  Compiler:
    cc='cc'
    ccflags ='-D_REENTRANT -D_GNU_SOURCE -fwrapv -fno-strict-aliasing -pipe -fstack-protector-strong -I/usr/local/include -D_LARGEFILE_SOURCE -D_FILE_OFFSET_BITS=64 -D_FORTIFY_SOURCE=2'
    optimize='-O2 -g'
    cppflags='-D_REENTRANT -D_GNU_SOURCE -fwrapv -fno-strict-aliasing -pipe -fstack-protector-strong -I/usr/local/include'
    ccversion=''
    gccversion='7.2.0'
    gccosandvers=''
    intsize=4
    longsize=8
    ptrsize=8
    doublesize=8
    byteorder=12345678
    doublekind=3
    d_longlong=define
    longlongsize=8
    d_longdbl=define
    longdblsize=16
    longdblkind=3
    ivtype='long'
    ivsize=8
    nvtype='double'
    nvsize=8
    Off_t='off_t'
    lseeksize=8
    alignbytes=8
    prototype=define
  Linker and Libraries:
    ld='cc'
    ldflags =' -fstack-protector-strong -L/usr/local/lib'
    libpth=/usr/local/lib /usr/lib/gcc/x86_64-linux-gnu/7/include-fixed /usr/include/x86_64-linux-gnu /usr/lib /lib/x86_64-linux-gnu /lib/../lib /usr/lib/x86_64-linux-gnu /usr/lib/../lib /lib
    libs=-lpthread -lnsl -ldl -lm -lcrypt -lutil -lc
    perllibs=-lpthread -lnsl -ldl -lm -lcrypt -lutil -lc
    libc=libc-2.24.so
    so=so
    useshrplib=false
    libperl=libperl.a
    gnulibc_version='2.24'
  Dynamic Linking:
    dlsrc=dl_dlopen.xs
    dlext=so
    d_dlsymun=undef
    ccdlflags='-Wl,-E'
    cccdlflags='-fPIC'
    lddlflags='-shared -O2 -g -L/usr/local/lib -fstack-protector-strong'


Characteristics of this binary (from libperl): 
  Compile-time options:
    HAS_TIMES
    MULTIPLICITY
    PERLIO_LAYERS
    PERL_COPY_ON_WRITE
    PERL_DONT_CREATE_GVSV
    PERL_IMPLICIT_CONTEXT
    PERL_MALLOC_WRAP
    PERL_OP_PARENT
    PERL_PRESERVE_IVUV
    PERL_USE_DEVEL
    USE_64_BIT_ALL
    USE_64_BIT_INT
    USE_ITHREADS
    USE_LARGE_FILES
    USE_LOCALE
    USE_LOCALE_COLLATE
    USE_LOCALE_CTYPE
    USE_LOCALE_NUMERIC
    USE_LOCALE_TIME
    USE_PERLIO
    USE_PERL_ATOF
    USE_REENTRANT_API
  Built under linux
  Compiled at Dec  9 2017 05:48:03
  %ENV:
    PERL5LIB=""
    PERL5OPT=""
    PERL5_CPANPLUS_IS_RUNNING="32189"
    PERL5_CPAN_IS_RUNNING="32189"
    PERL_CANARY_STABILITY_NOPROMPT="1"
    PERL_MM_USE_DEFAULT="1"
    PERL_USE_UNSAFE_INC="1"
  @INC:
    /home/sand/src/perl/repoperls/installed-perls/host/k93msid/v5.27.6-172-g9a3c928729/1e0c/lib/site_perl/5.27.7/x86_64-linux-thread-multi
    /home/sand/src/perl/repoperls/installed-perls/host/k93msid/v5.27.6-172-g9a3c928729/1e0c/lib/site_perl/5.27.7
    /home/sand/src/perl/repoperls/installed-perls/host/k93msid/v5.27.6-172-g9a3c928729/1e0c/lib/5.27.7/x86_64-linux-thread-multi
    /home/sand/src/perl/repoperls/installed-perls/host/k93msid/v5.27.6-172-g9a3c928729/1e0c/lib/5.27.7
    .