Dist-Zilla-Plugin-Test-UseAllModules v0.002 Perl 5 v5.32.0 x86_64-linux

Status
Pass
From
Slaven Rezić (SREZIC)
Dist
Dist-Zilla-Plugin-Test-UseAllModules v0.002
Platform
Perl 5 v5.32.0 x86_64-linux
Date
2020-07-30 00:06:20
ID
7f5ca248-d1f8-11ea-97fb-eb8d1f24ea8f
This distribution has been tested as part of the CPAN Testers
project, supporting the Perl programming language.  See
http://wiki.cpantesters.org/ for more information or email
questions to cpan-testers-discuss@perl.org


--
Dear Alexei Znamensky,

This is a computer-generated report for Dist-Zilla-Plugin-Test-UseAllModules-0.002
on perl 5.32.0, created by CPAN-Reporter-1.2018.

Thank you for uploading your work to CPAN.  Congratulations!
All tests were successful.

Sections of this report:

    * Tester comments
    * Program output
    * Prerequisites
    * Environment and other context

------------------------------
TESTER COMMENTS
------------------------------

Additional comments from tester:

none provided

------------------------------
PROGRAM OUTPUT
------------------------------

Output from '/usr/bin/make test':

PERL_DL_NONLAZY=1 "/opt/perl-5.32.0/bin/perl" "-MExtUtils::Command::MM" "-MTest::Harness" "-e" "undef *Test::Harness::Switches; test_harness(0, 'blib/lib', 'blib/arch')" t/*.t
t/00-compile.t ................ skipped: no tests to run
t/00-load.t ................... ok
# 
# 
# perl: v5.32.0 (wanted 5.006) on linux from /opt/perl-5.32.0/bin/perl
# 
# Dist::Zilla::Plugin::InlineFiles              => 6.015      (want any version)
# Dist::Zilla::Role::PrereqSource               => 6.015      (want any version)
# English                                       => 1.11       (want any version)
# ExtUtils::MakeMaker                           => 7.46       (want 6.30)   
# File::Find                                    => 1.37       (want any version)
# File::Temp                                    => 0.2309     (want any version)
# Moose                                         => 2.2013     (want any version)
# Test::More                                    => 1.302175   (want 0.88)   
# Test::UseAllModules                           => 0.17       (want 0.13)   
# namespace::autoclean                          => 0.29       (want any version)
# 
# Thanks for using my code.  I hope it works for you.
# If not, please try and include this output in the bug report.
# That will help me reproduce the issue and solve you problem.
# 
t/000-report-versions-tiny.t .. ok
t/author-critic.t ............. skipped: these tests are for testing by the author
t/release-dist-manifest.t ..... skipped: these tests are for release candidate testing
t/release-distmeta.t .......... skipped: these tests are for release candidate testing
t/release-eol.t ............... skipped: these tests are for release candidate testing
t/release-kwalitee.t .......... skipped: these tests are for release candidate testing
t/release-meta-json.t ......... skipped: these tests are for release candidate testing
t/release-minimum-version.t ... skipped: these tests are for release candidate testing
t/release-mojibake.t .......... skipped: these tests are for release candidate testing
t/release-no-tabs.t ........... skipped: these tests are for release candidate testing
t/release-pod-coverage.t ...... skipped: these tests are for release candidate testing
t/release-pod-linkcheck.t ..... skipped: these tests are for release candidate testing
t/release-pod-syntax.t ........ skipped: these tests are for release candidate testing
t/release-portability.t ....... skipped: these tests are for release candidate testing
t/release-test-version.t ...... skipped: these tests are for release candidate testing
t/release-unused-vars.t ....... skipped: these tests are for release candidate testing
All tests successful.
Files=18, Tests=2,  1 wallclock secs ( 0.04 usr  0.01 sys +  1.04 cusr  0.18 csys =  1.27 CPU)
Result: PASS

------------------------------
PREREQUISITES
------------------------------

Prerequisite modules loaded:

requires:

    Module                           Need  Have    
    -------------------------------- ----- --------
    Dist::Zilla::Plugin::InlineFiles 0     6.015   
    Dist::Zilla::Role::PrereqSource  0     6.015   
    Moose                            0     2.2013  
    namespace::autoclean             0     0.29    
    Test::UseAllModules              0.13  0.17    

build_requires:

    Module                           Need  Have    
    -------------------------------- ----- --------
    English                          0     1.11    
    File::Find                       0     1.37    
    File::Temp                       0     0.2309  
    perl                             5.006 5.032000
    Test::More                       0.88  1.302175
    Test::UseAllModules              0     0.17    

configure_requires:

    Module                           Need  Have    
    -------------------------------- ----- --------
    ExtUtils::MakeMaker              6.30  7.46    


------------------------------
ENVIRONMENT AND OTHER CONTEXT
------------------------------

Environment variables:

    LANG = en_US.UTF-8
    PATH = /usr/local/bin:/usr/bin:/bin:/usr/local/sbin:/usr/sbin:/sbin:/home/cpansand/bin/linux-gnu:/home/cpansand/bin/sh:/home/cpansand/bin:/usr/games:/home/cpansand/devel:/home/eserte/src/srezic-misc/scripts
    PERL5LIB = /home/cpansand/.local/share/.cpan/build/2020073000/Dist-Zilla-Plugin-Test-UnusedVars-2.000007-0/blib/arch:/home/cpansand/.local/share/.cpan/build/2020073000/Dist-Zilla-Plugin-Test-UnusedVars-2.000007-0/blib/lib:/home/cpansand/.local/share/.cpan/build/2020073000/Test-Vars-0.014-0/blib/arch:/home/cpansand/.local/share/.cpan/build/2020073000/Test-Vars-0.014-0/blib/lib:/home/cpansand/.local/share/.cpan/build/2020073000/Dist-Zilla-Plugin-Test-TrailingSpace-0.2.0-0/blib/arch:/home/cpansand/.local/share/.cpan/build/2020073000/Dist-Zilla-Plugin-Test-TrailingSpace-0.2.0-0/blib/lib:/home/cpansand/.local/share/.cpan/build/2020073000/Dist-Zilla-Plugin-Test-Kwalitee-2.12-0/blib/arch:/home/cpansand/.local/share/.cpan/build/2020073000/Dist-Zilla-Plugin-Test-Kwalitee-2.12-0/blib/lib:/home/cpansand/.local/share/.cpan/build/2020073000/Dist-Zilla-Plugin-ContributorCovenant-2.000000-0/blib/arch:/home/cpansand/.local/share/.cpan/build/2020073000/Dist-Zilla-Plugin-ContributorCovenant-2.000000-0/blib/lib
    PERL5OPT = 
    PERL5_CPANPLUS_IS_RUNNING = 3682640
    PERL5_CPAN_IS_RUNNING = 3682640
    PERL5_CPAN_IS_RUNNING_IN_RECURSION = 3682591,3682640
    PERLDOC = -MPod::Perldoc::ToTextOverstrike
    PERL_BATCH = yes
    PERL_CANARY_STABILITY_NOPROMPT = 1
    PERL_CPAN_REPORTER_CONFIG = /var/tmp/cpansmoker-1023/2020073000/cpanreporter_000_config.ini
    PERL_EXTUTILS_AUTOINSTALL = --defaultdeps
    PERL_USE_UNSAFE_INC = 1
    SHELL = /usr/bin/zsh
    TERM = screen
    TMPDIR = /var/tmp/cpansmoker-1023/2020073000

Perl special variables (and OS-specific diagnostics, for MSWin32):

    $^X = /opt/perl-5.32.0/bin/perl
    $UID/$EUID = 1023 / 1023
    $GID = 1023 1023
    $EGID = 1023 1023

Perl module toolchain versions installed:

    Module              Have    
    ------------------- --------
    CPAN                2.27    
    CPAN::Meta          2.150010
    Cwd                 3.78    
    ExtUtils::CBuilder  0.280234
    ExtUtils::Command   7.46    
    ExtUtils::Install   2.16    
    ExtUtils::MakeMaker 7.46    
    ExtUtils::Manifest  1.72    
    ExtUtils::ParseXS   3.40    
    File::Spec          3.78    
    JSON                4.02    
    JSON::PP            4.04    
    Module::Build       0.4231  
    Module::Signature   n/a     
    Parse::CPAN::Meta   2.150010
    Test::Harness       3.42    
    Test::More          1.302175
    YAML                1.30    
    YAML::Syck          1.32    
    version             0.9924  


--

Summary of my perl5 (revision 5 version 32 subversion 0) configuration:
   
  Platform:
    osname=linux
    osvers=5.4.0-37-generic
    archname=x86_64-linux
    uname='linux cloud8.bbbike.org 5.4.0-37-generic #41-ubuntu smp wed jun 3 18:57:02 utc 2020 x86_64 x86_64 x86_64 gnulinux '
    config_args='-ds -e -Dprefix=/opt/perl-5.32.0 -Dcf_email=srezic@cpan.org'
    hint=recommended
    useposix=true
    d_sigaction=define
    useithreads=undef
    usemultiplicity=undef
    use64bitint=define
    use64bitall=define
    uselongdouble=undef
    usemymalloc=n
    default_inc_excludes_dot=define
    bincompat5005=undef
  Compiler:
    cc='cc'
    ccflags ='-fwrapv -fno-strict-aliasing -pipe -fstack-protector-strong -I/usr/local/include -D_LARGEFILE_SOURCE -D_FILE_OFFSET_BITS=64'
    optimize='-O2'
    cppflags='-fwrapv -fno-strict-aliasing -pipe -fstack-protector-strong -I/usr/local/include'
    ccversion=''
    gccversion='9.3.0'
    gccosandvers=''
    intsize=4
    longsize=8
    ptrsize=8
    doublesize=8
    byteorder=12345678
    doublekind=3
    d_longlong=define
    longlongsize=8
    d_longdbl=define
    longdblsize=16
    longdblkind=3
    ivtype='long'
    ivsize=8
    nvtype='double'
    nvsize=8
    Off_t='off_t'
    lseeksize=8
    alignbytes=8
    prototype=define
  Linker and Libraries:
    ld='cc'
    ldflags =' -fstack-protector-strong -L/usr/local/lib'
    libpth=/usr/local/lib /usr/include/x86_64-linux-gnu /usr/lib /lib/x86_64-linux-gnu /lib/../lib /usr/lib/x86_64-linux-gnu /usr/lib/../lib /lib
    libs=-lpthread -lnsl -lgdbm -ldb -ldl -lm -lcrypt -lutil -lc
    perllibs=-lpthread -lnsl -ldl -lm -lcrypt -lutil -lc
    libc=libc-2.31.so
    so=so
    useshrplib=false
    libperl=libperl.a
    gnulibc_version='2.31'
  Dynamic Linking:
    dlsrc=dl_dlopen.xs
    dlext=so
    d_dlsymun=undef
    ccdlflags='-Wl,-E'
    cccdlflags='-fPIC'
    lddlflags='-shared -O2 -L/usr/local/lib -fstack-protector-strong'


Characteristics of this binary (from libperl): 
  Compile-time options:
    HAS_TIMES
    PERLIO_LAYERS
    PERL_COPY_ON_WRITE
    PERL_DONT_CREATE_GVSV
    PERL_MALLOC_WRAP
    PERL_OP_PARENT
    PERL_PRESERVE_IVUV
    USE_64_BIT_ALL
    USE_64_BIT_INT
    USE_LARGE_FILES
    USE_LOCALE
    USE_LOCALE_COLLATE
    USE_LOCALE_CTYPE
    USE_LOCALE_NUMERIC
    USE_LOCALE_TIME
    USE_PERLIO
    USE_PERL_ATOF
  Built under linux
  Compiled at Jun 21 2020 09:14:58
  %ENV:
    PERL5LIB="/home/cpansand/.local/share/.cpan/build/2020073000/Dist-Zilla-Plugin-Test-UnusedVars-2.000007-0/blib/arch:/home/cpansand/.local/share/.cpan/build/2020073000/Dist-Zilla-Plugin-Test-UnusedVars-2.000007-0/blib/lib:/home/cpansand/.local/share/.cpan/build/2020073000/Test-Vars-0.014-0/blib/arch:/home/cpansand/.local/share/.cpan/build/2020073000/Test-Vars-0.014-0/blib/lib:/home/cpansand/.local/share/.cpan/build/2020073000/Dist-Zilla-Plugin-Test-TrailingSpace-0.2.0-0/blib/arch:/home/cpansand/.local/share/.cpan/build/2020073000/Dist-Zilla-Plugin-Test-TrailingSpace-0.2.0-0/blib/lib:/home/cpansand/.local/share/.cpan/build/2020073000/Dist-Zilla-Plugin-Test-Kwalitee-2.12-0/blib/arch:/home/cpansand/.local/share/.cpan/build/2020073000/Dist-Zilla-Plugin-Test-Kwalitee-2.12-0/blib/lib:/home/cpansand/.local/share/.cpan/build/2020073000/Dist-Zilla-Plugin-ContributorCovenant-2.000000-0/blib/arch:/home/cpansand/.local/share/.cpan/build/2020073000/Dist-Zilla-Plugin-ContributorCovenant-2.000000-0/blib/lib"
    PERL5OPT=""
    PERL5_CPANPLUS_IS_RUNNING="3682640"
    PERL5_CPAN_IS_RUNNING="3682640"
    PERL5_CPAN_IS_RUNNING_IN_RECURSION="3682591,3682640"
    PERLDOC="-MPod::Perldoc::ToTextOverstrike"
    PERL_BATCH="yes"
    PERL_CANARY_STABILITY_NOPROMPT="1"
    PERL_CPAN_REPORTER_CONFIG="/var/tmp/cpansmoker-1023/2020073000/cpanreporter_000_config.ini"
    PERL_EXTUTILS_AUTOINSTALL="--defaultdeps"
    PERL_USE_UNSAFE_INC="1"
  @INC:
    /home/cpansand/.local/share/.cpan/build/2020073000/Dist-Zilla-Plugin-Test-UnusedVars-2.000007-0/blib/arch
    /home/cpansand/.local/share/.cpan/build/2020073000/Dist-Zilla-Plugin-Test-UnusedVars-2.000007-0/blib/lib
    /home/cpansand/.local/share/.cpan/build/2020073000/Test-Vars-0.014-0/blib/arch
    /home/cpansand/.local/share/.cpan/build/2020073000/Test-Vars-0.014-0/blib/lib
    /home/cpansand/.local/share/.cpan/build/2020073000/Dist-Zilla-Plugin-Test-TrailingSpace-0.2.0-0/blib/arch
    /home/cpansand/.local/share/.cpan/build/2020073000/Dist-Zilla-Plugin-Test-TrailingSpace-0.2.0-0/blib/lib
    /home/cpansand/.local/share/.cpan/build/2020073000/Dist-Zilla-Plugin-Test-Kwalitee-2.12-0/blib/arch
    /home/cpansand/.local/share/.cpan/build/2020073000/Dist-Zilla-Plugin-Test-Kwalitee-2.12-0/blib/lib
    /home/cpansand/.local/share/.cpan/build/2020073000/Dist-Zilla-Plugin-ContributorCovenant-2.000000-0/blib/arch
    /home/cpansand/.local/share/.cpan/build/2020073000/Dist-Zilla-Plugin-ContributorCovenant-2.000000-0/blib/lib
    /opt/perl-5.32.0/lib/site_perl/5.32.0/x86_64-linux
    /opt/perl-5.32.0/lib/site_perl/5.32.0
    /opt/perl-5.32.0/lib/5.32.0/x86_64-linux
    /opt/perl-5.32.0/lib/5.32.0
    .