Venus v4.15 Perl 5 v5.20.1 amd64-freebsd
- Status
- Pass
- From
- Slaven Rezić
- Dist
-
Venus v4.15
- Platform
- Perl 5 v5.20.1 amd64-freebsd
- Date
- 2023-12-10 03:16:23
- ID
- 7f60bb8c-970a-11ee-b0c8-b8466e8775ea
This distribution has been tested as part of the CPAN Testers
project, supporting the Perl programming language. See
http://wiki.cpantesters.org/ for more information or email
questions to cpan-testers-discuss@perl.org
--
Dear Al Newkirk,
This is a computer-generated report for Venus-4.15
on perl 5.20.1, created by CPAN-Reporter-1.2019.
Thank you for uploading your work to CPAN. Congratulations!
All tests were successful.
Sections of this report:
* Tester comments
* Program output
* Prerequisites
* Environment and other context
------------------------------
TESTER COMMENTS
------------------------------
Additional comments from tester:
none provided
------------------------------
PROGRAM OUTPUT
------------------------------
Output from '/usr/bin/make test':
PERL_DL_NONLAZY=1 "/usr/perl5.20.1p/bin/perl" "-MExtUtils::Command::MM" "-MTest::Harness" "-e" "undef *Test::Harness::Switches; test_harness(0, 'blib/lib', 'blib/arch')" t/*.t
t/Venus.t .................... ok
t/Venus_Args.t ............... ok
t/Venus_Array.t .............. ok
t/Venus_Assert.t ............. ok
t/Venus_Atom.t ............... ok
t/Venus_Boolean.t ............ ok
t/Venus_Box.t ................ ok
t/Venus_Check.t .............. ok
t/Venus_Class.t .............. ok
t/Venus_Cli.t ................ ok
t/Venus_Code.t ............... ok
t/Venus_Coercion.t ........... ok
t/Venus_Config.t ............. ok
t/Venus_Constraint.t ......... ok
t/Venus_Container.t .......... ok
t/Venus_Core.t ............... ok
t/Venus_Core_Class.t ......... ok
t/Venus_Core_Mixin.t ......... ok
t/Venus_Core_Role.t .......... ok
t/Venus_Data.t ............... ok
t/Venus_Date.t ............... ok
t/Venus_Dump.t ............... ok
t/Venus_Enum.t ............... ok
t/Venus_Error.t .............. ok
t/Venus_False.t .............. ok
t/Venus_Fault.t .............. ok
t/Venus_Float.t .............. ok
t/Venus_Future.t ............. ok
t/Venus_Gather.t ............. ok
t/Venus_Hash.t ............... ok
t/Venus_Json.t ............... ok
t/Venus_Kind.t ............... ok
t/Venus_Kind_Utility.t ....... ok
t/Venus_Kind_Value.t ......... ok
t/Venus_Log.t ................ ok
t/Venus_Match.t .............. ok
t/Venus_Meta.t ............... ok
t/Venus_Mixin.t .............. ok
t/Venus_Name.t ............... ok
t/Venus_Number.t ............. ok
t/Venus_Opts.t ............... ok
t/Venus_Os.t ................. ok
t/Venus_Path.t ............... ok
t/Venus_Process.t ............ ok
t/Venus_Prototype.t .......... ok
t/Venus_Random.t ............. ok
t/Venus_Regexp.t ............. ok
t/Venus_Replace.t ............ ok
t/Venus_Role.t ............... ok
t/Venus_Role_Accessible.t .... ok
t/Venus_Role_Assertable.t .... ok
t/Venus_Role_Boxable.t ....... ok
t/Venus_Role_Buildable.t ..... ok
t/Venus_Role_Catchable.t ..... ok
t/Venus_Role_Coercible.t ..... ok
t/Venus_Role_Comparable.t .... ok
t/Venus_Role_Defaultable.t ... ok
t/Venus_Role_Deferrable.t .... ok
t/Venus_Role_Digestable.t .... ok
t/Venus_Role_Doable.t ........ ok
t/Venus_Role_Dumpable.t ...... ok
t/Venus_Role_Explainable.t ... ok
t/Venus_Role_Makeable.t ...... ok
t/Venus_Role_Mappable.t ...... ok
t/Venus_Role_Matchable.t ..... ok
t/Venus_Role_Mockable.t ...... ok
t/Venus_Role_Optional.t ...... ok
t/Venus_Role_Patchable.t ..... ok
t/Venus_Role_Pluggable.t ..... ok
t/Venus_Role_Printable.t ..... ok
t/Venus_Role_Proxyable.t ..... ok
t/Venus_Role_Reflectable.t ... ok
t/Venus_Role_Rejectable.t .... ok
t/Venus_Role_Serializable.t .. ok
t/Venus_Role_Stashable.t ..... ok
t/Venus_Role_Subscribable.t .. ok
t/Venus_Role_Superable.t ..... ok
t/Venus_Role_Testable.t ...... ok
t/Venus_Role_Throwable.t ..... ok
t/Venus_Role_Tryable.t ....... ok
t/Venus_Role_Unacceptable.t .. ok
t/Venus_Role_Unpackable.t .... ok
t/Venus_Role_Valuable.t ...... ok
t/Venus_Run.t ................ ok
t/Venus_Scalar.t ............. ok
t/Venus_Schema.t ............. ok
t/Venus_Sealed.t ............. ok
t/Venus_Search.t ............. ok
t/Venus_Set.t ................ ok
Missing argument in sprintf at /usr/perl5.20.1p/lib/site_perl/5.20.1/Text/Wrap.pm line 15.
t/Venus_Space.t .............. ok
t/Venus_String.t ............. ok
t/Venus_Task.t ............... ok
t/Venus_Template.t ........... ok
t/Venus_Test.t ............... ok
t/Venus_Throw.t .............. ok
t/Venus_True.t ............... ok
t/Venus_Try.t ................ ok
t/Venus_Type.t ............... ok
t/Venus_Undef.t .............. ok
t/Venus_Unpack.t ............. ok
t/Venus_Vars.t ............... ok
t/Venus_Yaml.t ............... ok
All tests successful.
Files=102, Tests=4843, 64 wallclock secs ( 1.68 usr 1.77 sys + 48.62 cusr 11.24 csys = 63.32 CPU)
Result: PASS
------------------------------
PREREQUISITES
------------------------------
Prerequisite modules loaded:
requires:
Module Need Have
------------------- ----- --------
perl 5.018 5.020001
build_requires:
Module Need Have
------------------- ----- --------
ExtUtils::MakeMaker 0 7.70
perl 5.018 5.020001
configure_requires:
Module Need Have
------------------- ----- --------
ExtUtils::MakeMaker 0 7.70
------------------------------
ENVIRONMENT AND OTHER CONTEXT
------------------------------
Environment variables:
LC_ALL = de_DE.ISO8859-1
PATH = /usr/local/bin:/usr/bin:/bin:/usr/local/sbin:/usr/sbin:/sbin:/home/cpansand/bin/freebsd10.3:/home/cpansand/bin/sh:/home/cpansand/bin:/usr/games:/home/cpansand/devel:/home/eserte/src/srezic-misc/scripts
PERL5LIB = /home/cpansand/.cpan/build/2023121004/Net-DNS-1.41-0/blib/arch:/home/cpansand/.cpan/build/2023121004/Net-DNS-1.41-0/blib/lib
PERL5OPT =
PERL5_CPANPLUS_IS_RUNNING = 39137
PERL5_CPAN_IS_RUNNING = 39137
PERL5_CPAN_IS_RUNNING_IN_RECURSION = 16715,39137
PERLDOC = -MPod::Perldoc::ToTextOverstrike
PERL_BATCH = yes
PERL_CANARY_STABILITY_NOPROMPT = 1
PERL_CPAN_REPORTER_CONFIG = /var/tmp/cpansmoker-1023/2023120819/cpanreporter_000_config.ini
PERL_EXTUTILS_AUTOINSTALL = --defaultdeps
PERL_USE_UNSAFE_INC = 1
SHELL = /usr/local/bin/zsh
TERM = screen
TMPDIR = /var/tmp/cpansmoker-1023/2023120819
Perl special variables (and OS-specific diagnostics, for MSWin32):
$^X = /usr/perl5.20.1p/bin/perl
$UID/$EUID = 1023 / 1023
$GID = 1023 1023
$EGID = 1023 1023
Perl module toolchain versions installed:
Module Have
------------------- --------
CPAN 2.34
CPAN::Meta 2.150010
Cwd 3.75
ExtUtils::CBuilder 0.280236
ExtUtils::Command 7.70
ExtUtils::Install 2.20
ExtUtils::MakeMaker 7.70
ExtUtils::Manifest 1.75
ExtUtils::ParseXS 3.51
File::Spec 3.75
JSON 4.10
JSON::PP 4.12
Module::Build 0.4234
Module::Signature 0.87
Parse::CPAN::Meta 2.150010
Test2 1.302196
Test::Harness 3.47
Test::More 1.302196
YAML 1.30
YAML::Syck 1.34
version 0.9930
--
Summary of my perl5 (revision 5 version 20 subversion 1) configuration:
Platform:
osname=freebsd, osvers=10.1-release, archname=amd64-freebsd
uname='freebsd cvrsnica-freebsd-101.herceg.de 10.1-release freebsd 10.1-release #0 r274401: tue nov 11 21:02:49 utc 2014 root@releng1.nyi.freebsd.org:usrobjusrsrcsysgeneric amd64 '
config_args='-ds -e -Dprefix=/usr/perl5.20.1p'
hint=recommended, useposix=true, d_sigaction=define
useithreads=undef, usemultiplicity=undef
use64bitint=define, use64bitall=define, uselongdouble=undef
usemymalloc=n, bincompat5005=undef
Compiler:
cc='cc', ccflags ='-DHAS_FPSETMASK -DHAS_FLOATINGPOINT_H -fno-strict-aliasing -pipe -fstack-protector -I/usr/local/include',
optimize='-O',
cppflags='-DHAS_FPSETMASK -DHAS_FLOATINGPOINT_H -fno-strict-aliasing -pipe -fstack-protector -I/usr/local/include'
ccversion='', gccversion='4.2.1 Compatible FreeBSD Clang 3.4.1 (tags/RELEASE_34/dot1-final 208032)', gccosandvers=''
intsize=4, longsize=8, ptrsize=8, doublesize=8, byteorder=12345678
d_longlong=define, longlongsize=8, d_longdbl=define, longdblsize=16
ivtype='long', ivsize=8, nvtype='double', nvsize=8, Off_t='off_t', lseeksize=8
alignbytes=8, prototype=define
Linker and Libraries:
ld='cc', ldflags ='-pthread -Wl,-E -fstack-protector -L/usr/local/lib'
libpth=/usr/lib /usr/local/lib /usr/include/clang/3.4.1 /usr/lib
libs=-lm -lcrypt -lutil -lc
perllibs=-lm -lcrypt -lutil -lc
libc=, so=so, useshrplib=false, libperl=libperl.a
gnulibc_version=''
Dynamic Linking:
dlsrc=dl_dlopen.xs, dlext=so, d_dlsymun=undef, ccdlflags=' '
cccdlflags='-DPIC -fPIC', lddlflags='-shared -L/usr/local/lib -fstack-protector'
Characteristics of this binary (from libperl):
Compile-time options: HAS_TIMES PERLIO_LAYERS PERL_DONT_CREATE_GVSV
PERL_HASH_FUNC_ONE_AT_A_TIME_HARD PERL_MALLOC_WRAP
PERL_NEW_COPY_ON_WRITE PERL_PRESERVE_IVUV
USE_64_BIT_ALL USE_64_BIT_INT USE_LARGE_FILES
USE_LOCALE USE_LOCALE_COLLATE USE_LOCALE_CTYPE
USE_LOCALE_NUMERIC USE_PERLIO USE_PERL_ATOF
Built under freebsd
Compiled at Jan 29 2015 08:45:50
%ENV:
PERL5LIB="/home/cpansand/.cpan/build/2023121004/Net-DNS-1.41-0/blib/arch:/home/cpansand/.cpan/build/2023121004/Net-DNS-1.41-0/blib/lib"
PERL5OPT=""
PERL5_CPANPLUS_IS_RUNNING="39137"
PERL5_CPAN_IS_RUNNING="39137"
PERL5_CPAN_IS_RUNNING_IN_RECURSION="16715,39137"
PERLDOC="-MPod::Perldoc::ToTextOverstrike"
PERL_BATCH="yes"
PERL_CANARY_STABILITY_NOPROMPT="1"
PERL_CPAN_REPORTER_CONFIG="/var/tmp/cpansmoker-1023/2023120819/cpanreporter_000_config.ini"
PERL_EXTUTILS_AUTOINSTALL="--defaultdeps"
PERL_USE_UNSAFE_INC="1"
@INC:
/home/cpansand/.cpan/build/2023121004/Net-DNS-1.41-0/blib/arch
/home/cpansand/.cpan/build/2023121004/Net-DNS-1.41-0/blib/lib
/usr/perl5.20.1p/lib/site_perl/5.20.1/amd64-freebsd
/usr/perl5.20.1p/lib/site_perl/5.20.1
/usr/perl5.20.1p/lib/5.20.1/amd64-freebsd
/usr/perl5.20.1p/lib/5.20.1
.