ODF-lpOD_Helper v6.014 Perl 5 v5.22.2 amd64-freebsd-thread-multi

Status
Pass
From
Slaven Rezić
Dist
ODF-lpOD_Helper v6.014
Platform
Perl 5 v5.22.2 amd64-freebsd-thread-multi
Date
2024-08-26 07:33:33
ID
7f62024a-637d-11ef-b69a-badf6d8775ea
This distribution has been tested as part of the CPAN Testers
project, supporting the Perl programming language.  See
http://wiki.cpantesters.org/ for more information or email
questions to cpan-testers-discuss@perl.org


--
Dear Jim Avera,

This is a computer-generated report for ODF-lpOD_Helper-6.014
on perl 5.22.2, created by CPAN-Reporter-1.2017.

Thank you for uploading your work to CPAN.  Congratulations!
All tests were successful.

Sections of this report:

    * Tester comments
    * Program output
    * Prerequisites
    * Environment and other context

------------------------------
TESTER COMMENTS
------------------------------

Additional comments from tester:

none provided

------------------------------
PROGRAM OUTPUT
------------------------------

Output from '/usr/bin/make test':

PERL_DL_NONLAZY=1 "/usr/perl5.22.2t/bin/perl5.22.2" "-MExtUtils::Command::MM" "-MTest::Harness" "-e" "undef *Test::Harness::Switches; test_harness(0, 'blib/lib', 'blib/arch')" t/*.t
t/20_next_elt_masked.t .... ok
t/25_Hnormalize.t ......... ok
t/30_styles.t ............. ok
t/40_unicode.t ............ ok
t/41_charstag.t ........... ok
t/42_Hor_cond.t ........... ok
t/45_Hsearch.t ............ ok
t/47_Hsplit_element_at.t .. ok
t/50_Hinsert_element.t .... skipped: These tests are for testing by the author
t/51_insert_content.t ..... ok
t/55_Hreplace.t ........... ok
t/60_encoding.t ........... ok
t/author-pod-coverage.t ... skipped: these tests are for testing by the author
t/author-pod-syntax.t ..... skipped: these tests are for testing by the author
All tests successful.
Files=14, Tests=902, 24 wallclock secs ( 0.09 usr  0.18 sys + 18.50 cusr  3.80 csys = 22.57 CPU)
Result: PASS

------------------------------
PREREQUISITES
------------------------------

Prerequisite modules loaded:

requires:

    Module                    Need  Have    
    ------------------------- ----- --------
    Carp                      0     1.36    
    constant                  0     1.33    
    Data::Dumper::Interp      6.006 7.007   
    Exporter                  0     5.72    
    feature                   0     1.40    
    File::Basename            0     2.85    
    Getopt::Long              0     2.45    
    List::Util                0     1.45    
    ODF::lpOD                 1.201 2.001   
    open                      0     1.10    
    parent                    0     0.232   
    perl                      5.018 5.022002
    Scalar::Util              0     1.45    
    strict                    0     1.09    
    utf8                      0     1.17    
    warnings                  0     1.34    
    warnings::register        0     1.04    

build_requires:

    Module                    Need  Have    
    ------------------------- ----- --------
    Archive::Zip              0     1.57    
    autovivification          0     0.16    
    bytes                     0     1.04    
    Capture::Tiny             0     0.46    
    Carp::Always              0     0.13    
    Cwd                       0     3.62    
    Data::Dumper              0     2.158   
    Data::Dumper::Interp      6.006 7.007   
    Encode                    0     2.72    
    English                   0     1.09    
    Env                       0     1.04    
    ExtUtils::MakeMaker       0     7.58    
    File::Path                0     2.09    
    File::Spec                0     3.62    
    File::Spec::Functions     0     3.62    
    File::Temp                0.23  0.2304  
    FindBin                   0     1.51    
    Guard                     0     1.023   
    Import::Into              0     1.002005
    indirect                  0     0.37    
    JSON                      0     2.90    
    lib                       0     0.63    
    multidimensional          0     0.012   
    Path::Tiny                0     0.104   
    POSIX                     0     1.53_01 
    Test2::Plugin::BailOnFail 0     0.000139
    Test2::Tools::Compare     0     0.000139
    Test2::V0                 0     0.000139
    Time::HiRes               0     1.9726  

configure_requires:

    Module                    Need  Have    
    ------------------------- ----- --------
    ExtUtils::MakeMaker       0     7.58    


------------------------------
ENVIRONMENT AND OTHER CONTEXT
------------------------------

Environment variables:

    LC_ALL = de_DE.ISO8859-1
    PATH = /usr/local/bin:/usr/bin:/bin:/usr/local/sbin:/usr/sbin:/sbin:/home/cpansand/bin/freebsd10.3:/home/cpansand/bin/sh:/home/cpansand/bin:/usr/games:/home/cpansand/devel:/home/eserte/src/srezic-misc/scripts
    PERL5LIB = /home/cpansand/.cpan/build/2024082609/ODF-lpOD-2.001-oU8_uL/blib/arch:/home/cpansand/.cpan/build/2024082609/ODF-lpOD-2.001-oU8_uL/blib/lib:/home/cpansand/.cpan/build/2024082609/File-Type-0.22-fwJElK/blib/arch:/home/cpansand/.cpan/build/2024082609/File-Type-0.22-fwJElK/blib/lib:/home/cpansand/.cpan/build/2024082609/Image-Size-3.300-Ppavv0/blib/arch:/home/cpansand/.cpan/build/2024082609/Image-Size-3.300-Ppavv0/blib/lib:/home/cpansand/.cpan/build/2024082609/Data-Dumper-Interp-7.007-a_DusV/blib/arch:/home/cpansand/.cpan/build/2024082609/Data-Dumper-Interp-7.007-a_DusV/blib/lib:/home/cpansand/.cpan/build/2024082609/Data-Visitor-0.32-ZvjGxG/blib/arch:/home/cpansand/.cpan/build/2024082609/Data-Visitor-0.32-ZvjGxG/blib/lib:/home/cpansand/.cpan/build/2024082609/Math-BigInt-2.003003-p6Lorj/blib/arch:/home/cpansand/.cpan/build/2024082609/Math-BigInt-2.003003-p6Lorj/blib/lib:/home/cpansand/.cpan/build/2024082609/Guard-1.023-FM0aPG/blib/arch:/home/cpansand/.cpan/build/2024082609/Guard-1.023-FM0aPG/blib/lib
    PERL5OPT = 
    PERL5_CPANPLUS_IS_RUNNING = 47249
    PERL5_CPAN_IS_RUNNING = 47249
    PERL5_CPAN_IS_RUNNING_IN_RECURSION = 45754,47249
    PERLDOC = -MPod::Perldoc::ToTextOverstrike
    PERL_BATCH = yes
    PERL_CANARY_STABILITY_NOPROMPT = 1
    PERL_CPAN_REPORTER_CONFIG = /var/tmp/cpansmoker-1023/2024082609/cpanreporter_000_config.ini
    PERL_EXTUTILS_AUTOINSTALL = --defaultdeps
    SHELL = /usr/local/bin/zsh
    TERM = screen
    TMPDIR = /var/tmp/cpansmoker-1023/2024082609

Perl special variables (and OS-specific diagnostics, for MSWin32):

    $^X = /usr/perl5.22.2t/bin/perl5.22.2
    $UID/$EUID = 1023 / 1023
    $GID = 1023 1023
    $EGID = 1023 1023

Perl module toolchain versions installed:

    Module              Have    
    ------------------- --------
    CPAN                2.11    
    CPAN::Meta          2.150001
    Cwd                 3.62    
    ExtUtils::CBuilder  0.280221
    ExtUtils::Command   7.58    
    ExtUtils::Install   2.06    
    ExtUtils::MakeMaker 7.58    
    ExtUtils::Manifest  1.70    
    ExtUtils::ParseXS   3.35    
    File::Spec          3.62    
    JSON                2.90    
    JSON::PP            2.27300 
    Module::Build       0.4218  
    Module::Signature   0.80    
    Parse::CPAN::Meta   1.4422  
    Test::Harness       3.35    
    Test::More          1.302183
    YAML                1.15    
    YAML::Syck          1.29    
    version             0.9917  


--

Summary of my perl5 (revision 5 version 22 subversion 2) configuration:
   
  Platform:
    osname=freebsd, osvers=10.1-release, archname=amd64-freebsd-thread-multi
    uname='freebsd cvrsnica-freebsd-101.herceg.de 10.1-release freebsd 10.1-release #0 r274401: tue nov 11 21:02:49 utc 2014 root@releng1.nyi.freebsd.org:usrobjusrsrcsysgeneric amd64 '
    config_args='-ds -e -Dprefix=/usr/perl5.22.2t -Dusethreads -Dcf_email=srezic@cpan.org -Doptimize=-O2 -pipe'
    hint=recommended, useposix=true, d_sigaction=define
    useithreads=define, usemultiplicity=define
    use64bitint=define, use64bitall=define, uselongdouble=undef
    usemymalloc=n, bincompat5005=undef
  Compiler:
    cc='cc', ccflags ='-DHAS_FPSETMASK -DHAS_FLOATINGPOINT_H -fno-strict-aliasing -pipe -fstack-protector -I/usr/local/include -D_FORTIFY_SOURCE=2',
    optimize='-O2 -pipe',
    cppflags='-DHAS_FPSETMASK -DHAS_FLOATINGPOINT_H -fno-strict-aliasing -pipe -fstack-protector -I/usr/local/include'
    ccversion='', gccversion='4.2.1 Compatible FreeBSD Clang 3.4.1 (tags/RELEASE_34/dot1-final 208032)', gccosandvers=''
    intsize=4, longsize=8, ptrsize=8, doublesize=8, byteorder=12345678, doublekind=3
    d_longlong=define, longlongsize=8, d_longdbl=define, longdblsize=16, longdblkind=3
    ivtype='long', ivsize=8, nvtype='double', nvsize=8, Off_t='off_t', lseeksize=8
    alignbytes=8, prototype=define
  Linker and Libraries:
    ld='cc', ldflags ='-pthread -Wl,-E  -fstack-protector -L/usr/local/lib'
    libpth=/usr/lib /usr/local/lib /usr/include/clang/3.4.1 /usr/lib
    libs=-lpthread -lgdbm -lm -lcrypt -lutil
    perllibs=-lpthread -lm -lcrypt -lutil
    libc=, so=so, useshrplib=false, libperl=libperl.a
    gnulibc_version=''
  Dynamic Linking:
    dlsrc=dl_dlopen.xs, dlext=so, d_dlsymun=undef, ccdlflags=' '
    cccdlflags='-DPIC -fPIC', lddlflags='-shared  -L/usr/local/lib -fstack-protector'


Characteristics of this binary (from libperl): 
  Compile-time options: HAS_TIMES MULTIPLICITY PERLIO_LAYERS
                        PERL_DONT_CREATE_GVSV
                        PERL_HASH_FUNC_ONE_AT_A_TIME_HARD
                        PERL_IMPLICIT_CONTEXT PERL_MALLOC_WRAP
                        PERL_NEW_COPY_ON_WRITE PERL_PRESERVE_IVUV
                        USE_64_BIT_ALL USE_64_BIT_INT USE_ITHREADS
                        USE_LARGE_FILES USE_LOCALE USE_LOCALE_COLLATE
                        USE_LOCALE_CTYPE USE_LOCALE_NUMERIC USE_LOCALE_TIME
                        USE_PERLIO USE_PERL_ATOF USE_REENTRANT_API
  Built under freebsd
  Compiled at Jun 18 2016 12:32:50
  %ENV:
    PERL5LIB="/home/cpansand/.cpan/build/2024082609/ODF-lpOD-2.001-oU8_uL/blib/arch:/home/cpansand/.cpan/build/2024082609/ODF-lpOD-2.001-oU8_uL/blib/lib:/home/cpansand/.cpan/build/2024082609/File-Type-0.22-fwJElK/blib/arch:/home/cpansand/.cpan/build/2024082609/File-Type-0.22-fwJElK/blib/lib:/home/cpansand/.cpan/build/2024082609/Image-Size-3.300-Ppavv0/blib/arch:/home/cpansand/.cpan/build/2024082609/Image-Size-3.300-Ppavv0/blib/lib:/home/cpansand/.cpan/build/2024082609/Data-Dumper-Interp-7.007-a_DusV/blib/arch:/home/cpansand/.cpan/build/2024082609/Data-Dumper-Interp-7.007-a_DusV/blib/lib:/home/cpansand/.cpan/build/2024082609/Data-Visitor-0.32-ZvjGxG/blib/arch:/home/cpansand/.cpan/build/2024082609/Data-Visitor-0.32-ZvjGxG/blib/lib:/home/cpansand/.cpan/build/2024082609/Math-BigInt-2.003003-p6Lorj/blib/arch:/home/cpansand/.cpan/build/2024082609/Math-BigInt-2.003003-p6Lorj/blib/lib:/home/cpansand/.cpan/build/2024082609/Guard-1.023-FM0aPG/blib/arch:/home/cpansand/.cpan/build/2024082609/Guard-1.023-FM0aPG/blib/lib"
    PERL5OPT=""
    PERL5_CPANPLUS_IS_RUNNING="47249"
    PERL5_CPAN_IS_RUNNING="47249"
    PERL5_CPAN_IS_RUNNING_IN_RECURSION="45754,47249"
    PERLDOC="-MPod::Perldoc::ToTextOverstrike"
    PERL_BATCH="yes"
    PERL_CANARY_STABILITY_NOPROMPT="1"
    PERL_CPAN_REPORTER_CONFIG="/var/tmp/cpansmoker-1023/2024082609/cpanreporter_000_config.ini"
    PERL_EXTUTILS_AUTOINSTALL="--defaultdeps"
  @INC:
    /home/cpansand/.cpan/build/2024082609/ODF-lpOD-2.001-oU8_uL/blib/arch
    /home/cpansand/.cpan/build/2024082609/ODF-lpOD-2.001-oU8_uL/blib/lib
    /home/cpansand/.cpan/build/2024082609/File-Type-0.22-fwJElK/blib/arch
    /home/cpansand/.cpan/build/2024082609/File-Type-0.22-fwJElK/blib/lib
    /home/cpansand/.cpan/build/2024082609/Image-Size-3.300-Ppavv0/blib/arch
    /home/cpansand/.cpan/build/2024082609/Image-Size-3.300-Ppavv0/blib/lib
    /home/cpansand/.cpan/build/2024082609/Data-Dumper-Interp-7.007-a_DusV/blib/arch
    /home/cpansand/.cpan/build/2024082609/Data-Dumper-Interp-7.007-a_DusV/blib/lib
    /home/cpansand/.cpan/build/2024082609/Data-Visitor-0.32-ZvjGxG/blib/arch
    /home/cpansand/.cpan/build/2024082609/Data-Visitor-0.32-ZvjGxG/blib/lib
    /home/cpansand/.cpan/build/2024082609/Math-BigInt-2.003003-p6Lorj/blib/arch
    /home/cpansand/.cpan/build/2024082609/Math-BigInt-2.003003-p6Lorj/blib/lib
    /home/cpansand/.cpan/build/2024082609/Guard-1.023-FM0aPG/blib/arch
    /home/cpansand/.cpan/build/2024082609/Guard-1.023-FM0aPG/blib/lib
    /usr/perl5.22.2t/lib/site_perl/5.22.2/amd64-freebsd-thread-multi
    /usr/perl5.22.2t/lib/site_perl/5.22.2
    /usr/perl5.22.2t/lib/5.22.2/amd64-freebsd-thread-multi
    /usr/perl5.22.2t/lib/5.22.2
    .