Report for Test-MockDBI-0.70

Back
From: metabase:user:8286d1fc-3d52-11e2-9ec4-cb9cdd236785
Subject: PASS Test-MockDBI-0.70 v5.19.4 GNU/Linux
Date: 2013-08-26T11:27:32Z

This distribution has been tested as part of the CPAN Testers
project, supporting the Perl programming language.  See
http://wiki.cpantesters.org/ for more information or email
questions to cpan-testers-discuss@perl.org


--
Dear Andreas Faafeng,

This is a computer-generated report for Test-MockDBI-0.70
on perl 5.19.4, created by CPAN-Reporter-1.2010.

Thank you for uploading your work to CPAN.  Congratulations!
All tests were successful.

Sections of this report:

    * Tester comments
    * Program output
    * Prerequisites
    * Environment and other context

------------------------------
TESTER COMMENTS
------------------------------

Additional comments from tester:

this report is from an automated smoke testing program
and was not reviewed by a human for accuracy

------------------------------
PROGRAM OUTPUT
------------------------------

Output from '/usr/local/bin/make test':

PERL_DL_NONLAZY=1 /opt/perl441-no-5.19.4/bin/perl "-MExtUtils::Command::MM" "-e" "test_harness(0, 'blib/lib', 'blib/arch')" t/*.t
# Testing Test::MockDBI 0.70, Perl 5.019004, /opt/perl441-no-5.19.4/bin/perl, archname=i686-linux, byteorder=1234
[04:26:33] t/00-env.t ........................... ok     1029 ms
[04:26:33] t/000-use.t .......................... ok      587 ms
[04:26:34] t/001-connect.t ...................... ok      405 ms
[04:26:34] t/002-prepare.t ...................... ok      497 ms
[04:26:35] t/003-ping.t ......................... ok      470 ms
[04:26:35] t/004-execute.t ...................... ok      643 ms
[04:26:36] t/005-fetchrow_hashref.t ............. ok      478 ms
[04:26:36] t/006-bind_param.t ................... ok      434 ms
[04:26:37] t/007-bind_param_inout.t ............. ok      418 ms
[04:26:37] t/008-rows.t ......................... ok      504 ms
[04:26:38] t/009-auto_commit.t .................. ok      806 ms
[04:26:39] t/010-fetchrow_arrayref.t ............ ok      583 ms
[04:26:39] t/011-prepare_cached.t ............... ok      470 ms
[04:26:40] t/012-do.t ........................... ok      512 ms
[04:26:40] t/100-set-fake-retval.t .............. ok      695 ms
[04:26:41] t/101-set-fake-retval-coderef.t ...... ok      431 ms
[04:26:41] t/102-set-inout-value.t .............. ok      509 ms
[04:26:43] t/103-bad_method.t ................... ok     1127 ms
[04:26:44] t/104-bad-params.t ................... ok     1108 ms
[04:26:45] t/800-die-on-unsupported-method.t .... ok      740 ms
[04:26:45] t/bad_param-1.t ...................... ok      957 ms
[04:26:47] t/bad_param-2.t ...................... ok     1029 ms
[04:26:47] t/bad_param-ok-2of3.t ................ ok      837 ms
[04:26:48] t/bad_param-ok-none.t ................ ok      960 ms
[04:26:49] t/coderef-array-1.t .................. ok      744 ms
[04:26:50] t/coderef-array-many.t ............... ok      844 ms
[04:26:51] t/coderef-scalar-0.t ................. ok      721 ms
[04:26:52] t/coderef-scalar-1.t ................. ok      975 ms
[04:26:53] t/coderef-scalar-many.t .............. ok      834 ms
[04:26:54] t/connect.t .......................... ok      665 ms
[04:26:55] t/fetch-0.t .......................... ok      961 ms
[04:26:55] t/fetch-empty.t ...................... ok      867 ms
[04:26:56] t/fetchall_arrayref-0.t .............. ok      687 ms
[04:26:57] t/fetchall_arrayref-1.t .............. ok      778 ms
[04:26:58] t/fetchall_arrayref-many.t ........... ok      780 ms
[04:26:58] t/fetchrow_array-0.t ................. ok      504 ms
[04:26:59] t/fetchrow_array-1.t ................. ok      495 ms
[04:26:59] t/fetchrow_array-different-sql.t ..... ok      585 ms
[04:27:00] t/fetchrow_array-many.t .............. ok      492 ms
[04:27:00] t/fetchrow_arrayref-0.t .............. ok      472 ms
[04:27:01] t/fetchrow_arrayref-1.t .............. ok      498 ms
[04:27:01] t/fetchrow_arrayref-different-sql.t .. ok      494 ms
[04:27:02] t/fetchrow_arrayref-many.t ........... ok      484 ms
[04:27:02] t/fetchrow_hashref-1.t ............... ok      526 ms
[04:27:03] t/fetchrow_hashref-2.t ............... ok      531 ms
[04:27:04] t/fetchrow_hashref-many.t ............ ok      533 ms
[04:27:04] t/set_rows-different-numeric.t ....... ok      487 ms
[04:27:05] t/set_rows-no-arg.t .................. ok      491 ms
[04:27:05] t/set_rows-numeric.t ................. ok      363 ms
[04:27:05] t/set_rows-undef.t ................... ok      425 ms
[04:27:05]
All tests successful.
Files=50, Tests=431, 34 wallclock secs ( 0.69 usr  0.13 sys + 10.74 cusr  1.21 csys = 12.77 CPU)
Result: PASS

------------------------------
PREREQUISITES
------------------------------

Prerequisite modules loaded:

requires:

    Module                Need Have      
    --------------------- ---- ----------
    Carp                  0    1.26      
    Clone                 0    0.34      
    DBI                   0    1.628     
    File::Spec::Functions 0    3.40      
    Scalar::Util          0    1.31      
    Test::Differences     0    0.61      
    Test::MockObject      0.14 1.20120301
    Test::More            0    0.98      
    Test::Warn            0    0.24      

build_requires:

    Module                Need Have      
    --------------------- ---- ----------
    CPAN::Meta            0    2.132140  

configure_requires:

    Module                Need Have      
    --------------------- ---- ----------
    ExtUtils::MakeMaker   0    6.72      


------------------------------
ENVIRONMENT AND OTHER CONTEXT
------------------------------

Environment variables:

    AUTHOR_TESTING = 1
    AUTOMATED_TESTING = 1
    LANG = en_US.UTF-8
    LD_LIBRARY_PATH = /usr/local/lib
    PATH = /usr/lib/qt-3.3/bin:/usr/kerberos/sbin:/usr/kerberos/bin:/usr/lib/ccache:/usr/local/sbin:/usr/local/bin:/sbin:/bin:/usr/sbin:/usr/bin:/usr/X11R6/bin:/usr/lib/alliance/bin:/opt/real/RealPlayer:/root/bin:/usr/lib/alliance/bin:/opt/real/RealPlayer
    PERL5LIB = 
    PERL5OPT = 
    PERL5_CPANPLUS_IS_RUNNING = 13633
    PERL5_CPAN_IS_RUNNING = 13633
    PERL_ANYEVENT_MODEL = POE
    PERL_ANYEVENT_VERBOSE = 1
    PERL_MM_USE_DEFAULT = 1
    SHELL = /bin/bash
    TERM = xterm

Perl special variables (and OS-specific diagnostics, for MSWin32):

    $^X = /opt/perl441-no-5.19.4/bin/perl
    $UID/$EUID = 0 / 0
    $GID = 0 0 1 2 3 4 6 10
    $EGID = 0 0 1 2 3 4 6 10

Perl module toolchain versions installed:

    Module              Have    
    ------------------- --------
    CPAN                2.00    
    CPAN::Meta          2.132140
    Cwd                 3.40    
    ExtUtils::CBuilder  0.280205
    ExtUtils::Command   1.17    
    ExtUtils::Install   1.54    
    ExtUtils::MakeMaker 6.72    
    ExtUtils::Manifest  1.61    
    ExtUtils::ParseXS   3.21    
    File::Spec          3.40    
    JSON                2.59    
    JSON::PP            2.27202 
    Module::Build       0.4007  
    Module::Signature   0.73    
    Parse::CPAN::Meta   1.4405  
    Test::Harness       3.28    
    Test::More          0.98    
    YAML                0.84    
    YAML::Syck          1.27    
    version             0.9903  


--

Summary of my perl5 (revision 5 version 19 subversion 4) configuration:
  Snapshot of: 7e8c6c4cac89df95535a8354d57396d3144876b8
  Platform:
    osname=linux, osvers=2.6.22.14-72.fc6, archname=i686-linux
    uname='linux localhost.localdomain 2.6.22.14-72.fc6 #1 smp wed nov 21 13:44:07 est 2007 i686 i686 i386 gnulinux '
    config_args='-Dcc=/opt/441/bin/gcc -Doptimize=-g -DDMALLOC=/usr/local/bin/dmalloc -Dprefix=/opt/perl441-no-5.19.4 -DDEBUGGING'
    hint=recommended, useposix=true, d_sigaction=define
    useithreads=undef, usemultiplicity=undef
    useperlio=define, d_sfio=undef, uselargefiles=undef, usesocks=undef
    use64bitint=undef, use64bitall=undef, uselongdouble=undef
    usemymalloc=n, bincompat5005=undef
  Compiler:
    cc='/opt/441/bin/gcc', ccflags ='-DDMALLOC',
    optimize='-g',
    cppflags='-DDMALLOC'
    ccversion='', gccversion='4.4.1', gccosandvers=''
    intsize=4, longsize=4, ptrsize=4, doublesize=8, byteorder=1234
    d_longlong=define, longlongsize=8, d_longdbl=define, longdblsize=12
    ivtype='long', ivsize=4, nvtype='double', nvsize=8, Off_t='off_t', lseeksize=4
    alignbytes=4, prototype=define
  Linker and Libraries:
    ld='/opt/441/bin/gcc', ldflags =' -L/usr/local/lib'
    libpth=/usr/local/lib /lib /usr/lib
    libs=-lnsl -lgdbm -ldb -ldl -lm -lcrypt -lutil -lc
    perllibs=-lnsl -ldl -lm -lcrypt -lutil -lc
    libc=/lib/libc-2.5.so, so=so, useshrplib=false, libperl=libperl.a
    gnulibc_version='2.5'
  Dynamic Linking:
    dlsrc=dl_dlopen.xs, dlext=so, d_dlsymun=undef, ccdlflags='-Wl,-E'
    cccdlflags='-fPIC', lddlflags='-shared -g -L/usr/local/lib'


Characteristics of this binary (from libperl): 
  Compile-time options: HAS_TIMES PERLIO_LAYERS PERL_DONT_CREATE_GVSV
                        PERL_HASH_FUNC_ONE_AT_A_TIME_HARD PERL_MALLOC_WRAP
                        PERL_NEW_COPY_ON_WRITE PERL_PRESERVE_IVUV
                        USE_FAST_STDIO USE_LOCALE USE_LOCALE_COLLATE
                        USE_LOCALE_CTYPE USE_LOCALE_NUMERIC USE_PERLIO
                        USE_PERL_ATOF
  Built under linux
  Compiled at Aug 22 2013 11:04:44
  %ENV:
    PERL5LIB=""
    PERL5OPT=""
    PERL5_CPANPLUS_IS_RUNNING="13633"
    PERL5_CPAN_IS_RUNNING="13633"
    PERL_ANYEVENT_MODEL="POE"
    PERL_ANYEVENT_VERBOSE="1"
    PERL_MM_USE_DEFAULT="1"
  @INC:
    /opt/perl441-no-5.19.4/lib/site_perl/5.19.4/i686-linux
    /opt/perl441-no-5.19.4/lib/site_perl/5.19.4
    /opt/perl441-no-5.19.4/lib/5.19.4/i686-linux
    /opt/perl441-no-5.19.4/lib/5.19.4
    .