Back
From: metabase:user:e18b858e-6cb1-1014-85fc-dd40bc601cf3
Subject: PASS Encode-JP-Mobile-UnicodeEmoji-0.012 v5.16.2 GNU/Linux
Date: 2012-11-08T05:45:27Z
This distribution has been tested as part of the CPAN Testers
project, supporting the Perl programming language. See
http://wiki.cpantesters.org/ for more information or email
questions to cpan-testers-discuss@perl.org
--
Dear Masayuki Matsuki,
This is a computer-generated report for Encode-JP-Mobile-UnicodeEmoji-0.012
on perl 5.16.2, created by CPAN-Reporter-1.2006.
Thank you for uploading your work to CPAN. Congratulations!
All tests were successful.
Sections of this report:
* Tester comments
* Program output
* Prerequisites
* Environment and other context
------------------------------
TESTER COMMENTS
------------------------------
Additional comments from tester:
this report is from an automated smoke testing program
and was not reviewed by a human for accuracy
------------------------------
PROGRAM OUTPUT
------------------------------
Output from '/usr/bin/make test':
PERL_DL_NONLAZY=1 /home/kovensky/perl5/perlbrew/perls/perl-5.16.1/bin/perl "-MExtUtils::Command::MM" "-e" "test_harness(0, 'inc', 'blib/lib', 'blib/arch')" t/*.t
t/00_compile.t ................ ok
t/unicode-emoji-mbga-trans.t .. ok
t/unicode-emoji-trans.t ....... ok
All tests successful.
Files=3, Tests=13, 1 wallclock secs ( 0.03 usr 0.00 sys + 0.37 cusr 0.03 csys = 0.43 CPU)
Result: PASS
------------------------------
PREREQUISITES
------------------------------
Prerequisite modules loaded:
requires:
Module Need Have
------------------- ---- -------
Encode::JP::Emoji 0 0.60
Encode::JP::Mobile 0 0.30
build_requires:
Module Need Have
------------------- ---- -------
ExtUtils::MakeMaker 6.36 6.63_02
Test::More 0 0.98
configure_requires:
Module Need Have
------------------- ---- -------
ExtUtils::MakeMaker 6.36 6.63_02
------------------------------
ENVIRONMENT AND OTHER CONTEXT
------------------------------
Environment variables:
AUTOMATED_TESTING = 1
LANG = en_US.utf8
LC_ALL = en_US.UTF-8
LC_CTYPE = en_US.utf8
PATH = /home/kovensky/perl5/perlbrew/bin:/home/kovensky/perl5/perlbrew/perls/perl-5.16.1/bin:/home/kovensky/perl5/bin:/home/kovensky/bin:/home/kovensky/.rbenv/shims:/home/kovensky/.rbenv/bin:/home/kovensky/perl5/bin:/home/kovensky/bin:/home/kovensky/.rbenv/shims:/home/kovensky/.rbenv/bin:/usr/lib64/ccache:/usr/local/bin:/usr/bin:/bin:/home/kovensky/bin:/usr/local/sbin:/usr/sbin:/home/kovensky/bin
PERL5LIB = /home/kovensky/.local/share/.cpan/build/Encode-JP-Mobile-0.30-Drpo68/blib/arch:/home/kovensky/.local/share/.cpan/build/Encode-JP-Mobile-0.30-Drpo68/blib/lib:/home/kovensky/.local/share/.cpan/build/MIME-tools-5.503-eiH5rW/blib/arch:/home/kovensky/.local/share/.cpan/build/MIME-tools-5.503-eiH5rW/blib/lib:/home/kovensky/.local/share/.cpan/build/MailTools-2.11-nQ12lF/blib/arch:/home/kovensky/.local/share/.cpan/build/MailTools-2.11-nQ12lF/blib/lib:/home/kovensky/.local/share/.cpan/build/Encode-JP-Emoji-0.60-d84Dd1/blib/arch:/home/kovensky/.local/share/.cpan/build/Encode-JP-Emoji-0.60-d84Dd1/blib/lib:/home/kovensky/perl5/lib/perl5/x86_64-linux-thread-multi:/home/kovensky/perl5/lib/perl5
PERL5OPT =
PERL5_CPANPLUS_IS_RUNNING = 17475
PERL5_CPAN_IS_RUNNING = 17475
PERL5_CPAN_IS_RUNNING_IN_RECURSION = 9418,17475
PERLBREW_BASHRC_VERSION = 0.54
PERLBREW_HOME = /home/kovensky/.perlbrew
PERLBREW_MANPATH = /home/kovensky/perl5/perlbrew/perls/perl-5.16.1/man
PERLBREW_PATH = /home/kovensky/perl5/perlbrew/bin:/home/kovensky/perl5/perlbrew/perls/perl-5.16.1/bin
PERLBREW_PERL = perl-5.16.1
PERLBREW_ROOT = /home/kovensky/perl5/perlbrew
PERLBREW_VERSION = 0.54
PERL_CR_SMOKER_CURRENT = Encode-JP-Mobile-UnicodeEmoji-0.012
PERL_EXTUTILS_AUTOINSTALL = --defaultdeps
PERL_LOCAL_LIB_ROOT = /home/kovensky/perl5
PERL_MB_OPT = --install_base /home/kovensky/perl5
PERL_MM_OPT = INSTALL_BASE=/home/kovensky/perl5
PERL_MM_USE_DEFAULT = 1
SHELL = /bin/zsh
TERM = screen-256color
Perl special variables (and OS-specific diagnostics, for MSWin32):
$^X = /home/kovensky/perl5/perlbrew/perls/perl-5.16.1/bin/perl
$UID/$EUID = 1000 / 1000
$GID = 1000 10 18 1000
$EGID = 1000 10 18 1000
Perl module toolchain versions installed:
Module Have
------------------- --------
CPAN 1.9800
CPAN::Meta 2.120921
Cwd 3.39_02
ExtUtils::CBuilder 0.280206
ExtUtils::Command 1.17
ExtUtils::Install 1.58
ExtUtils::MakeMaker 6.63_02
ExtUtils::Manifest 1.61
ExtUtils::ParseXS 3.16
File::Spec 3.39_02
JSON 2.53
JSON::PP 2.27200
Module::Build 0.4003
Module::Signature 0.69
Parse::CPAN::Meta 1.4404
Test::Harness 3.23
Test::More 0.98
YAML 0.84
YAML::Syck 1.21
version 0.99
--
Summary of my perl5 (revision 5 version 16 subversion 2) configuration:
Platform:
osname=linux, osvers=3.6.3-1.fc17.x86_64, archname=x86_64-linux
uname='linux hisui 3.6.3-1.fc17.x86_64 #1 smp mon oct 22 15:32:35 utc 2012 x86_64 x86_64 x86_64 gnulinux '
config_args='-de -Dprefix=/home/kovensky/perl5/perlbrew/perls/perl-5.16.1 -Aeval:scriptdir=/home/kovensky/perl5/perlbrew/perls/perl-5.16.1/bin'
hint=recommended, useposix=true, d_sigaction=define
useithreads=undef, usemultiplicity=undef
useperlio=define, d_sfio=undef, uselargefiles=define, usesocks=undef
use64bitint=define, use64bitall=define, uselongdouble=undef
usemymalloc=n, bincompat5005=undef
Compiler:
cc='cc', ccflags ='-fno-strict-aliasing -pipe -fstack-protector -I/usr/local/include -D_LARGEFILE_SOURCE -D_FILE_OFFSET_BITS=64',
optimize='-O2',
cppflags='-fno-strict-aliasing -pipe -fstack-protector -I/usr/local/include'
ccversion='', gccversion='4.7.2 20120921 (Red Hat 4.7.2-2)', gccosandvers=''
intsize=4, longsize=8, ptrsize=8, doublesize=8, byteorder=12345678
d_longlong=define, longlongsize=8, d_longdbl=define, longdblsize=16
ivtype='long', ivsize=8, nvtype='double', nvsize=8, Off_t='off_t', lseeksize=8
alignbytes=8, prototype=define
Linker and Libraries:
ld='cc', ldflags =' -fstack-protector -L/usr/local/lib'
libpth=/usr/local/lib /lib/../lib64 /usr/lib/../lib64 /lib /usr/lib /lib64 /usr/lib64 /usr/local/lib64
libs=-lnsl -lgdbm -ldb -ldl -lm -lcrypt -lutil -lc -lgdbm_compat
perllibs=-lnsl -ldl -lm -lcrypt -lutil -lc
libc=/lib/libc-2.15.so, so=so, useshrplib=false, libperl=libperl.a
gnulibc_version='2.15'
Dynamic Linking:
dlsrc=dl_dlopen.xs, dlext=so, d_dlsymun=undef, ccdlflags='-Wl,-E'
cccdlflags='-fPIC', lddlflags='-shared -O2 -L/usr/local/lib -fstack-protector'
Characteristics of this binary (from libperl):
Compile-time options: HAS_TIMES PERLIO_LAYERS PERL_DONT_CREATE_GVSV
PERL_MALLOC_WRAP PERL_PRESERVE_IVUV USE_64_BIT_ALL
USE_64_BIT_INT USE_LARGE_FILES USE_LOCALE
USE_LOCALE_COLLATE USE_LOCALE_CTYPE
USE_LOCALE_NUMERIC USE_PERLIO USE_PERL_ATOF
Built under linux
Compiled at Nov 7 2012 00:15:11
%ENV:
PERL5LIB="/home/kovensky/.local/share/.cpan/build/Encode-JP-Mobile-0.30-Drpo68/blib/arch:/home/kovensky/.local/share/.cpan/build/Encode-JP-Mobile-0.30-Drpo68/blib/lib:/home/kovensky/.local/share/.cpan/build/MIME-tools-5.503-eiH5rW/blib/arch:/home/kovensky/.local/share/.cpan/build/MIME-tools-5.503-eiH5rW/blib/lib:/home/kovensky/.local/share/.cpan/build/MailTools-2.11-nQ12lF/blib/arch:/home/kovensky/.local/share/.cpan/build/MailTools-2.11-nQ12lF/blib/lib:/home/kovensky/.local/share/.cpan/build/Encode-JP-Emoji-0.60-d84Dd1/blib/arch:/home/kovensky/.local/share/.cpan/build/Encode-JP-Emoji-0.60-d84Dd1/blib/lib:/home/kovensky/perl5/lib/perl5/x86_64-linux-thread-multi:/home/kovensky/perl5/lib/perl5"
PERL5OPT=""
PERL5_CPANPLUS_IS_RUNNING="17475"
PERL5_CPAN_IS_RUNNING="17475"
PERL5_CPAN_IS_RUNNING_IN_RECURSION="9418,17475"
PERLBREW_BASHRC_VERSION="0.54"
PERLBREW_HOME="/home/kovensky/.perlbrew"
PERLBREW_MANPATH="/home/kovensky/perl5/perlbrew/perls/perl-5.16.1/man"
PERLBREW_PATH="/home/kovensky/perl5/perlbrew/bin:/home/kovensky/perl5/perlbrew/perls/perl-5.16.1/bin"
PERLBREW_PERL="perl-5.16.1"
PERLBREW_ROOT="/home/kovensky/perl5/perlbrew"
PERLBREW_VERSION="0.54"
PERL_CR_SMOKER_CURRENT="Encode-JP-Mobile-UnicodeEmoji-0.012"
PERL_EXTUTILS_AUTOINSTALL="--defaultdeps"
PERL_LOCAL_LIB_ROOT="/home/kovensky/perl5"
PERL_MB_OPT="--install_base /home/kovensky/perl5"
PERL_MM_OPT="INSTALL_BASE=/home/kovensky/perl5"
PERL_MM_USE_DEFAULT="1"
@INC:
/home/kovensky/.local/share/.cpan/build/Encode-JP-Mobile-0.30-Drpo68/blib/arch
/home/kovensky/.local/share/.cpan/build/Encode-JP-Mobile-0.30-Drpo68/blib/lib
/home/kovensky/.local/share/.cpan/build/MIME-tools-5.503-eiH5rW/blib/arch
/home/kovensky/.local/share/.cpan/build/MIME-tools-5.503-eiH5rW/blib/lib
/home/kovensky/.local/share/.cpan/build/MailTools-2.11-nQ12lF/blib/arch
/home/kovensky/.local/share/.cpan/build/MailTools-2.11-nQ12lF/blib/lib
/home/kovensky/.local/share/.cpan/build/Encode-JP-Emoji-0.60-d84Dd1/blib/arch
/home/kovensky/.local/share/.cpan/build/Encode-JP-Emoji-0.60-d84Dd1/blib/lib
/home/kovensky/perl5/lib/perl5/x86_64-linux-thread-multi
/home/kovensky/perl5/lib/perl5/x86_64-linux
/home/kovensky/perl5/lib/perl5
/home/kovensky/perl5/perlbrew/perls/perl-5.16.1/lib/site_perl/5.16.2/x86_64-linux
/home/kovensky/perl5/perlbrew/perls/perl-5.16.1/lib/site_perl/5.16.2
/home/kovensky/perl5/perlbrew/perls/perl-5.16.1/lib/5.16.2/x86_64-linux
/home/kovensky/perl5/perlbrew/perls/perl-5.16.1/lib/5.16.2
/home/kovensky/perl5/perlbrew/perls/perl-5.16.1/lib/site_perl/5.16.1/x86_64-linux
/home/kovensky/perl5/perlbrew/perls/perl-5.16.1/lib/site_perl/5.16.1
/home/kovensky/perl5/perlbrew/perls/perl-5.16.1/lib/site_perl
.