Net-LDAP-SimpleServer v0.0.21 Perl 5 v5.14.4 amd64-freebsd
- Status
- Pass
- From
- Slaven Rezić (SREZIC)
- Dist
-
Net-LDAP-SimpleServer v0.0.21
- Platform
- Perl 5 v5.14.4 amd64-freebsd
- Date
- 2017-11-12 05:58:26
- ID
- 7fc52ac6-c76e-11e7-a1df-c0525c8447e6
This distribution has been tested as part of the CPAN Testers
project, supporting the Perl programming language. See
http://wiki.cpantesters.org/ for more information or email
questions to cpan-testers-discuss@perl.org
--
Dear Alexei Znamensky,
This is a computer-generated report for Net-LDAP-SimpleServer-0.0.21
on perl 5.14.4, created by CPAN-Reporter-1.2018.
Thank you for uploading your work to CPAN. Congratulations!
All tests were successful.
Sections of this report:
* Tester comments
* Program output
* Prerequisites
* Environment and other context
------------------------------
TESTER COMMENTS
------------------------------
Additional comments from tester:
none provided
------------------------------
PROGRAM OUTPUT
------------------------------
Output from '/usr/bin/make test':
PERL_DL_NONLAZY=1 "/usr/perl5.14.4/bin/perl" "-MExtUtils::Command::MM" "-MTest::Harness" "-e" "undef *Test::Harness::Switches; test_harness(0, 'blib/lib', 'blib/arch')" t/*.t
t/00-compile.t ............... ok
t/00-load.t .................. ok
#
# Versions for all modules listed in MYMETA.json (including optional ones):
#
# === Configure Requires ===
#
# Module Want Have
# ------------------- ---- ----
# ExtUtils::MakeMaker any 7.24
#
# === Build Requires ===
#
# Module Want Have
# ------------------- ---- ----
# ExtUtils::MakeMaker any 7.24
#
# === Test Requires ===
#
# Module Want Have
# ------------------- ---- --------
# Authen::SASL any 2.16
# ExtUtils::MakeMaker any 7.24
# File::Spec any 3.62
# IO::Handle any 1.31
# IO::Pipe any 1.14
# IPC::Open3 any 1.0901
# Net::LDAP any 0.65
# Proc::Fork any 0.804
# Test::Deep any 1.127
# Test::More any 1.302106
# Test::UseAllModules any 0.17
# Try::Tiny any 0.28
# lib any 0.63
#
# === Test Recommends ===
#
# Module Want Have
# ---------- -------- --------
# CPAN::Meta 2.120900 2.150010
#
# === Runtime Requires ===
#
# Module Want Have
# ---------------------- ----- ----------
# Carp any 1.38
# Digest::MD5 any 2.55
# Exporter any 5.72
# File::Basename any 2.82
# File::HomeDir any 1.002
# File::Path 2.08 2.15
# File::Spec any 3.62
# MIME::Base64 any 3.15
# Net::LDAP::Constant any 0.23
# Net::LDAP::Filter any 0.20
# Net::LDAP::FilterMatch any 0.27
# Net::LDAP::LDIF any 0.26
# Net::LDAP::Server any 0.43
# Net::LDAP::Util any 0.19
# Net::Server 2.003 2.008
# Scalar::Util any 1.49
# UNIVERSAL::isa any 1.20171012
# base any 2.23
# constant any 1.33
# fields any 2.23
# strict any 1.04
# warnings any 1.12
#
t/00-report-prereqs.t ........ ok
t/10-store.t ................. ok
Use of uninitialized value in scalar chomp at /usr/home/eserte/.cpan/build/2017111200/Net-LDAP-SimpleServer-0.0.21-3/blib/lib/Net/LDAP/SimpleServer/ProtocolHandler.pm line 73.
Use of uninitialized value in string eq at /usr/home/eserte/.cpan/build/2017111200/Net-LDAP-SimpleServer-0.0.21-3/blib/lib/Net/LDAP/SimpleServer/ProtocolHandler.pm line 52.
t/20-handler.t ............... ok
Couldn't open conf "/no/such/file.conf" [Datei oder Verzeichnis nicht gefunden]
t/30-param.t ................. ok
t/40-bind.t .................. ok
t/41-bind-user.t ............. ok
t/50-search.t ................ ok
t/51-search-pw_attr.t ........ ok
t/author-critic.t ............ skipped: these tests are for testing by the author
t/author-eol.t ............... skipped: these tests are for testing by the author
t/author-mojibake.t .......... skipped: these tests are for testing by the author
t/author-no-tabs.t ........... skipped: these tests are for testing by the author
t/author-pod-coverage.t ...... skipped: these tests are for testing by the author
t/author-pod-linkcheck.t ..... skipped: these tests are for testing by the author
t/author-pod-syntax.t ........ skipped: these tests are for testing by the author
t/author-portability.t ....... skipped: these tests are for testing by the author
t/author-test-version.t ...... skipped: these tests are for testing by the author
t/release-dist-manifest.t .... skipped: these tests are for release candidate testing
t/release-distmeta.t ......... skipped: these tests are for release candidate testing
t/release-kwalitee.t ......... skipped: these tests are for release candidate testing
t/release-meta-json.t ........ skipped: these tests are for release candidate testing
t/release-minimum-version.t .. skipped: these tests are for release candidate testing
t/release-unused-vars.t ...... skipped: these tests are for release candidate testing
All tests successful.
Files=25, Tests=77, 62 wallclock secs ( 0.05 usr 0.05 sys + 1.06 cusr 0.30 csys = 1.45 CPU)
Result: PASS
------------------------------
PREREQUISITES
------------------------------
Prerequisite modules loaded:
requires:
Module Need Have
---------------------- ----- ----------
base 0 2.23
Carp 0 1.38
constant 0 1.33
Digest::MD5 0 2.55
Exporter 0 5.72
fields 0 2.23
File::Basename 0 2.82
File::HomeDir 0 1.002
File::Path 2.08 2.15
File::Spec 0 3.62
MIME::Base64 0 3.15
Net::LDAP::Constant 0 0.23
Net::LDAP::Filter 0 0.20
Net::LDAP::FilterMatch 0 0.27
Net::LDAP::LDIF 0 0.26
Net::LDAP::Server 0 0.43
Net::LDAP::Util 0 0.19
Net::Server 2.003 2.008
perl 5.014 5.014004
Scalar::Util 0 1.49
strict 0 1.04
UNIVERSAL::isa 0 1.20171012
warnings 0 1.12
build_requires:
Module Need Have
---------------------- ----- ----------
Authen::SASL 0 2.16
ExtUtils::MakeMaker 0 7.24
File::Spec 0 3.62
IO::Handle 0 1.31
IO::Pipe 0 1.14
IPC::Open3 0 1.0901
lib 0 0.63
Net::LDAP 0 0.65
Proc::Fork 0 0.804
Test::Deep 0 1.127
Test::More 0 1.302106
Test::UseAllModules 0 0.17
Try::Tiny 0 0.28
configure_requires:
Module Need Have
---------------------- ----- ----------
ExtUtils::MakeMaker 0 7.24
------------------------------
ENVIRONMENT AND OTHER CONTEXT
------------------------------
Environment variables:
LC_ALL = de_DE.ISO8859-1
PATH = /usr/local/bin:/usr/bin:/bin:/usr/local/sbin:/usr/sbin:/sbin:/home/cpansand/bin/freebsd9.3:/home/cpansand/bin/sh:/home/cpansand/bin:/usr/games:/home/cpansand/devel:/usr/home/eserte/src/srezic-misc/scripts
PERL5LIB = /home/eserte/.cpan/build/2017111200/HollyGame-0-10/blib/arch:/home/eserte/.cpan/build/2017111200/HollyGame-0-10/blib/lib
PERL5OPT =
PERL5_CPANPLUS_IS_RUNNING = 36703
PERL5_CPAN_IS_RUNNING = 36703
PERL5_CPAN_IS_RUNNING_IN_RECURSION = 36660,36703
PERLDOC = -MPod::Perldoc::ToTextOverstrike
PERL_BATCH = yes
PERL_CANARY_STABILITY_NOPROMPT = 1
PERL_CPAN_REPORTER_CONFIG = /var/tmp/cpansmoker-1023/2017111200/cpanreporter_000_config.ini
PERL_EXTUTILS_AUTOINSTALL = --defaultdeps
SHELL = /usr/local/bin/zsh
TERM = screen
TMPDIR = /var/tmp/cpansmoker-1023/2017111200
Perl special variables (and OS-specific diagnostics, for MSWin32):
$^X = /usr/perl5.14.4/bin/perl
$UID/$EUID = 1023 / 1023
$GID = 1023 1023
$EGID = 1023 1023
Perl module toolchain versions installed:
Module Have
------------------- --------
CPAN 2.16
CPAN::Meta 2.150010
Cwd 3.62
ExtUtils::CBuilder 0.280226
ExtUtils::Command 7.24
ExtUtils::Install 2.12
ExtUtils::MakeMaker 7.24
ExtUtils::Manifest 1.70
ExtUtils::ParseXS 3.35
File::Spec 3.62
JSON 2.94
JSON::PP 2.94
Module::Build 0.4224
Module::Signature 0.81
Parse::CPAN::Meta 2.150010
Test::Harness 3.39
Test::More 1.302106
YAML 1.24
YAML::Syck 1.30
version 0.9918
--
Summary of my perl5 (revision 5 version 14 subversion 4) configuration:
Platform:
osname=freebsd, osvers=9.2-release-p4, archname=amd64-freebsd
uname='freebsd cvrsnica-freebsd-92 9.2-release-p4 freebsd 9.2-release-p4 #0: tue apr 8 18:08:22 utc 2014 root@amd64-builder.daemonology.net:usrobjusrsrcsysgeneric amd64 '
config_args='-ds -e -Dprefix=/usr/perl5.14.4'
hint=recommended, useposix=true, d_sigaction=define
useithreads=undef, usemultiplicity=undef
useperlio=define, d_sfio=undef, uselargefiles=define, usesocks=undef
use64bitint=define, use64bitall=define, uselongdouble=undef
usemymalloc=n, bincompat5005=undef
Compiler:
cc='cc', ccflags ='-DHAS_FPSETMASK -DHAS_FLOATINGPOINT_H -fno-strict-aliasing -pipe -fstack-protector -I/usr/local/include',
optimize='-O',
cppflags='-DHAS_FPSETMASK -DHAS_FLOATINGPOINT_H -fno-strict-aliasing -pipe -fstack-protector -I/usr/local/include'
ccversion='', gccversion='4.2.1 20070831 patched [FreeBSD]', gccosandvers=''
intsize=4, longsize=8, ptrsize=8, doublesize=8, byteorder=12345678
d_longlong=define, longlongsize=8, d_longdbl=define, longdblsize=16
ivtype='long', ivsize=8, nvtype='double', nvsize=8, Off_t='off_t', lseeksize=8
alignbytes=8, prototype=define
Linker and Libraries:
ld='cc', ldflags ='-Wl,-E -fstack-protector -L/usr/local/lib'
libpth=/usr/lib /usr/local/lib
libs=-lgdbm -lm -lcrypt -lutil -lc
perllibs=-lm -lcrypt -lutil -lc
libc=, so=so, useshrplib=false, libperl=libperl.a
gnulibc_version=''
Dynamic Linking:
dlsrc=dl_dlopen.xs, dlext=so, d_dlsymun=undef, ccdlflags=' '
cccdlflags='-DPIC -fPIC', lddlflags='-shared -L/usr/local/lib -fstack-protector'
Characteristics of this binary (from libperl):
Compile-time options: PERL_DONT_CREATE_GVSV PERL_MALLOC_WRAP
PERL_PRESERVE_IVUV USE_64_BIT_ALL USE_64_BIT_INT
USE_LARGE_FILES USE_PERLIO USE_PERL_ATOF
Built under freebsd
Compiled at May 16 2014 00:20:44
%ENV:
PERL5LIB="/home/eserte/.cpan/build/2017111200/HollyGame-0-10/blib/arch:/home/eserte/.cpan/build/2017111200/HollyGame-0-10/blib/lib"
PERL5OPT=""
PERL5_CPANPLUS_IS_RUNNING="36703"
PERL5_CPAN_IS_RUNNING="36703"
PERL5_CPAN_IS_RUNNING_IN_RECURSION="36660,36703"
PERLDOC="-MPod::Perldoc::ToTextOverstrike"
PERL_BATCH="yes"
PERL_CANARY_STABILITY_NOPROMPT="1"
PERL_CPAN_REPORTER_CONFIG="/var/tmp/cpansmoker-1023/2017111200/cpanreporter_000_config.ini"
PERL_EXTUTILS_AUTOINSTALL="--defaultdeps"
@INC:
/home/eserte/.cpan/build/2017111200/HollyGame-0-10/blib/arch
/home/eserte/.cpan/build/2017111200/HollyGame-0-10/blib/lib
/usr/perl5.14.4/lib/site_perl/5.14.4/amd64-freebsd
/usr/perl5.14.4/lib/site_perl/5.14.4
/usr/perl5.14.4/lib/5.14.4/amd64-freebsd
/usr/perl5.14.4/lib/5.14.4
.