Back
From: metabase:user:30f4dfbe-2aae-11df-837a-5e0a49663a4f
Subject: UNKNOWN Catalyst-DispatchType-Regex-5.90032 v5.10.0 NetBSD
Date: 2013-04-20T02:24:59Z
This distribution has been tested as part of the CPAN Testers
project, supporting the Perl programming language. See
http://wiki.cpantesters.org/ for more information or email
questions to cpan-testers-discuss@perl.org
--
Dear Mark Grimes,
This is a computer-generated report for Catalyst-DispatchType-Regex-5.90032
on perl 5.10.0, created by CPAN-Reporter-1.2010.
Thank you for uploading your work to CPAN. However, attempting to
test your distribution gave an inconclusive result.
This could be because your distribution had an error during the make/build
stage, did not define tests, tests could not be found, because your tests were
interrupted before they finished, or because the results of the tests could not
be parsed. You may wish to consult the CPAN Testers Wiki:
http://wiki.cpantesters.org/wiki/CPANAuthorNotes
Sections of this report:
* Tester comments
* Program output
* Prerequisites
* Environment and other context
------------------------------
TESTER COMMENTS
------------------------------
Additional comments from tester:
this report is from an automated smoke testing program
and was not reviewed by a human for accuracy
------------------------------
PROGRAM OUTPUT
------------------------------
Output from './Build test':
Use of uninitialized value $Test::Harness::Switches in length at /home/njh/.cpan/build/Module-Build-0.4004-ClPbkQ/blib/lib/Module/Build/Base.pm line 2768.
t/01use.t .............................................. skipped: Test require Catalyst::Runtime 5.90030
t/aggregate/live_component_controller_action_regexp.t .. skipped: Test require Catalyst::Runtime 5.90030
t/aggregate/live_priorities.t .......................... skipped: Test require Catalyst::Runtime 5.90030
t/aggregate/unit_core_uri_for_action.t ................. skipped: Test require Catalyst::Runtime 5.90030
Files=4, Tests=0, 1 wallclock secs ( 0.06 usr 0.01 sys + 0.27 cusr 0.08 csys = 0.42 CPU)
Result: NOTESTS
------------------------------
PREREQUISITES
------------------------------
Prerequisite modules loaded:
requires:
Module Need Have
-------------------- ------ ------
Moose 0 2.0604
Text::Balanced 0 2.02
Text::SimpleTable 0 2.03
build_requires:
Module Need Have
-------------------- ------ ------
Data::Dumper 0 2.139
MRO::Compat 0 0.12
namespace::autoclean 0 0.13
Scalar::Util 0 1.27
Test::More 0 0.98
configure_requires:
Module Need Have
-------------------- ------ ------
Module::Build 0.4004 0.4004
------------------------------
ENVIRONMENT AND OTHER CONTEXT
------------------------------
Environment variables:
AUTOMATED_TESTING = 1
LD_LIBRARY_PATH = :/usr/local/lib:/usr/lib/qt-3.3/lib:/usr/X11R6/lib
PATH = /home/njh/perl5/perlbrew/bin:/home/njh/perl5/perlbrew/perls/perl-5.10.0/bin:/home/njh/perl5/perlbrew/bin:/usr/bin:/bin:/usr/pkg/bin:/usr/local/bin:/home/njh/bin:/home/njh/linux/bin:/usr/pkg/lib/perl5/site_perl/bin
PERL5LIB = /home/njh/.cpan/build/Text-SimpleTable-2.03-kDaK1E/blib/arch:/home/njh/.cpan/build/Text-SimpleTable-2.03-kDaK1E/blib/lib:/home/njh/.cpan/build/Module-Build-0.4004-ClPbkQ/blib/arch:/home/njh/.cpan/build/Module-Build-0.4004-ClPbkQ/blib/lib:/home/njh/.cpan/build/namespace-autoclean-0.13-QLpJNU/blib/arch:/home/njh/.cpan/build/namespace-autoclean-0.13-QLpJNU/blib/lib
PERL5OPT =
PERL5_CPANPLUS_IS_RUNNING = 10310
PERL5_CPAN_IS_RUNNING = 10310
PERL5_MINISMOKEBOX = 0.54
PERLBREW_BASHRC_VERSION = 0.54
PERLBREW_HOME = /home/njh/.perlbrew
PERLBREW_MANPATH = /home/njh/perl5/perlbrew/perls/perl-5.10.0/man
PERLBREW_PATH = /home/njh/perl5/perlbrew/bin:/home/njh/perl5/perlbrew/perls/perl-5.10.0/bin
PERLBREW_PERL = perl-5.10.0
PERLBREW_ROOT = /home/njh/perl5/perlbrew
PERLBREW_VERSION = 0.54
PERL_EXTUTILS_AUTOINSTALL = --defaultdeps
PERL_MM_USE_DEFAULT = 1
SHELL = /usr/pkg/bin/bash
TERM = vt220
Perl special variables (and OS-specific diagnostics, for MSWin32):
$^X = /home/njh/perl5/perlbrew/perls/perl-5.10.0/bin/perl
$UID/$EUID = 500 / 500
$GID = 100 0 100
$EGID = 100 0 100
Perl module toolchain versions installed:
Module Have
------------------- --------
CPAN 1.9800
CPAN::Meta 2.120921
Cwd 3.40
ExtUtils::CBuilder 0.280205
ExtUtils::Command 1.17
ExtUtils::Install 1.54
ExtUtils::MakeMaker 6.64
ExtUtils::Manifest 1.61
ExtUtils::ParseXS 3.18
File::Spec 3.40
JSON 2.53
JSON::PP 2.27200
Module::Build 0.4004
Module::Signature 0.70
Parse::CPAN::Meta 1.4404
Test::Harness 3.26
Test::More 0.98
YAML 0.84
YAML::Syck 1.25
version 0.9901
--
Summary of my perl5 (revision 5 version 10 subversion 0) configuration:
Platform:
osname=netbsd, osvers=4.0, archname=i386-netbsd
uname='netbsd philips.bandsman.co.uk 4.0 netbsd 4.0 (generic) #0: sun dec 16 00:20:10 pst 2007 builds@wb34:homebuildsabnetbsd-4-0-releasei386200712160005z-objhomebuildsabnetbsd-4-0-releasesrcsysarchi386compilegeneric i386 '
config_args='-de -Dprefix=/home/njh/perl5/perlbrew/perls/perl-5.10.0'
hint=recommended, useposix=true, d_sigaction=define
useithreads=undef, usemultiplicity=undef
useperlio=define, d_sfio=undef, uselargefiles=define, usesocks=undef
use64bitint=undef, use64bitall=undef, uselongdouble=undef
usemymalloc=n, bincompat5005=undef
Compiler:
cc='cc', ccflags ='-fno-strict-aliasing -pipe -I/usr/pkg/include -I/usr/local/include',
optimize='-O',
cppflags='-fno-strict-aliasing -pipe -I/usr/pkg/include -I/usr/local/include'
ccversion='', gccversion='4.1.2 20061021 prerelease (NetBSD nb3 20061125)', gccosandvers=''
intsize=4, longsize=4, ptrsize=4, doublesize=8, byteorder=1234
d_longlong=define, longlongsize=8, d_longdbl=define, longdblsize=12
ivtype='long', ivsize=4, nvtype='double', nvsize=8, Off_t='off_t', lseeksize=8
alignbytes=4, prototype=define
Linker and Libraries:
ld='cc', ldflags =' -Wl,-rpath,/usr/pkg/lib -Wl,-rpath,/usr/local/lib -L/usr/pkg/lib -L/usr/local/lib'
libpth=/usr/pkg/lib /usr/local/lib /lib /usr/lib
libs=-lgdbm -lm -lcrypt -lutil -lc -lposix
perllibs=-lm -lcrypt -lutil -lc -lposix
libc=/lib/libc.so, so=so, useshrplib=false, libperl=libperl.a
gnulibc_version=''
Dynamic Linking:
dlsrc=dl_dlopen.xs, dlext=so, d_dlsymun=undef, ccdlflags='-Wl,-E '
cccdlflags='-DPIC -fPIC ', lddlflags='--whole-archive -shared -L/usr/pkg/lib -L/usr/local/lib'
Characteristics of this binary (from libperl):
Compile-time options: PERL_DONT_CREATE_GVSV PERL_MALLOC_WRAP
USE_LARGE_FILES USE_PERLIO
Built under netbsd
Compiled at Jul 15 2011 23:01:57
%ENV:
PERL5LIB="/home/njh/.cpan/build/Text-SimpleTable-2.03-kDaK1E/blib/arch:/home/njh/.cpan/build/Text-SimpleTable-2.03-kDaK1E/blib/lib:/home/njh/.cpan/build/Module-Build-0.4004-ClPbkQ/blib/arch:/home/njh/.cpan/build/Module-Build-0.4004-ClPbkQ/blib/lib:/home/njh/.cpan/build/namespace-autoclean-0.13-QLpJNU/blib/arch:/home/njh/.cpan/build/namespace-autoclean-0.13-QLpJNU/blib/lib"
PERL5OPT=""
PERL5_CPANPLUS_IS_RUNNING="10310"
PERL5_CPAN_IS_RUNNING="10310"
PERL5_MINISMOKEBOX="0.54"
PERLBREW_BASHRC_VERSION="0.54"
PERLBREW_HOME="/home/njh/.perlbrew"
PERLBREW_MANPATH="/home/njh/perl5/perlbrew/perls/perl-5.10.0/man"
PERLBREW_PATH="/home/njh/perl5/perlbrew/bin:/home/njh/perl5/perlbrew/perls/perl-5.10.0/bin"
PERLBREW_PERL="perl-5.10.0"
PERLBREW_ROOT="/home/njh/perl5/perlbrew"
PERLBREW_VERSION="0.54"
PERL_EXTUTILS_AUTOINSTALL="--defaultdeps"
PERL_MM_USE_DEFAULT="1"
@INC:
/home/njh/.cpan/build/Text-SimpleTable-2.03-kDaK1E/blib/arch
/home/njh/.cpan/build/Text-SimpleTable-2.03-kDaK1E/blib/lib
/home/njh/.cpan/build/Module-Build-0.4004-ClPbkQ/blib/arch
/home/njh/.cpan/build/Module-Build-0.4004-ClPbkQ/blib/lib
/home/njh/.cpan/build/namespace-autoclean-0.13-QLpJNU/blib/arch
/home/njh/.cpan/build/namespace-autoclean-0.13-QLpJNU/blib/lib
/home/njh/perl5/perlbrew/perls/perl-5.10.0/lib/5.10.0/i386-netbsd
/home/njh/perl5/perlbrew/perls/perl-5.10.0/lib/5.10.0
/home/njh/perl5/perlbrew/perls/perl-5.10.0/lib/site_perl/5.10.0/i386-netbsd
/home/njh/perl5/perlbrew/perls/perl-5.10.0/lib/site_perl/5.10.0
.