DBIx-QueryLog v0.42 Perl 5 v5.28.0 x86_64-linux
- Status
- Pass
- From
- Slaven Rezić (SREZIC)
- Dist
-
DBIx-QueryLog v0.42
- Platform
- Perl 5 v5.28.0 x86_64-linux
- Date
- 2019-02-01 17:55:02
- ID
- 7fddfc54-264a-11e9-9bf3-b6b055c6cc71
This distribution has been tested as part of the CPAN Testers
project, supporting the Perl programming language. See
http://wiki.cpantesters.org/ for more information or email
questions to cpan-testers-discuss@perl.org
--
Dear Yuji Shimada,
This is a computer-generated report for DBIx-QueryLog-0.42
on perl 5.28.0, created by CPAN-Reporter-1.2018.
Thank you for uploading your work to CPAN. Congratulations!
All tests were successful.
Sections of this report:
* Tester comments
* Program output
* Prerequisites
* Environment and other context
------------------------------
TESTER COMMENTS
------------------------------
Additional comments from tester:
none provided
------------------------------
PROGRAM OUTPUT
------------------------------
Output from './Build test':
t/00_compile.t ................ ok
t/01_accessors.t .............. ok
t/10_simple.t ................. ok
t/11_bind.t ................... ok
t/12_skip_bind.t .............. ok
t/13_threshold.t .............. ok
t/14_probability.t ............ ok
t/15_selectrow_array.t ........ ok
t/16_multi_line.t ............. ok
t/18_bind_param.t ............. ok
t/20_localizetion.t ........... ok
t/21_guard.t .................. ok
t/22_ignore_trace.t ........... ok
t/23_do_explain.t ............. ok
t/30_logger.t ................. ok
t/31_output.t ................. ok
t/32_color.t .................. ok
t/33_useqq.t .................. ok
t/34_compact.t ................ ok
t/35_useqq_and_compact.t ...... ok
t/36_show_data_srouce.t ....... ok
t/90_alias.t .................. ok
t/99_regression_sqlite_148.t .. ok
t/mysql/01_simple.t ........... skipped: could not find mysqld, please set appropriate PATH
t/mysql/02_bind.t ............. skipped: could not find mysqld, please set appropriate PATH
t/mysql/10_do.t ............... skipped: could not find mysqld, please set appropriate PATH
t/mysql/11_do_dind.t .......... skipped: could not find mysqld, please set appropriate PATH
t/mysql/12_do_skip_bind.t ..... skipped: could not find mysqld, please set appropriate PATH
t/mysql/13_do_probability.t ... skipped: could not find mysqld, please set appropriate PATH
t/mysql/14_do_logger.t ........ skipped: could not find mysqld, please set appropriate PATH
t/mysql/15_selectrow_array.t .. skipped: could not find mysqld, please set appropriate PATH
t/mysql/16_multi_line.t ....... skipped: could not find mysqld, please set appropriate PATH
t/mysql/17_limit.t ............ skipped: could not find mysqld, please set appropriate PATH
t/mysql/18_bind_param.t ....... skipped: could not find mysqld, please set appropriate PATH
t/mysql/19_bind_with_type.t ... skipped: could not find mysqld, please set appropriate PATH
t/mysql/20_reuse_sql_type.t ... skipped: could not find mysqld, please set appropriate PATH
t/mysql/21_do_explain.t ....... skipped: could not find mysqld, please set appropriate PATH
t/pg/01_simple.t .............. skipped: could not find postmaster, please set appropriate PATH or POSTGRES_HOME
t/pg/02_bind.t ................ skipped: could not find postmaster, please set appropriate PATH or POSTGRES_HOME
t/pg/10_do.t .................. skipped: could not find postmaster, please set appropriate PATH or POSTGRES_HOME
t/pg/11_do_dind.t ............. skipped: could not find postmaster, please set appropriate PATH or POSTGRES_HOME
t/pg/12_do_skip_bind.t ........ skipped: could not find postmaster, please set appropriate PATH or POSTGRES_HOME
t/pg/13_do_probability.t ...... skipped: could not find postmaster, please set appropriate PATH or POSTGRES_HOME
t/pg/14_do_logger.t ........... skipped: could not find postmaster, please set appropriate PATH or POSTGRES_HOME
t/pg/15_selectrow_array.t ..... skipped: could not find postmaster, please set appropriate PATH or POSTGRES_HOME
t/pg/16_multi_line.t .......... skipped: could not find postmaster, please set appropriate PATH or POSTGRES_HOME
t/pg/17_limit.t ............... skipped: could not find postmaster, please set appropriate PATH or POSTGRES_HOME
t/pg/18_bind_param.t .......... skipped: could not find postmaster, please set appropriate PATH or POSTGRES_HOME
t/pg/19_bind_with_type.t ...... skipped: could not find postmaster, please set appropriate PATH or POSTGRES_HOME
t/pg/20_reuse_sql_type.t ...... skipped: could not find postmaster, please set appropriate PATH or POSTGRES_HOME
t/pg/21_do_explain.t .......... skipped: could not find postmaster, please set appropriate PATH or POSTGRES_HOME
All tests successful.
Files=51, Tests=79, 6 wallclock secs ( 0.08 usr 0.22 sys + 5.00 cusr 1.28 csys = 6.58 CPU)
Result: PASS
------------------------------
PREREQUISITES
------------------------------
Prerequisite modules loaded:
requires:
Module Need Have
------------------- -------- --------
Data::Dumper 0 2.173
DBI 0 1.642
perl 5.008001 5.028000
Term::ANSIColor 0 4.06
Text::ASCIITable 0 0.22
Time::HiRes 0 1.9759
build_requires:
Module Need Have
------------------- -------- --------
ExtUtils::MakeMaker 6.59 7.34
Test::More 0.96 1.302140
Test::Requires 0 0.10
configure_requires:
Module Need Have
------------------- -------- --------
Module::Build::Tiny 0.035 0.039
------------------------------
ENVIRONMENT AND OTHER CONTEXT
------------------------------
Environment variables:
LANG = en_US.UTF-8
PATH = /usr/local/bin:/usr/bin:/bin:/usr/local/sbin:/usr/sbin:/sbin:/home/cpansand/bin/linux-gnu:/home/cpansand/bin/sh:/home/cpansand/bin:/usr/games:/home/cpansand/devel:/home/eserte/src/srezic-misc/scripts
PERL5LIB = /home/cpansand/.cpan/build/2019020117/Getopt-Long-Less-0.090-7/blib/arch:/home/cpansand/.cpan/build/2019020117/Getopt-Long-Less-0.090-7/blib/lib
PERL5OPT =
PERL5_CPANPLUS_IS_RUNNING = 31692
PERL5_CPAN_IS_RUNNING = 31692
PERL5_CPAN_IS_RUNNING_IN_RECURSION = 29078,31692
PERLDOC = -MPod::Perldoc::ToTextOverstrike
PERL_BATCH = yes
PERL_CANARY_STABILITY_NOPROMPT = 1
PERL_CPAN_REPORTER_CONFIG = /var/tmp/cpansmoker-1023/2019020117/cpanreporter_000_config.ini
PERL_EXTUTILS_AUTOINSTALL = --defaultdeps
PERL_USE_UNSAFE_INC = 1
SHELL = /bin/zsh
TERM = screen
TMPDIR = /var/tmp/cpansmoker-1023/2019020117
Perl special variables (and OS-specific diagnostics, for MSWin32):
$^X = /opt/perl-5.28.0/bin/perl
$UID/$EUID = 1023 / 1023
$GID = 1023 1023
$EGID = 1023 1023
Perl module toolchain versions installed:
Module Have
------------------- --------
CPAN 2.22
CPAN::Meta 2.150010
Cwd 3.75
ExtUtils::CBuilder 0.280230
ExtUtils::Command 7.34
ExtUtils::Install 2.14
ExtUtils::MakeMaker 7.34
ExtUtils::Manifest 1.70
ExtUtils::ParseXS 3.39
File::Spec 3.75
JSON 4.01
JSON::PP 2.97001
Module::Build 0.4224
Module::Signature 0.83
Parse::CPAN::Meta 2.150010
Test::Harness 3.42
Test::More 1.302140
YAML 1.26
YAML::Syck 1.31
version 0.9923
--
Summary of my perl5 (revision 5 version 28 subversion 0) configuration:
Platform:
osname=linux
osvers=2.6.32-696.3.1.el6.x86_64
archname=x86_64-linux
uname='linux centos6 2.6.32-696.3.1.el6.x86_64 #1 smp tue may 30 19:52:55 utc 2017 x86_64 x86_64 x86_64 gnulinux '
config_args='-ds -e -Dprefix=/opt/perl-5.28.0 -Dcf_email=srezic@cpan.org'
hint=recommended
useposix=true
d_sigaction=define
useithreads=undef
usemultiplicity=undef
use64bitint=define
use64bitall=define
uselongdouble=undef
usemymalloc=n
default_inc_excludes_dot=define
bincompat5005=undef
Compiler:
cc='cc'
ccflags ='-fwrapv -fno-strict-aliasing -pipe -fstack-protector -I/usr/local/include -D_LARGEFILE_SOURCE -D_FILE_OFFSET_BITS=64 -D_FORTIFY_SOURCE=2'
optimize='-O2'
cppflags='-fwrapv -fno-strict-aliasing -pipe -fstack-protector -I/usr/local/include'
ccversion=''
gccversion='4.4.7 20120313 (Red Hat 4.4.7-18)'
gccosandvers=''
intsize=4
longsize=8
ptrsize=8
doublesize=8
byteorder=12345678
doublekind=3
d_longlong=define
longlongsize=8
d_longdbl=define
longdblsize=16
longdblkind=3
ivtype='long'
ivsize=8
nvtype='double'
nvsize=8
Off_t='off_t'
lseeksize=8
alignbytes=8
prototype=define
Linker and Libraries:
ld='cc'
ldflags =' -fstack-protector -L/usr/local/lib'
libpth=/usr/local/lib /usr/lib /lib/../lib64 /usr/lib/../lib64 /lib /lib64 /usr/lib64 /usr/local/lib64
libs=-lpthread -lnsl -lgdbm -ldb -ldl -lm -lcrypt -lutil -lc
perllibs=-lpthread -lnsl -ldl -lm -lcrypt -lutil -lc
libc=libc-2.12.so
so=so
useshrplib=false
libperl=libperl.a
gnulibc_version='2.12'
Dynamic Linking:
dlsrc=dl_dlopen.xs
dlext=so
d_dlsymun=undef
ccdlflags='-Wl,-E'
cccdlflags='-fPIC'
lddlflags='-shared -O2 -L/usr/local/lib -fstack-protector'
Characteristics of this binary (from libperl):
Compile-time options:
HAS_TIMES
PERLIO_LAYERS
PERL_COPY_ON_WRITE
PERL_DONT_CREATE_GVSV
PERL_MALLOC_WRAP
PERL_OP_PARENT
PERL_PRESERVE_IVUV
USE_64_BIT_ALL
USE_64_BIT_INT
USE_LARGE_FILES
USE_LOCALE
USE_LOCALE_COLLATE
USE_LOCALE_CTYPE
USE_LOCALE_NUMERIC
USE_LOCALE_TIME
USE_PERLIO
USE_PERL_ATOF
Built under linux
Compiled at Jun 23 2018 06:41:58
%ENV:
PERL5LIB="/home/cpansand/.cpan/build/2019020117/Getopt-Long-Less-0.090-7/blib/arch:/home/cpansand/.cpan/build/2019020117/Getopt-Long-Less-0.090-7/blib/lib"
PERL5OPT=""
PERL5_CPANPLUS_IS_RUNNING="31692"
PERL5_CPAN_IS_RUNNING="31692"
PERL5_CPAN_IS_RUNNING_IN_RECURSION="29078,31692"
PERLDOC="-MPod::Perldoc::ToTextOverstrike"
PERL_BATCH="yes"
PERL_CANARY_STABILITY_NOPROMPT="1"
PERL_CPAN_REPORTER_CONFIG="/var/tmp/cpansmoker-1023/2019020117/cpanreporter_000_config.ini"
PERL_EXTUTILS_AUTOINSTALL="--defaultdeps"
PERL_USE_UNSAFE_INC="1"
@INC:
/home/cpansand/.cpan/build/2019020117/Getopt-Long-Less-0.090-7/blib/arch
/home/cpansand/.cpan/build/2019020117/Getopt-Long-Less-0.090-7/blib/lib
/opt/perl-5.28.0/lib/site_perl/5.28.0/x86_64-linux
/opt/perl-5.28.0/lib/site_perl/5.28.0
/opt/perl-5.28.0/lib/5.28.0/x86_64-linux
/opt/perl-5.28.0/lib/5.28.0
.