Back
From: metabase:user:314402c4-2aae-11df-837a-5e0a49663a4f
Subject: PASS Git-PurePerl-Walker-0.003001 v5.16.3 GNU/Linux
Date: 2014-08-16T01:27:35Z
This distribution has been tested as part of the CPAN Testers
project, supporting the Perl programming language. See
http://wiki.cpantesters.org/ for more information or email
questions to cpan-testers-discuss@perl.org
--
Dear Kent Fredric,
This is a computer-generated report for Git-PurePerl-Walker-0.003001
on perl 5.16.3, created by CPAN-Reporter-1.2011.
Thank you for uploading your work to CPAN. Congratulations!
All tests were successful.
Sections of this report:
* Tester comments
* Program output
* Prerequisites
* Environment and other context
------------------------------
TESTER COMMENTS
------------------------------
Additional comments from tester:
none provided
------------------------------
PROGRAM OUTPUT
------------------------------
Output from '/usr/bin/make test':
PERL_DL_NONLAZY=1 /bbbike/perl-5.16.3/bin/perl5.16.3 "-MExtUtils::Command::MM" "-MTest::Harness" "-e" "undef *Test::Harness::Switches; test_harness(0, 'blib/lib', 'blib/arch')" t/*.t t/00-compile/*.t
t/00-compile/lib_Git_PurePerl_Walker_Method_FirstParent_FromHEAD_pm.t .. ok
t/00-compile/lib_Git_PurePerl_Walker_Method_FirstParent_pm.t ........... ok
t/00-compile/lib_Git_PurePerl_Walker_OnCommit_CallBack_pm.t ............ ok
t/00-compile/lib_Git_PurePerl_Walker_OnCommit_List_pm.t ................ ok
t/00-compile/lib_Git_PurePerl_Walker_pm.t .............................. ok
t/00-compile/lib_Git_PurePerl_Walker_Role_HasRepo_pm.t ................. ok
t/00-compile/lib_Git_PurePerl_Walker_Role_Method_pm.t .................. ok
t/00-compile/lib_Git_PurePerl_Walker_Role_OnCommit_pm.t ................ ok
t/00-compile/lib_Git_PurePerl_Walker_Types_pm.t ........................ ok
#
# Versions for all modules listed in MYMETA.json (including optional ones):
#
# === Configure Requires ===
#
# Module Want Have
# ------------------- ---- ----
# ExtUtils::MakeMaker any 6.98
#
# === Configure Recommends ===
#
# Module Want Have
# ------------------- ---- ----
# ExtUtils::MakeMaker 6.98 6.98
#
# === Build Requires ===
#
# Module Want Have
# ------------------- ---- ----
# ExtUtils::MakeMaker any 6.98
#
# === Test Requires ===
#
# Module Want Have
# ------------------- ---- --------
# Archive::Tar any 1.98
# ExtUtils::MakeMaker any 6.98
# File::Spec any 3.47
# File::Temp any 0.2304
# File::pushd any 1.009
# FindBin any 1.51
# Package::Stash any 0.36
# Scalar::Util any 1.39
# Test::More 0.89 1.001003
# lib any 0.63
#
# === Test Recommends ===
#
# Module Want Have
# ------------------- -------- --------
# CPAN::Meta 2.120900 2.142060
# ExtUtils::MakeMaker 6.98 6.98
# Test::More 1.001003 1.001003
#
# === Runtime Requires ===
#
# Module Want Have
# -------------------- ---- ------
# Carp any 1.3301
# Class::Load any 0.21
# Git::PurePerl any 0.50
# Moose any 2.1211
# Moose::Role any 2.1211
# MooseX::Clone any 0.05
# MooseX::Types any 0.44
# MooseX::Types::Moose any 0.44
# Path::Class any 0.33
# namespace::autoclean any 0.19
# strict any 1.07
# utf8 any 1.09
# warnings any 1.13
#
t/00-report-prereqs.t .................................................. ok
t/01_test.t ............................................................ ok
t/0200_firstparent.t ................................................... ok
t/0201_firstparent_fromhead.t .......................................... ok
t/03_callback.t ........................................................ ok
t/04_list.t ............................................................ ok
All tests successful.
Files=15, Tests=36, 6 wallclock secs ( 0.03 usr 0.06 sys + 4.66 cusr 0.82 csys = 5.57 CPU)
Result: PASS
------------------------------
PREREQUISITES
------------------------------
Prerequisite modules loaded:
requires:
Module Need Have
-------------------- ---- --------
Carp 0 1.3301
Class::Load 0 0.21
Git::PurePerl 0 0.50
Moose 0 2.1211
Moose::Role 0 2.1211
MooseX::Clone 0 0.05
MooseX::Types 0 0.44
MooseX::Types::Moose 0 0.44
namespace::autoclean 0 0.19
Path::Class 0 0.33
strict 0 1.07
utf8 0 1.09
warnings 0 1.13
build_requires:
Module Need Have
-------------------- ---- --------
Archive::Tar 0 1.98
ExtUtils::MakeMaker 0 6.98
File::pushd 0 1.009
File::Spec 0 3.47
File::Temp 0 0.2304
FindBin 0 1.51
lib 0 0.63
Package::Stash 0 0.36
Scalar::Util 0 1.39
Test::More 0.89 1.001003
configure_requires:
Module Need Have
-------------------- ---- --------
ExtUtils::MakeMaker 0 6.98
------------------------------
ENVIRONMENT AND OTHER CONTEXT
------------------------------
Environment variables:
DBIC_NO_WARN_BAD_PERL = 1
LANG = C
LC_ALL = de_DE.UTF-8
PATH = /usr/local/bin:/usr/bin:/bin:/usr/local/sbin:/usr/sbin:/sbin:/home/eserte/bin/linux-gnu:/home/eserte/bin/sh:/home/eserte/bin:/usr/games:/home/eserte/devel:/home/eserte/src/srezic-misc/scripts
PERL5LIB =
PERL5OPT =
PERL5_CPANPLUS_IS_RUNNING = 27540
PERL5_CPAN_IS_RUNNING = 27540
PERL5_CPAN_IS_RUNNING_IN_RECURSION = 23549,27540
PERLDOC = -MPod::Perldoc::ToTextOverstrike
PERL_BATCH = yes
PERL_CPAN_REPORTER_CONFIG = /var/tmp/cpansmoker-1001/6yazk1UNea_config.ini
PERL_EXTUTILS_AUTOINSTALL = --defaultdeps
PERL_HTML_DISPLAY_CLASS = HTML::Display::Mozilla
PERL_PARALLEL_SMOKER = yes
SHELL = /bin/zsh
TERM = screen
TMPDIR = /var/tmp/cpansmoker-1001
Perl special variables (and OS-specific diagnostics, for MSWin32):
$^X = /bbbike/perl-5.16.3/bin/perl5.16.3
$UID/$EUID = 1001 / 1001
$GID = 1001 109 1001
$EGID = 1001 109 1001
Perl module toolchain versions installed:
Module Have
------------------- --------
CPAN 1.9800
CPAN::Meta 2.142060
Cwd 3.47
ExtUtils::CBuilder 0.280206
ExtUtils::Command 1.17
ExtUtils::Install 1.68
ExtUtils::MakeMaker 6.98
ExtUtils::Manifest 1.65
ExtUtils::ParseXS 3.24
File::Spec 3.47
JSON 2.90
JSON::PP 2.27203
Module::Build 0.4206
Module::Signature 0.73
Parse::CPAN::Meta 1.4414
Test::Harness 3.32
Test::More 1.001003
YAML 1.01
YAML::Syck 1.27
version 0.9908
--
Summary of my perl5 (revision 5 version 16 subversion 3) configuration:
Platform:
osname=linux, osvers=3.2.0-4-amd64, archname=x86_64-linux
uname='linux eserte 3.2.0-4-amd64 #1 smp debian 3.2.57-3 x86_64 gnulinux '
config_args='-ds -e -Dprefix=/opt/perl-5.16.3'
hint=recommended, useposix=true, d_sigaction=define
useithreads=undef, usemultiplicity=undef
useperlio=define, d_sfio=undef, uselargefiles=define, usesocks=undef
use64bitint=define, use64bitall=define, uselongdouble=undef
usemymalloc=n, bincompat5005=undef
Compiler:
cc='cc', ccflags ='-fno-strict-aliasing -pipe -fstack-protector -I/usr/local/include -D_LARGEFILE_SOURCE -D_FILE_OFFSET_BITS=64',
optimize='-O2',
cppflags='-fno-strict-aliasing -pipe -fstack-protector -I/usr/local/include'
ccversion='', gccversion='4.7.2', gccosandvers=''
intsize=4, longsize=8, ptrsize=8, doublesize=8, byteorder=12345678
d_longlong=define, longlongsize=8, d_longdbl=define, longdblsize=16
ivtype='long', ivsize=8, nvtype='double', nvsize=8, Off_t='off_t', lseeksize=8
alignbytes=8, prototype=define
Linker and Libraries:
ld='cc', ldflags =' -fstack-protector -L/usr/local/lib'
libpth=/usr/local/lib /lib/x86_64-linux-gnu /lib/../lib /usr/lib/x86_64-linux-gnu /usr/lib/../lib /lib /usr/lib
libs=-lnsl -ldb -ldl -lm -lcrypt -lutil -lc
perllibs=-lnsl -ldl -lm -lcrypt -lutil -lc
libc=, so=so, useshrplib=false, libperl=libperl.a
gnulibc_version='2.13'
Dynamic Linking:
dlsrc=dl_dlopen.xs, dlext=so, d_dlsymun=undef, ccdlflags='-Wl,-E'
cccdlflags='-fPIC', lddlflags='-shared -O2 -L/usr/local/lib -fstack-protector'
Characteristics of this binary (from libperl):
Compile-time options: HAS_TIMES PERLIO_LAYERS PERL_DONT_CREATE_GVSV
PERL_MALLOC_WRAP PERL_PRESERVE_IVUV USE_64_BIT_ALL
USE_64_BIT_INT USE_LARGE_FILES USE_LOCALE
USE_LOCALE_COLLATE USE_LOCALE_CTYPE
USE_LOCALE_NUMERIC USE_PERLIO USE_PERL_ATOF
Built under linux
Compiled at May 15 2014 11:12:25
%ENV:
PERL5LIB=""
PERL5OPT=""
PERL5_CPANPLUS_IS_RUNNING="27540"
PERL5_CPAN_IS_RUNNING="27540"
PERL5_CPAN_IS_RUNNING_IN_RECURSION="23549,27540"
PERLDOC="-MPod::Perldoc::ToTextOverstrike"
PERL_BATCH="yes"
PERL_CPAN_REPORTER_CONFIG="/var/tmp/cpansmoker-1001/6yazk1UNea_config.ini"
PERL_EXTUTILS_AUTOINSTALL="--defaultdeps"
PERL_HTML_DISPLAY_CLASS="HTML::Display::Mozilla"
PERL_PARALLEL_SMOKER="yes"
@INC:
/opt/perl-5.16.3/lib/site_perl/5.16.3/x86_64-linux
/opt/perl-5.16.3/lib/site_perl/5.16.3
/opt/perl-5.16.3/lib/5.16.3/x86_64-linux
/opt/perl-5.16.3/lib/5.16.3
.