Promise-XS v0.20 Perl 5 v5.39.9 MSWin32-x64-multi-thread
- Status
- Pass
- From
- twata
- Dist
-
Promise-XS v0.20
- Platform
- Perl 5 v5.39.9 MSWin32-x64-multi-thread
- Date
- 2024-04-13 21:59:37
- ID
- 808038d0-6d23-1014-9e9e-e05a622112c3
This distribution has been tested as part of the CPAN Testers
project, supporting the Perl programming language. See
http://wiki.cpantesters.org/ for more information or email
questions to cpan-testers-discuss@perl.org
--
Dear Felipe Gasper,
This is a computer-generated report for Promise-XS-0.20
on perl 5.39.9, created by CPAN-Reporter-1.2019.
Thank you for uploading your work to CPAN. Congratulations!
All tests were successful.
Sections of this report:
* Tester comments
* Program output
* Prerequisites
* Environment and other context
------------------------------
TESTER COMMENTS
------------------------------
Additional comments from tester:
none provided
------------------------------
PROGRAM OUTPUT
------------------------------
Output from 'C:\winlibs-x86_64-posix-seh-gcc-13.2.0-llvm-17.0.4-mingw-w64msvcrt-11.0.1-r2\mingw64\bin\gmake.EXE test':
"C:\WinLibs\Perl-5.39.9\bin\perl.exe" -MExtUtils::Command::MM -e cp_nonempty -- XS.bs blib\arch\auto\Promise\XS\XS.bs 644
"C:\WinLibs\Perl-5.39.9\bin\perl.exe" "-MExtUtils::Command::MM" "-MTest::Harness" "-e" "undef *Test::Harness::Switches; test_harness(0, 'blib\lib', 'blib\arch')" t/*.t
t/alias.t ........................ ok
t/anyevent.t ..................... skipped: Can't locate AnyEvent.pm in @INC (you may need to install the AnyEvent module) (@INC entries checked: C:\WinLibs\Perl-5.39.9\cpan\build\Promise-XS-0.20-0\blib\lib C:\WinLibs\Perl-5.39.9\cpan\build\Promise-XS-0.20-0\blib\arch C:\home\acorn5399\perl5\lib\perl5/MSWin32-x64-multi-thread C:\home\acorn5399\perl5\lib\perl5/MSWin32-x64-multi-thread C:\home\acorn5399\perl5\lib\perl5 C:\home\acorn5399\perl5\lib\perl5/MSWin32-x64-multi-thread C:\home\acorn5399\perl5\lib\perl5 C:/WinLibs/Perl-5.39.9/site/lib C:/WinLibs/Perl-5.39.9/lib .) at t/anyevent.t line 7.
t/aplus.t ........................ skipped: Can't locate AnyEvent.pm in @INC (you may need to install the AnyEvent module) (@INC entries checked: C:\WinLibs\Perl-5.39.9\cpan\build\Promise-XS-0.20-0\blib\lib C:\WinLibs\Perl-5.39.9\cpan\build\Promise-XS-0.20-0\blib\arch C:\home\acorn5399\perl5\lib\perl5/MSWin32-x64-multi-thread C:\home\acorn5399\perl5\lib\perl5/MSWin32-x64-multi-thread C:\home\acorn5399\perl5\lib\perl5 C:\home\acorn5399\perl5\lib\perl5/MSWin32-x64-multi-thread C:\home\acorn5399\perl5\lib\perl5 C:/WinLibs/Perl-5.39.9/site/lib C:/WinLibs/Perl-5.39.9/lib .) at t/aplus.t line 6.
t/async_await.t .................. skipped: CanâÂÂt run test: Can't locate Test/Future/AsyncAwait/Awaitable.pm in @INC (you may need to install the Test::Future::AsyncAwait::Awaitable module) (@INC entries checked: C:\WinLibs\Perl-5.39.9\cpan\build\Promise-XS-0.20-0\blib\lib C:\WinLibs\Perl-5.39.9\cpan\build\Promise-XS-0.20-0\blib\arch C:\home\acorn5399\perl5\lib\perl5/MSWin32-x64-multi-thread C:\home\acorn5399\perl5\lib\perl5/MSWin32-x64-multi-thread C:\home\acorn5399\perl5\lib\perl5 C:\home\acorn5399\perl5\lib\perl5/MSWin32-x64-multi-thread C:\home\acorn5399\perl5\lib\perl5 C:/WinLibs/Perl-5.39.9/site/lib C:/WinLibs/Perl-5.39.9/lib .) at (eval 8) line 1.
t/async_await__several_awaits.t .. skipped: CanâÂÂt run test: Can't locate Test/Future/AsyncAwait/Awaitable.pm in @INC (you may need to install the Test::Future::AsyncAwait::Awaitable module) (@INC entries checked: C:\WinLibs\Perl-5.39.9\cpan\build\Promise-XS-0.20-0\blib\lib C:\WinLibs\Perl-5.39.9\cpan\build\Promise-XS-0.20-0\blib\arch C:\home\acorn5399\perl5\lib\perl5/MSWin32-x64-multi-thread C:\home\acorn5399\perl5\lib\perl5/MSWin32-x64-multi-thread C:\home\acorn5399\perl5\lib\perl5 C:\home\acorn5399\perl5\lib\perl5/MSWin32-x64-multi-thread C:\home\acorn5399\perl5\lib\perl5 C:/WinLibs/Perl-5.39.9/site/lib C:/WinLibs/Perl-5.39.9/lib .) at (eval 9) line 1.
t/async_await__simple.t .......... ok
t/async_await_hold_ref.t ......... skipped: No Future::AsyncAwait
t/async_await_version.t .......... skipped: CanâÂÂt run test: Can't locate Test/Future/AsyncAwait/Awaitable.pm in @INC (you may need to install the Test::Future::AsyncAwait::Awaitable module) (@INC entries checked: C:\WinLibs\Perl-5.39.9\cpan\build\Promise-XS-0.20-0\blib\lib C:\WinLibs\Perl-5.39.9\cpan\build\Promise-XS-0.20-0\blib\arch C:\home\acorn5399\perl5\lib\perl5/MSWin32-x64-multi-thread C:\home\acorn5399\perl5\lib\perl5/MSWin32-x64-multi-thread C:\home\acorn5399\perl5\lib\perl5 C:\home\acorn5399\perl5\lib\perl5/MSWin32-x64-multi-thread C:\home\acorn5399\perl5\lib\perl5 C:/WinLibs/Perl-5.39.9/site/lib C:/WinLibs/Perl-5.39.9/lib .) at (eval 8) line 1.
t/await_wait__anyevent.t ......... skipped: CanâÂÂt run test: Can't locate AnyEvent.pm in @INC (you may need to install the AnyEvent module) (@INC entries checked: C:/WinLibs/Perl-5.39.9/cpan/build/Promise-XS-0.20-0/t/lib C:\WinLibs\Perl-5.39.9\cpan\build\Promise-XS-0.20-0\blib\lib C:\WinLibs\Perl-5.39.9\cpan\build\Promise-XS-0.20-0\blib\arch C:\home\acorn5399\perl5\lib\perl5/MSWin32-x64-multi-thread C:\home\acorn5399\perl5\lib\perl5 C:/WinLibs/Perl-5.39.9/site/lib C:/WinLibs/Perl-5.39.9/lib .) at (eval 9) line 1.
t/await_wait__ioasync.t .......... skipped: CanâÂÂt run test: Can't locate IO/Async/Loop.pm in @INC (you may need to install the IO::Async::Loop module) (@INC entries checked: C:/WinLibs/Perl-5.39.9/cpan/build/Promise-XS-0.20-0/t/lib C:\WinLibs\Perl-5.39.9\cpan\build\Promise-XS-0.20-0\blib\lib C:\WinLibs\Perl-5.39.9\cpan\build\Promise-XS-0.20-0\blib\arch C:\home\acorn5399\perl5\lib\perl5/MSWin32-x64-multi-thread C:\home\acorn5399\perl5\lib\perl5 C:/WinLibs/Perl-5.39.9/site/lib C:/WinLibs/Perl-5.39.9/lib .) at (eval 9) line 1.
t/await_wait__mojo.t ............. skipped: CanâÂÂt run test: Can't locate Mojo/IOLoop.pm in @INC (you may need to install the Mojo::IOLoop module) (@INC entries checked: C:/WinLibs/Perl-5.39.9/cpan/build/Promise-XS-0.20-0/t/lib C:\WinLibs\Perl-5.39.9\cpan\build\Promise-XS-0.20-0\blib\lib C:\WinLibs\Perl-5.39.9\cpan\build\Promise-XS-0.20-0\blib\arch C:\home\acorn5399\perl5\lib\perl5/MSWin32-x64-multi-thread C:\home\acorn5399\perl5\lib\perl5 C:/WinLibs/Perl-5.39.9/site/lib C:/WinLibs/Perl-5.39.9/lib .) at (eval 9) line 1.
t/detect_memory_leaks.t .......... ok
t/finally.t ...................... ok
t/infinite_recursion.t ........... ok
t/ioasync.t ...................... skipped: Can't locate IO/Async/Loop.pm in @INC (you may need to install the IO::Async::Loop module) (@INC entries checked: C:\WinLibs\Perl-5.39.9\cpan\build\Promise-XS-0.20-0\blib\lib C:\WinLibs\Perl-5.39.9\cpan\build\Promise-XS-0.20-0\blib\arch C:\home\acorn5399\perl5\lib\perl5/MSWin32-x64-multi-thread C:\home\acorn5399\perl5\lib\perl5/MSWin32-x64-multi-thread C:\home\acorn5399\perl5\lib\perl5 C:\home\acorn5399\perl5\lib\perl5/MSWin32-x64-multi-thread C:\home\acorn5399\perl5\lib\perl5 C:/WinLibs/Perl-5.39.9/site/lib C:/WinLibs/Perl-5.39.9/lib .) at t/ioasync.t line 7.
t/mojo.t ......................... skipped: Can't locate Mojo/IOLoop.pm in @INC (you may need to install the Mojo::IOLoop module) (@INC entries checked: C:\WinLibs\Perl-5.39.9\cpan\build\Promise-XS-0.20-0\blib\lib C:\WinLibs\Perl-5.39.9\cpan\build\Promise-XS-0.20-0\blib\arch C:\home\acorn5399\perl5\lib\perl5/MSWin32-x64-multi-thread C:\home\acorn5399\perl5\lib\perl5/MSWin32-x64-multi-thread C:\home\acorn5399\perl5\lib\perl5 C:\home\acorn5399\perl5\lib\perl5/MSWin32-x64-multi-thread C:\home\acorn5399\perl5\lib\perl5 C:/WinLibs/Perl-5.39.9/site/lib C:/WinLibs/Perl-5.39.9/lib .) at t/mojo.t line 7.
t/multi_return.t ................. ok
t/no_leak_stashed_ref.t .......... ok
t/oserror.t ...................... ok
t/promise_all_race.t ............. ok
t/reject_undef.t ................. ok
t/subclass.t ..................... ok
t/sync.t ......................... ok
t/unhandled_rejection.t .......... ok
t/XSPromises.t ................... skipped: Can't locate AnyEvent.pm in @INC (you may need to install the AnyEvent module) (@INC entries checked: C:\WinLibs\Perl-5.39.9\cpan\build\Promise-XS-0.20-0\blib\lib C:\WinLibs\Perl-5.39.9\cpan\build\Promise-XS-0.20-0\blib\arch C:\home\acorn5399\perl5\lib\perl5/MSWin32-x64-multi-thread C:\home\acorn5399\perl5\lib\perl5/MSWin32-x64-multi-thread C:\home\acorn5399\perl5\lib\perl5 C:\home\acorn5399\perl5\lib\perl5/MSWin32-x64-multi-thread C:\home\acorn5399\perl5\lib\perl5 C:/WinLibs/Perl-5.39.9/site/lib C:/WinLibs/Perl-5.39.9/lib .) at t/XSPromises.t line 6.
All tests successful.
Files=25, Tests=62, 7 wallclock secs ( 0.11 usr + 0.19 sys = 0.30 CPU)
Result: PASS
------------------------------
PREREQUISITES
------------------------------
Prerequisite modules loaded:
build_requires:
Module Need Have
----------------------------- ---- --------
ExtUtils::MakeMaker 0 7.70
File::Temp 0 0.2311
Test::Deep 0 1.204
Test::FailWarnings 0 0.008
Test::More 0 1.302198
configure_requires:
Module Need Have
----------------------------- ---- --------
ExtUtils::MakeMaker::CPANfile 0.09 0.09
------------------------------
ENVIRONMENT AND OTHER CONTEXT
------------------------------
Environment variables:
COMSPEC = C:\WINDOWS\system32\cmd.exe
LC_ALL = C
NONINTERACTIVE_TESTING = 1
NUMBER_OF_PROCESSORS = 4
PATH = C:\home\acorn5399\perl5\bin;C:\WinLibs\ext\bin;C:\WinLibs\Perl-5.39.9\bin;C:\winlibs-x86_64-posix-seh-gcc-13.2.0-llvm-17.0.4-mingw-w64msvcrt-11.0.1-r2\mingw64\bin;C:\WinLibs\ext\openssl\bin;C:\WINDOWS\system32;C:\WINDOWS;C:\WINDOWS\System32\Wbem;C:\WINDOWS\System32\WindowsPowerShell\v1.0
PERL5LIB = C:\home\acorn5399\perl5\lib\perl5
PERL5OPT =
PERL5_CPANPLUS_IS_RUNNING = 4952
PERL5_CPAN_IS_RUNNING = 4952
PERL_LOCAL_LIB_ROOT = C:\home\acorn5399\perl5
PERL_MB_OPT = --install_base "C:\\home\\acorn5399\\perl5"
PERL_MM_OPT = INSTALL_BASE=C:\\home\\acorn5399\\perl5
PERL_MM_USE_DEFAULT = 1
PERL_USE_UNSAFE_INC = 1
PROCESSOR_IDENTIFIER = Intel64 Family 6 Model 58 Stepping 9, GenuineIntel
TEMP = C:\Users\USER\AppData\Local\Temp
TERM = dumb
Perl special variables (and OS-specific diagnostics, for MSWin32):
$^X = C:\WinLibs\Perl-5.39.9\bin\perl.exe
$UID/$EUID = 0 / 0
$GID = 0
$EGID = 0
Win32::GetOSName = Win8.1
Win32::GetOSVersion = , 6, 3, 9600, 2, 0, 0, 256, 1
Win32::FsType = NTFS
Win32::IsAdminUser = 0
Perl module toolchain versions installed:
Module Have
------------------- --------
CPAN 2.36
CPAN::Meta 2.150010
Cwd 3.90
ExtUtils::CBuilder 0.280240
ExtUtils::Command 7.70
ExtUtils::Install 2.22
ExtUtils::MakeMaker 7.70
ExtUtils::Manifest 1.75
ExtUtils::ParseXS 3.51
File::Spec 3.90
JSON 4.10
JSON::PP 4.16
Module::Build 0.4234
Module::Signature n/a
Parse::CPAN::Meta 2.150010
Test2 1.302198
Test::Harness 3.48
Test::More 1.302198
YAML 1.31
YAML::Syck n/a
version 0.9930
--
Summary of my perl5 (revision 5 version 39 subversion 9) configuration:
Platform:
osname=MSWin32
osvers=6.3.9600
archname=MSWin32-x64-multi-thread
uname=''
config_args='undef'
hint=recommended
useposix=true
d_sigaction=undef
useithreads=define
usemultiplicity=define
use64bitint=define
use64bitall=undef
uselongdouble=undef
usemymalloc=n
default_inc_excludes_dot=define
Compiler:
cc='gcc'
ccflags ='-std=c99 -DWIN32 -DWIN64 -DPERL_TEXTMODE_SCRIPTS -DMULTIPLICITY -DPERL_IMPLICIT_SYS -DUSE_PERLIO -D__USE_MINGW_ANSI_STDIO -fwrapv -fno-strict-aliasing -mms-bitfields'
optimize='-Os'
cppflags='-DWIN32'
ccversion=''
gccversion='13.2.0'
gccosandvers=''
intsize=4
longsize=4
ptrsize=8
doublesize=8
byteorder=12345678
doublekind=3
d_longlong=define
longlongsize=8
d_longdbl=define
longdblsize=16
longdblkind=3
ivtype='long long'
ivsize=8
nvtype='double'
nvsize=8
Off_t='long long'
lseeksize=8
alignbytes=8
prototype=define
Linker and Libraries:
ld='g++'
ldflags ='-s -L"C:\WinLibs\Perl-5.39.9\lib\CORE" -L"C:\winlibs-x86_64-posix-seh-gcc-13.2.0-llvm-17.0.4-mingw-w64msvcrt-11.0.1-r2\mingw64\lib" -L"C:\winlibs-x86_64-posix-seh-gcc-13.2.0-llvm-17.0.4-mingw-w64msvcrt-11.0.1-r2\mingw64\x86_64-w64-mingw32\lib" -L"C:\winlibs-x86_64-posix-seh-gcc-13.2.0-llvm-17.0.4-mingw-w64msvcrt-11.0.1-r2\mingw64\lib\gcc\x86_64-w64-mingw32\13.2.0"'
libpth=C:\winlibs-x86_64-posix-seh-gcc-13.2.0-llvm-17.0.4-mingw-w64msvcrt-11.0.1-r2\mingw64\lib C:\winlibs-x86_64-posix-seh-gcc-13.2.0-llvm-17.0.4-mingw-w64msvcrt-11.0.1-r2\mingw64\x86_64-w64-mingw32\lib C:\winlibs-x86_64-posix-seh-gcc-13.2.0-llvm-17.0.4-mingw-w64msvcrt-11.0.1-r2\mingw64\lib\gcc\x86_64-w64-mingw32\13.2.0
libs= -lmoldname -lkernel32 -luser32 -lgdi32 -lwinspool -lcomdlg32 -ladvapi32 -lshell32 -lole32 -loleaut32 -lnetapi32 -luuid -lws2_32 -lmpr -lwinmm -lversion -lodbc32 -lodbccp32 -lcomctl32
perllibs= -lmoldname -lkernel32 -luser32 -lgdi32 -lwinspool -lcomdlg32 -ladvapi32 -lshell32 -lole32 -loleaut32 -lnetapi32 -luuid -lws2_32 -lmpr -lwinmm -lversion -lodbc32 -lodbccp32 -lcomctl32
libc=-lmsvcrt
so=dll
useshrplib=true
libperl=libperl539.a
gnulibc_version=''
Dynamic Linking:
dlsrc=dl_win32.xs
dlext=dll
d_dlsymun=undef
ccdlflags=' '
cccdlflags=' '
lddlflags='-shared -s -L"C:\WinLibs\Perl-5.39.9\lib\CORE" -L"C:\winlibs-x86_64-posix-seh-gcc-13.2.0-llvm-17.0.4-mingw-w64msvcrt-11.0.1-r2\mingw64\lib" -L"C:\winlibs-x86_64-posix-seh-gcc-13.2.0-llvm-17.0.4-mingw-w64msvcrt-11.0.1-r2\mingw64\x86_64-w64-mingw32\lib" -L"C:\winlibs-x86_64-posix-seh-gcc-13.2.0-llvm-17.0.4-mingw-w64msvcrt-11.0.1-r2\mingw64\lib\gcc\x86_64-w64-mingw32\13.2.0"'
Characteristics of this binary (from libperl):
Compile-time options:
HAS_LONG_DOUBLE
HAS_TIMES
HAVE_INTERP_INTERN
MULTIPLICITY
PERLIO_LAYERS
PERL_COPY_ON_WRITE
PERL_DONT_CREATE_GVSV
PERL_HASH_FUNC_SIPHASH13
PERL_HASH_USE_SBOX32
PERL_IMPLICIT_SYS
PERL_MALLOC_WRAP
PERL_OP_PARENT
PERL_PRESERVE_IVUV
PERL_USE_SAFE_PUTENV
USE_64_BIT_INT
USE_ITHREADS
USE_LARGE_FILES
USE_LOCALE
USE_LOCALE_COLLATE
USE_LOCALE_CTYPE
USE_LOCALE_NUMERIC
USE_LOCALE_TIME
USE_PERLIO
USE_PERL_ATOF
Built under MSWin32
Compiled at Mar 23 2024 13:57:21
%ENV:
PERL5LIB="C:\home\acorn5399\perl5\lib\perl5"
PERL5_CPANPLUS_IS_RUNNING="4952"
PERL5_CPAN_IS_RUNNING="4952"
PERL_LOCAL_LIB_ROOT="C:\home\acorn5399\perl5"
PERL_MB_OPT="--install_base "C:\\home\\acorn5399\\perl5""
PERL_MM_OPT="INSTALL_BASE=C:\\home\\acorn5399\\perl5"
PERL_MM_USE_DEFAULT="1"
PERL_USE_UNSAFE_INC="1"
@INC:
C:\home\acorn5399\perl5\lib\perl5/MSWin32-x64-multi-thread
C:\home\acorn5399\perl5\lib\perl5
C:/WinLibs/Perl-5.39.9/site/lib
C:/WinLibs/Perl-5.39.9/lib
.