SDL v2.548 Perl 5 v5.32.0 x86_64-linux-thread-multi

Status
Pass
From
Nick Alcock
Dist
SDL v2.548
Platform
Perl 5 v5.32.0 x86_64-linux-thread-multi
Date
2020-09-19 17:35:25
ID
8097a724-fa9e-11ea-9afb-1477fc15ff68
This distribution has been tested as part of the CPAN Testers
project, supporting the Perl programming language.  See
http://wiki.cpantesters.org/ for more information or email
questions to cpan-testers-discuss@perl.org


--
Dear Tobias Leich,

This is a computer-generated report for SDL-2.548
on perl 5.32.0, created by CPAN-Reporter-1.2018.

Thank you for uploading your work to CPAN.  Congratulations!
All tests were successful.

Sections of this report:

    * Tester comments
    * Program output
    * Prerequisites
    * Environment and other context

------------------------------
TESTER COMMENTS
------------------------------

Additional comments from tester:

none provided

------------------------------
PROGRAM OUTPUT
------------------------------

Output from './Build test':

[Alien::SDL] Build option used:
	Already installed SDL ver=1.2.16 path=/usr
    SDL(v2.0.11) SDL_image(v2.0.5) SDL_mixer(v2.0.3) SDL_ttf(v2.0.14) SDL_gfx(v2.0.26) SDL_Pango(v1.3) 
Building SDL
t/00-load.t ..................... ok
t/colorpm.t ..................... ok
t/config.t ...................... ok
t/core.t ........................ ok
t/core_audio.t .................. ok
t/core_audiospec.t .............. skipped: author tests not required for installation
t/core_cd.t ..................... ok
t/core_error.t .................. ok
t/core_events.t ................. ok
t/core_joystick.t ............... ok
t/core_mouse.t .................. ok
t/core_multi.t .................. ok
t/core_overlay.t ................ ok
t/core_palette.t ................ ok
t/core_rect.t ................... ok
t/core_rwops.t .................. ok
t/core_surface.t ................ ok
t/core_timer.t .................. ok
t/core_version.t ................ ok
t/core_video.t .................. ok
t/core_video_convert_surface.t .. ok
t/core_video_gamma.t ............ ok
t/extendingrect.t ............... ok
t/gfx.t ......................... ok
t/gfx_fpsmanager.t .............. ok
t/gfx_framerate.t ............... ok
t/gfx_imagefilter.t ............. ok
t/gfx_primitives.t .............. ok
t/gfx_primitives2.t ............. ok
t/gfx_rotozoom.t ................ ok
t/image.t ....................... ok
t/image_xpm_array.t ............. ok
t/mixer.t ....................... ok
t/mixer_channels.t .............. ok
t/mixer_effects.t ............... ok
t/mixer_groups.t ................ ok
t/mixer_mixchunk.t .............. ok
t/mixer_mixmusic.t .............. ok
t/mixer_music.t ................. ok
t/mixer_samples.t ............... ok
t/pango.t ....................... ok
t/sdlgamerect.t ................. ok
t/sdlx_app.t .................... ok
t/sdlx_controller.t ............. ok
t/sdlx_controller_interface.t ... ok
t/sdlx_fps.t .................... ok
t/sdlx_layermanager.t ........... ok
t/sdlx_music.t .................. ok
t/sdlx_rect.t ................... ok
t/sdlx_sfont.t .................. ok
t/sdlx_sound.t .................. ok
t/sdlx_sprite.t ................. ok
t/sdlx_sprite_animated.t ........ ok
t/sdlx_surface.t ................ ok
t/sdlx_text.t ................... ok
t/sdlx_validate.t ............... ok
t/smpeg.t ....................... skipped: smpeg support not compiled
t/ttf.t ......................... ok
t/ttf_font.t .................... ok
All tests successful.

Test Summary Report
-------------------
t/core.t                      (Wstat: 0 Tests: 28 Failed: 0)
  TODO passed:   21-22, 27
t/core_multi.t                (Wstat: 0 Tests: 4 Failed: 0)
  TODO passed:   3
t/core_timer.t                (Wstat: 0 Tests: 6 Failed: 0)
  TODO passed:   6
t/core_video.t                (Wstat: 0 Tests: 110 Failed: 0)
  TODO passed:   57, 59
t/gfx_imagefilter.t           (Wstat: 0 Tests: 8 Failed: 0)
  TODO passed:   7
Files=59, Tests=3827, 160 wallclock secs ( 0.50 usr  0.12 sys + 76.01 cusr  5.36 csys = 81.99 CPU)
Result: PASS

------------------------------
PREREQUISITES
------------------------------

Prerequisite modules loaded:

requires:

    Module             Need     Have    
    ------------------ -------- --------
    CPAN               1.92     2.28    
    File::ShareDir     1.0      1.116   
    perl               5.008000 5.032000
    Scalar::Util       0        1.55    
    Tie::Simple        0        1.04    

build_requires:

    Module             Need     Have    
    ------------------ -------- --------
    Alien::SDL         1.446    1.446   
    Capture::Tiny      0        0.48    
    ExtUtils::CBuilder 0        0.280234
    File::Find         0        1.37    
    File::ShareDir     1.0      1.116   
    Scalar::Util       0        1.55    
    Test::Most         0.21     0.37    
    Test::Simple       0.88     1.302181
    Tie::Simple        0        1.04    

configure_requires:

    Module             Need     Have    
    ------------------ -------- --------
    Alien::SDL         1.446    1.446   
    Capture::Tiny      0        0.48    
    ExtUtils::CBuilder 0.260301 0.280234
    File::Find         0        1.37    
    File::ShareDir     1.0      1.116   
    Module::Build      0.40     0.4231  
    Tie::Simple        0        1.04    


------------------------------
ENVIRONMENT AND OTHER CONTEXT
------------------------------

Environment variables:

    LANG = en_GB.UTF-8
    LC_COLLATE = C
    PATH = /root/bin:/root/bin:/usr/bin:/bin:/usr/sbin:/sbin:/usr/games
    PERL5LIB = 
    PERL5OPT = 
    PERL5_CPANPLUS_IS_RUNNING = 236861
    PERL5_CPAN_IS_RUNNING = 236861
    PERL_USE_UNSAFE_INC = 1
    SHELL = /bin/bash
    TERM = xterm-256color

Perl special variables (and OS-specific diagnostics, for MSWin32):

    $^X = /pkg/perl/5.32.0-8/usr/bin/perl
    $UID/$EUID = 0 / 0
    $GID = 0 0 1 2 3 4 6 10 11 16 25 72 73 80 81
    $EGID = 0 0 1 2 3 4 6 10 11 16 25 72 73 80 81

Perl module toolchain versions installed:

    Module              Have    
    ------------------- --------
    CPAN                2.28    
    CPAN::Meta          2.150010
    Cwd                 3.78    
    ExtUtils::CBuilder  0.280234
    ExtUtils::Command   7.46    
    ExtUtils::Install   2.18    
    ExtUtils::MakeMaker 7.46    
    ExtUtils::Manifest  1.72    
    ExtUtils::ParseXS   3.40    
    File::Spec          3.78    
    JSON                n/a     
    JSON::PP            4.04    
    Module::Build       0.4231  
    Module::Signature   0.87    
    Parse::CPAN::Meta   2.150010
    Test::Harness       3.42    
    Test::More          1.302181
    YAML                1.30    
    YAML::Syck          n/a     
    version             0.9924  


--

Summary of my perl5 (revision 5 version 32 subversion 0) configuration:
  Local Commit: 3289669def68664f07f3c58be84b6c49e07d2959
  Ancestor: 0cf01644e9e0460386db76c3546d69b15e0806df
  Platform:
    osname=linux
    osvers=5.8.9-00002-gcebdfbd212c0-dirty
    archname=x86_64-linux-thread-multi
    uname='linux loom 5.8.9-00002-gcebdfbd212c0-dirty #2 smp sat sep 12 14:39:53 bst 2020 x86_64 gnulinux '
    config_args='-d -e -Duseithreads -D privlib=/usr/lib/perl5/5.32 -D sitelib=/usr/lib/perl5/site_perl/5.32 -D optimize=-gdwarf-4 -feliminate-unused-debug-types -fvar-tracking-assignments -O2 -pipe '
    hint=recommended
    useposix=true
    d_sigaction=define
    useithreads=define
    usemultiplicity=define
    use64bitint=define
    use64bitall=define
    uselongdouble=undef
    usemymalloc=n
    default_inc_excludes_dot=define
    bincompat5005=undef
  Compiler:
    cc='gcc'
    ccflags ='-D_REENTRANT -D_GNU_SOURCE -D_REENTRANT -D_GNU_SOURCE -g -fno-strict-aliasing -D_LARGEFILE_SOURCE -D_FILE_OFFSET_BITS=64 -pipe -fstack-protector-strong -fwrapv -feliminate-unused-debug-types -fvar-tracking-assignments -fstack-clash-protection -D_LARGEFILE_SOURCE -D_FILE_OFFSET_BITS=64 -D_FORTIFY_SOURCE=2'
    optimize='-gdwarf-4 -feliminate-unused-debug-types -fvar-tracking-assignments -O2 -pipe '
    cppflags='-D_REENTRANT -D_GNU_SOURCE -D_REENTRANT -D_GNU_SOURCE -g -fno-strict-aliasing -D_LARGEFILE_SOURCE -D_FILE_OFFSET_BITS=64 -pipe -fstack-protector-strong -fwrapv -feliminate-unused-debug-types -fvar-tracking-assignments -fstack-clash-protection'
    ccversion=''
    gccversion='10.2.1 20200915'
    gccosandvers=''
    intsize=4
    longsize=8
    ptrsize=8
    doublesize=8
    byteorder=12345678
    doublekind=3
    d_longlong=define
    longlongsize=8
    d_longdbl=define
    longdblsize=16
    longdblkind=3
    ivtype='long'
    ivsize=8
    nvtype='double'
    nvsize=8
    Off_t='off_t'
    lseeksize=8
    alignbytes=8
    prototype=define
  Linker and Libraries:
    ld='gcc'
    ldflags ='-Wl,--enable-new-dtags -fstack-protector-strong -L/usr/local/lib'
    libpth=/usr/lib /lib /pkg/gcc/10.2.0-251/usr/lib/gcc/x86_64-pc-linux-gnu/10.2.1/include-fixed /usr/local/lib /usr/lib /lib/64 /usr/lib/64 /lib64 /usr/lib64 /usr/local/lib64
    libs=-lpthread -lgdbm -ldb -ldl -lm -lcrypt -lutil -lc -lgdbm_compat
    perllibs=-lpthread -ldl -lm -lcrypt -lutil -lc
    libc=libc-2.32.so
    so=so
    useshrplib=true
    libperl=libperl.so
    gnulibc_version='2.32'
  Dynamic Linking:
    dlsrc=dl_dlopen.xs
    dlext=so
    d_dlsymun=undef
    ccdlflags='-Wl,-E -Wl,-rpath,/usr/lib/perl5/5.32/x86_64-linux-thread-multi/CORE'
    cccdlflags='-fPIC'
    lddlflags='-shared -gdwarf-4 -feliminate-unused-debug-types -fvar-tracking-assignments -O2 -pipe  -L/usr/local/lib -fstack-protector-strong'


Characteristics of this binary (from libperl): 
  Compile-time options:
    HAS_TIMES
    MULTIPLICITY
    PERLIO_LAYERS
    PERL_COPY_ON_WRITE
    PERL_DONT_CREATE_GVSV
    PERL_IMPLICIT_CONTEXT
    PERL_MALLOC_WRAP
    PERL_OP_PARENT
    PERL_PRESERVE_IVUV
    USE_64_BIT_ALL
    USE_64_BIT_INT
    USE_ITHREADS
    USE_LARGE_FILES
    USE_LOCALE
    USE_LOCALE_COLLATE
    USE_LOCALE_CTYPE
    USE_LOCALE_NUMERIC
    USE_LOCALE_TIME
    USE_PERLIO
    USE_PERL_ATOF
    USE_REENTRANT_API
    USE_THREAD_SAFE_LOCALE
  Locally applied patches:
    27910c71d1fe536464a401b31a6feb39a57c8d55
    21cae08b309c1083e60f4c1d0884a9fe19afc7f0
    f3a6b66fd747441d9adb519e32710af46a5fdba7
    f7dda30d8822ee0037050bc045ce0cee5b754485
    7d2e6eed46ca63fe8ac61819d5b285a1be3019c0
    e9f3201cbd0ac07e5848a0f7d49a6298795997c5
    5230de6c3dbc3aad98ba2ab3ffadbd102925e34a
    3289669def68664f07f3c58be84b6c49e07d2959
  Built under linux
  Compiled at Sep 19 2020 16:28:01
  %ENV:
    PERL5LIB=""
    PERL5OPT=""
    PERL5_CPANPLUS_IS_RUNNING="236861"
    PERL5_CPAN_IS_RUNNING="236861"
    PERL_USE_UNSAFE_INC="1"
  @INC:
    /usr/lib/perl5/site_perl/5.32/x86_64-linux-thread-multi
    /usr/lib/perl5/site_perl/5.32
    /usr/lib/perl5/5.32/x86_64-linux-thread-multi
    /usr/lib/perl5/5.32
    .