Report for OAuth-Consumer-0.03

Back
From: metabase:user:5cdeb204-f309-11e2-bd07-4d68c2968487
Subject: PASS OAuth-Consumer-0.03 v5.18.0 GNU/Linux
Date: 2013-08-13T06:42:20Z

This distribution has been tested as part of the CPAN Testers
project, supporting the Perl programming language.  See
http://wiki.cpantesters.org/ for more information or email
questions to cpan-testers-discuss@perl.org


--
Dear Mathias Kende,

This is a computer-generated report for OAuth-Consumer-0.03
on perl 5.18.0, created by CPAN-Reporter-1.2010.

Thank you for uploading your work to CPAN.  Congratulations!
All tests were successful.

Sections of this report:

    * Tester comments
    * Program output
    * Prerequisites
    * Environment and other context

------------------------------
TESTER COMMENTS
------------------------------

Additional comments from tester:

this report is from an automated smoke testing program
and was not reviewed by a human for accuracy

------------------------------
PROGRAM OUTPUT
------------------------------

Output from '/usr/bin/make test':

PERL_DL_NONLAZY=1 /home/fperrad/perl5/perlbrew/perls/perl-5.18.0/bin/perl "-MExtUtils::Command::MM" "-e" "test_harness(0, 'blib/lib', 'blib/arch')" t/*.t
given is experimental at /home/fperrad/.cpan/build/Test-Subs-0.08-bx6Dte/blib/lib/Test/Subs.pm line 324.
when is experimental at /home/fperrad/.cpan/build/Test-Subs-0.08-bx6Dte/blib/lib/Test/Subs.pm line 325.
when is experimental at /home/fperrad/.cpan/build/Test-Subs-0.08-bx6Dte/blib/lib/Test/Subs.pm line 329.
when is experimental at /home/fperrad/.cpan/build/Test-Subs-0.08-bx6Dte/blib/lib/Test/Subs.pm line 333.
given is experimental at /home/fperrad/.cpan/build/OAuth-Consumer-0.03-pH1ggY/blib/lib/OAuth/Consumer.pm line 326.
when is experimental at /home/fperrad/.cpan/build/OAuth-Consumer-0.03-pH1ggY/blib/lib/OAuth/Consumer.pm line 327.
when is experimental at /home/fperrad/.cpan/build/OAuth-Consumer-0.03-pH1ggY/blib/lib/OAuth/Consumer.pm line 328.
given is experimental at /home/fperrad/.cpan/build/OAuth-Consumer-0.03-pH1ggY/blib/lib/OAuth/Consumer.pm line 471.
when is experimental at /home/fperrad/.cpan/build/OAuth-Consumer-0.03-pH1ggY/blib/lib/OAuth/Consumer.pm line 472.
when is experimental at /home/fperrad/.cpan/build/OAuth-Consumer-0.03-pH1ggY/blib/lib/OAuth/Consumer.pm line 476.
when is experimental at /home/fperrad/.cpan/build/OAuth-Consumer-0.03-pH1ggY/blib/lib/OAuth/Consumer.pm line 480.
given is experimental at /home/fperrad/.cpan/build/OAuth-Consumer-0.03-pH1ggY/blib/lib/OAuth/Consumer.pm line 519.
when is experimental at /home/fperrad/.cpan/build/OAuth-Consumer-0.03-pH1ggY/blib/lib/OAuth/Consumer.pm line 520.
when is experimental at /home/fperrad/.cpan/build/OAuth-Consumer-0.03-pH1ggY/blib/lib/OAuth/Consumer.pm line 523.
when is experimental at /home/fperrad/.cpan/build/OAuth-Consumer-0.03-pH1ggY/blib/lib/OAuth/Consumer.pm line 526.
t/sandbox.t ......... skipped: You need a Perl with thread
given is experimental at /home/fperrad/.cpan/build/Test-Subs-0.08-bx6Dte/blib/lib/Test/Subs.pm line 324.
when is experimental at /home/fperrad/.cpan/build/Test-Subs-0.08-bx6Dte/blib/lib/Test/Subs.pm line 325.
when is experimental at /home/fperrad/.cpan/build/Test-Subs-0.08-bx6Dte/blib/lib/Test/Subs.pm line 329.
when is experimental at /home/fperrad/.cpan/build/Test-Subs-0.08-bx6Dte/blib/lib/Test/Subs.pm line 333.
given is experimental at /home/fperrad/.cpan/build/OAuth-Consumer-0.03-pH1ggY/blib/lib/OAuth/Consumer.pm line 326.
when is experimental at /home/fperrad/.cpan/build/OAuth-Consumer-0.03-pH1ggY/blib/lib/OAuth/Consumer.pm line 327.
when is experimental at /home/fperrad/.cpan/build/OAuth-Consumer-0.03-pH1ggY/blib/lib/OAuth/Consumer.pm line 328.
given is experimental at /home/fperrad/.cpan/build/OAuth-Consumer-0.03-pH1ggY/blib/lib/OAuth/Consumer.pm line 471.
when is experimental at /home/fperrad/.cpan/build/OAuth-Consumer-0.03-pH1ggY/blib/lib/OAuth/Consumer.pm line 472.
when is experimental at /home/fperrad/.cpan/build/OAuth-Consumer-0.03-pH1ggY/blib/lib/OAuth/Consumer.pm line 476.
when is experimental at /home/fperrad/.cpan/build/OAuth-Consumer-0.03-pH1ggY/blib/lib/OAuth/Consumer.pm line 480.
given is experimental at /home/fperrad/.cpan/build/OAuth-Consumer-0.03-pH1ggY/blib/lib/OAuth/Consumer.pm line 519.
when is experimental at /home/fperrad/.cpan/build/OAuth-Consumer-0.03-pH1ggY/blib/lib/OAuth/Consumer.pm line 520.
when is experimental at /home/fperrad/.cpan/build/OAuth-Consumer-0.03-pH1ggY/blib/lib/OAuth/Consumer.pm line 523.
when is experimental at /home/fperrad/.cpan/build/OAuth-Consumer-0.03-pH1ggY/blib/lib/OAuth/Consumer.pm line 526.
t/sandbox_thread.t .. skipped: You need a Perl with thread
given is experimental at /home/fperrad/.cpan/build/Test-Subs-0.08-bx6Dte/blib/lib/Test/Subs.pm line 324.
when is experimental at /home/fperrad/.cpan/build/Test-Subs-0.08-bx6Dte/blib/lib/Test/Subs.pm line 325.
when is experimental at /home/fperrad/.cpan/build/Test-Subs-0.08-bx6Dte/blib/lib/Test/Subs.pm line 329.
when is experimental at /home/fperrad/.cpan/build/Test-Subs-0.08-bx6Dte/blib/lib/Test/Subs.pm line 333.
given is experimental at /home/fperrad/.cpan/build/OAuth-Consumer-0.03-pH1ggY/blib/lib/OAuth/Consumer.pm line 326.
when is experimental at /home/fperrad/.cpan/build/OAuth-Consumer-0.03-pH1ggY/blib/lib/OAuth/Consumer.pm line 327.
when is experimental at /home/fperrad/.cpan/build/OAuth-Consumer-0.03-pH1ggY/blib/lib/OAuth/Consumer.pm line 328.
given is experimental at /home/fperrad/.cpan/build/OAuth-Consumer-0.03-pH1ggY/blib/lib/OAuth/Consumer.pm line 471.
when is experimental at /home/fperrad/.cpan/build/OAuth-Consumer-0.03-pH1ggY/blib/lib/OAuth/Consumer.pm line 472.
when is experimental at /home/fperrad/.cpan/build/OAuth-Consumer-0.03-pH1ggY/blib/lib/OAuth/Consumer.pm line 476.
when is experimental at /home/fperrad/.cpan/build/OAuth-Consumer-0.03-pH1ggY/blib/lib/OAuth/Consumer.pm line 480.
given is experimental at /home/fperrad/.cpan/build/OAuth-Consumer-0.03-pH1ggY/blib/lib/OAuth/Consumer.pm line 519.
when is experimental at /home/fperrad/.cpan/build/OAuth-Consumer-0.03-pH1ggY/blib/lib/OAuth/Consumer.pm line 520.
when is experimental at /home/fperrad/.cpan/build/OAuth-Consumer-0.03-pH1ggY/blib/lib/OAuth/Consumer.pm line 523.
when is experimental at /home/fperrad/.cpan/build/OAuth-Consumer-0.03-pH1ggY/blib/lib/OAuth/Consumer.pm line 526.
t/simple.t .......... ok
given is experimental at /home/fperrad/.cpan/build/Test-Subs-0.08-bx6Dte/blib/lib/Test/Subs.pm line 324.
when is experimental at /home/fperrad/.cpan/build/Test-Subs-0.08-bx6Dte/blib/lib/Test/Subs.pm line 325.
when is experimental at /home/fperrad/.cpan/build/Test-Subs-0.08-bx6Dte/blib/lib/Test/Subs.pm line 329.
when is experimental at /home/fperrad/.cpan/build/Test-Subs-0.08-bx6Dte/blib/lib/Test/Subs.pm line 333.
given is experimental at /home/fperrad/.cpan/build/OAuth-Consumer-0.03-pH1ggY/blib/lib/OAuth/Consumer.pm line 326.
when is experimental at /home/fperrad/.cpan/build/OAuth-Consumer-0.03-pH1ggY/blib/lib/OAuth/Consumer.pm line 327.
when is experimental at /home/fperrad/.cpan/build/OAuth-Consumer-0.03-pH1ggY/blib/lib/OAuth/Consumer.pm line 328.
given is experimental at /home/fperrad/.cpan/build/OAuth-Consumer-0.03-pH1ggY/blib/lib/OAuth/Consumer.pm line 471.
when is experimental at /home/fperrad/.cpan/build/OAuth-Consumer-0.03-pH1ggY/blib/lib/OAuth/Consumer.pm line 472.
when is experimental at /home/fperrad/.cpan/build/OAuth-Consumer-0.03-pH1ggY/blib/lib/OAuth/Consumer.pm line 476.
when is experimental at /home/fperrad/.cpan/build/OAuth-Consumer-0.03-pH1ggY/blib/lib/OAuth/Consumer.pm line 480.
given is experimental at /home/fperrad/.cpan/build/OAuth-Consumer-0.03-pH1ggY/blib/lib/OAuth/Consumer.pm line 519.
when is experimental at /home/fperrad/.cpan/build/OAuth-Consumer-0.03-pH1ggY/blib/lib/OAuth/Consumer.pm line 520.
when is experimental at /home/fperrad/.cpan/build/OAuth-Consumer-0.03-pH1ggY/blib/lib/OAuth/Consumer.pm line 523.
when is experimental at /home/fperrad/.cpan/build/OAuth-Consumer-0.03-pH1ggY/blib/lib/OAuth/Consumer.pm line 526.
t/timeout.t ......... ok
All tests successful.
Files=4, Tests=11,  9 wallclock secs ( 0.11 usr  0.03 sys +  2.57 cusr  0.42 csys =  3.13 CPU)
Result: PASS

------------------------------
PREREQUISITES
------------------------------

Prerequisite modules loaded:

requires:

    Module              Need     Have    
    ------------------- -------- --------
    Carp                0        1.29    
    Encode              0        2.49    
    HTML::Entities      0        3.69    
    HTTP::Response      0        6.04    
    IO::Socket::INET    0        1.33    
    LWP::Authen::OAuth  0        1.02    
    perl                5.008000 5.018000
    URI::Escape         0        3.31    

build_requires:

    Module              Need     Have    
    ------------------- -------- --------
    LWP::UserAgent      0        6.05    
    Test::Subs          0.07     0.08    
    WWW::Mechanize      0        1.72    

configure_requires:

    Module              Need     Have    
    ------------------- -------- --------
    ExtUtils::MakeMaker 6.3002   6.66    


------------------------------
ENVIRONMENT AND OTHER CONTEXT
------------------------------

Environment variables:

    AUTOMATED_TESTING = 1
    LANG = en_US.UTF-8
    LANGUAGE = en_US:en
    PATH = /home/fperrad/perl5/perlbrew/bin:/home/fperrad/perl5/perlbrew/perls/perl-5.18.0/bin:/usr/local/bin:/usr/bin:/bin:/usr/local/games:/usr/games
    PERL5LIB = /home/fperrad/.cpan/build/Test-Subs-0.08-bx6Dte/blib/arch:/home/fperrad/.cpan/build/Test-Subs-0.08-bx6Dte/blib/lib:/home/fperrad/.cpan/build/List-MoreUtils-0.33-AH0zGx/blib/arch:/home/fperrad/.cpan/build/List-MoreUtils-0.33-AH0zGx/blib/lib:/home/fperrad/.cpan/build/WWW-Mechanize-1.72-wDC124/blib/arch:/home/fperrad/.cpan/build/WWW-Mechanize-1.72-wDC124/blib/lib:/home/fperrad/.cpan/build/Test-Warn-0.24-GhfGP1/blib/arch:/home/fperrad/.cpan/build/Test-Warn-0.24-GhfGP1/blib/lib:/home/fperrad/.cpan/build/Tree-DAG_Node-1.13-bhKU0C/blib/arch:/home/fperrad/.cpan/build/Tree-DAG_Node-1.13-bhKU0C/blib/lib:/home/fperrad/.cpan/build/HTML-Form-6.03-6HO5VZ/blib/arch:/home/fperrad/.cpan/build/HTML-Form-6.03-6HO5VZ/blib/lib:/home/fperrad/.cpan/build/HTTP-Server-Simple-0.44-wTxAHc/blib/arch:/home/fperrad/.cpan/build/HTTP-Server-Simple-0.44-wTxAHc/blib/lib:/home/fperrad/.cpan/build/HTML-Tree-5.03-iqqH3_/blib/arch:/home/fperrad/.cpan/build/HTML-Tree-5.03-iqqH3_/blib/lib:/home/fperrad/.cpan/build/Test-Fatal-0.010-Tlwppk/blib/arch:/home/fperrad/.cpan/build/Test-Fatal-0.010-Tlwppk/blib/lib:/home/fperrad/.cpan/build/Try-Tiny-0.16-B0NZaA/blib/arch:/home/fperrad/.cpan/build/Try-Tiny-0.16-B0NZaA/blib/lib:/home/fperrad/.cpan/build/LWP-Authen-OAuth-1.02-NptJPh/blib/arch:/home/fperrad/.cpan/build/LWP-Authen-OAuth-1.02-NptJPh/blib/lib
    PERL5OPT = 
    PERL5_CPANPLUS_IS_RUNNING = 11495
    PERL5_CPAN_IS_RUNNING = 11495
    PERL5_CPAN_IS_RUNNING_IN_RECURSION = 7755,11495
    PERLBREW_BASHRC_VERSION = 0.64
    PERLBREW_HOME = /home/fperrad/.perlbrew
    PERLBREW_MANPATH = /home/fperrad/perl5/perlbrew/perls/perl-5.18.0/man
    PERLBREW_PATH = /home/fperrad/perl5/perlbrew/bin:/home/fperrad/perl5/perlbrew/perls/perl-5.18.0/bin
    PERLBREW_PERL = perl-5.18.0
    PERLBREW_ROOT = /home/fperrad/perl5/perlbrew
    PERLBREW_VERSION = 0.64
    PERL_CR_SMOKER_CURRENT = OAuth-Consumer-0.03
    PERL_EXTUTILS_AUTOINSTALL = --defaultdeps
    PERL_MM_USE_DEFAULT = 1
    SHELL = /bin/bash
    TERM = linux

Perl special variables (and OS-specific diagnostics, for MSWin32):

    $^X = /home/fperrad/perl5/perlbrew/perls/perl-5.18.0/bin/perl
    $UID/$EUID = 1000 / 1000
    $GID = 1000 24 25 29 30 44 46 1000
    $EGID = 1000 24 25 29 30 44 46 1000

Perl module toolchain versions installed:

    Module              Have    
    ------------------- --------
    CPAN                2.00    
    CPAN::Meta          2.120921
    Cwd                 3.40    
    ExtUtils::CBuilder  0.280210
    ExtUtils::Command   1.17    
    ExtUtils::Install   1.59    
    ExtUtils::MakeMaker 6.66    
    ExtUtils::Manifest  1.63    
    ExtUtils::ParseXS   3.18    
    File::Spec          3.40    
    JSON                2.59    
    JSON::PP            2.27202 
    Module::Build       0.4003  
    Module::Signature   n/a     
    Parse::CPAN::Meta   1.4404  
    Test::Harness       3.26    
    Test::More          0.98    
    YAML                0.84    
    YAML::Syck          1.27    
    version             0.9902  


--

Summary of my perl5 (revision 5 version 18 subversion 0) configuration:
   
  Platform:
    osname=linux, osvers=3.2.0-4-486, archname=i686-linux
    uname='linux etx 3.2.0-4-486 #1 debian 3.2.46-1 i686 gnulinux '
    config_args='-de -Dprefix=/home/fperrad/perl5/perlbrew/perls/perl-5.18.0 -Aeval:scriptdir=/home/fperrad/perl5/perlbrew/perls/perl-5.18.0/bin'
    hint=recommended, useposix=true, d_sigaction=define
    useithreads=undef, usemultiplicity=undef
    useperlio=define, d_sfio=undef, uselargefiles=define, usesocks=undef
    use64bitint=undef, use64bitall=undef, uselongdouble=undef
    usemymalloc=n, bincompat5005=undef
  Compiler:
    cc='cc', ccflags ='-fno-strict-aliasing -pipe -fstack-protector -I/usr/local/include -D_LARGEFILE_SOURCE -D_FILE_OFFSET_BITS=64',
    optimize='-O2',
    cppflags='-fno-strict-aliasing -pipe -fstack-protector -I/usr/local/include'
    ccversion='', gccversion='4.7.2', gccosandvers=''
    intsize=4, longsize=4, ptrsize=4, doublesize=8, byteorder=1234
    d_longlong=define, longlongsize=8, d_longdbl=define, longdblsize=12
    ivtype='long', ivsize=4, nvtype='double', nvsize=8, Off_t='off_t', lseeksize=8
    alignbytes=4, prototype=define
  Linker and Libraries:
    ld='cc', ldflags =' -fstack-protector -L/usr/local/lib'
    libpth=/usr/local/lib /lib/i386-linux-gnu /lib/../lib /usr/lib/i386-linux-gnu /usr/lib/../lib /lib /usr/lib
    libs=-lnsl -lgdbm -ldb -ldl -lm -lcrypt -lutil -lc -lgdbm_compat
    perllibs=-lnsl -ldl -lm -lcrypt -lutil -lc
    libc=, so=so, useshrplib=false, libperl=libperl.a
    gnulibc_version='2.13'
  Dynamic Linking:
    dlsrc=dl_dlopen.xs, dlext=so, d_dlsymun=undef, ccdlflags='-Wl,-E'
    cccdlflags='-fPIC', lddlflags='-shared -O2 -L/usr/local/lib -fstack-protector'


Characteristics of this binary (from libperl): 
  Compile-time options: HAS_TIMES PERLIO_LAYERS PERL_DONT_CREATE_GVSV
                        PERL_HASH_FUNC_ONE_AT_A_TIME_HARD PERL_MALLOC_WRAP
                        PERL_PRESERVE_IVUV PERL_SAWAMPERSAND USE_LARGE_FILES
                        USE_LOCALE USE_LOCALE_COLLATE USE_LOCALE_CTYPE
                        USE_LOCALE_NUMERIC USE_PERLIO USE_PERL_ATOF
  Built under linux
  Compiled at Jul 22 2013 18:13:19
  %ENV:
    PERL5LIB="/home/fperrad/.cpan/build/Test-Subs-0.08-bx6Dte/blib/arch:/home/fperrad/.cpan/build/Test-Subs-0.08-bx6Dte/blib/lib:/home/fperrad/.cpan/build/List-MoreUtils-0.33-AH0zGx/blib/arch:/home/fperrad/.cpan/build/List-MoreUtils-0.33-AH0zGx/blib/lib:/home/fperrad/.cpan/build/WWW-Mechanize-1.72-wDC124/blib/arch:/home/fperrad/.cpan/build/WWW-Mechanize-1.72-wDC124/blib/lib:/home/fperrad/.cpan/build/Test-Warn-0.24-GhfGP1/blib/arch:/home/fperrad/.cpan/build/Test-Warn-0.24-GhfGP1/blib/lib:/home/fperrad/.cpan/build/Tree-DAG_Node-1.13-bhKU0C/blib/arch:/home/fperrad/.cpan/build/Tree-DAG_Node-1.13-bhKU0C/blib/lib:/home/fperrad/.cpan/build/HTML-Form-6.03-6HO5VZ/blib/arch:/home/fperrad/.cpan/build/HTML-Form-6.03-6HO5VZ/blib/lib:/home/fperrad/.cpan/build/HTTP-Server-Simple-0.44-wTxAHc/blib/arch:/home/fperrad/.cpan/build/HTTP-Server-Simple-0.44-wTxAHc/blib/lib:/home/fperrad/.cpan/build/HTML-Tree-5.03-iqqH3_/blib/arch:/home/fperrad/.cpan/build/HTML-Tree-5.03-iqqH3_/blib/lib:/home/fperrad/.cpan/build/Test-Fatal-0.010-Tlwppk/blib/arch:/home/fperrad/.cpan/build/Test-Fatal-0.010-Tlwppk/blib/lib:/home/fperrad/.cpan/build/Try-Tiny-0.16-B0NZaA/blib/arch:/home/fperrad/.cpan/build/Try-Tiny-0.16-B0NZaA/blib/lib:/home/fperrad/.cpan/build/LWP-Authen-OAuth-1.02-NptJPh/blib/arch:/home/fperrad/.cpan/build/LWP-Authen-OAuth-1.02-NptJPh/blib/lib"
    PERL5OPT=""
    PERL5_CPANPLUS_IS_RUNNING="11495"
    PERL5_CPAN_IS_RUNNING="11495"
    PERL5_CPAN_IS_RUNNING_IN_RECURSION="7755,11495"
    PERLBREW_BASHRC_VERSION="0.64"
    PERLBREW_HOME="/home/fperrad/.perlbrew"
    PERLBREW_MANPATH="/home/fperrad/perl5/perlbrew/perls/perl-5.18.0/man"
    PERLBREW_PATH="/home/fperrad/perl5/perlbrew/bin:/home/fperrad/perl5/perlbrew/perls/perl-5.18.0/bin"
    PERLBREW_PERL="perl-5.18.0"
    PERLBREW_ROOT="/home/fperrad/perl5/perlbrew"
    PERLBREW_VERSION="0.64"
    PERL_CR_SMOKER_CURRENT="OAuth-Consumer-0.03"
    PERL_EXTUTILS_AUTOINSTALL="--defaultdeps"
    PERL_MM_USE_DEFAULT="1"
  @INC:
    /home/fperrad/.cpan/build/Test-Subs-0.08-bx6Dte/blib/arch
    /home/fperrad/.cpan/build/Test-Subs-0.08-bx6Dte/blib/lib
    /home/fperrad/.cpan/build/List-MoreUtils-0.33-AH0zGx/blib/arch
    /home/fperrad/.cpan/build/List-MoreUtils-0.33-AH0zGx/blib/lib
    /home/fperrad/.cpan/build/WWW-Mechanize-1.72-wDC124/blib/arch
    /home/fperrad/.cpan/build/WWW-Mechanize-1.72-wDC124/blib/lib
    /home/fperrad/.cpan/build/Test-Warn-0.24-GhfGP1/blib/arch
    /home/fperrad/.cpan/build/Test-Warn-0.24-GhfGP1/blib/lib
    /home/fperrad/.cpan/build/Tree-DAG_Node-1.13-bhKU0C/blib/arch
    /home/fperrad/.cpan/build/Tree-DAG_Node-1.13-bhKU0C/blib/lib
    /home/fperrad/.cpan/build/HTML-Form-6.03-6HO5VZ/blib/arch
    /home/fperrad/.cpan/build/HTML-Form-6.03-6HO5VZ/blib/lib
    /home/fperrad/.cpan/build/HTTP-Server-Simple-0.44-wTxAHc/blib/arch
    /home/fperrad/.cpan/build/HTTP-Server-Simple-0.44-wTxAHc/blib/lib
    /home/fperrad/.cpan/build/HTML-Tree-5.03-iqqH3_/blib/arch
    /home/fperrad/.cpan/build/HTML-Tree-5.03-iqqH3_/blib/lib
    /home/fperrad/.cpan/build/Test-Fatal-0.010-Tlwppk/blib/arch
    /home/fperrad/.cpan/build/Test-Fatal-0.010-Tlwppk/blib/lib
    /home/fperrad/.cpan/build/Try-Tiny-0.16-B0NZaA/blib/arch
    /home/fperrad/.cpan/build/Try-Tiny-0.16-B0NZaA/blib/lib
    /home/fperrad/.cpan/build/LWP-Authen-OAuth-1.02-NptJPh/blib/arch
    /home/fperrad/.cpan/build/LWP-Authen-OAuth-1.02-NptJPh/blib/lib
    /home/fperrad/perl5/perlbrew/perls/perl-5.18.0/lib/site_perl/5.18.0/i686-linux
    /home/fperrad/perl5/perlbrew/perls/perl-5.18.0/lib/site_perl/5.18.0
    /home/fperrad/perl5/perlbrew/perls/perl-5.18.0/lib/5.18.0/i686-linux
    /home/fperrad/perl5/perlbrew/perls/perl-5.18.0/lib/5.18.0
    .