Report for Test-MockDBI-0.70

Back
From: metabase:user:d2c9f356-b46f-11df-9a90-20a83c0b7757
Subject: PASS Test-MockDBI-0.70 v5.10.1 SunOS/Solaris
Date: 2012-09-07T14:58:37Z

This distribution has been tested as part of the CPAN Testers
project, supporting the Perl programming language.  See
http://wiki.cpantesters.org/ for more information or email
questions to cpan-testers-discuss@perl.org


--
Dear Andreas Faafeng,

This is a computer-generated report for Test-MockDBI-0.70
on perl 5.10.1, created by CPAN-Reporter-1.2006.

Thank you for uploading your work to CPAN.  Congratulations!
All tests were successful.

Sections of this report:

    * Tester comments
    * Program output
    * Prerequisites
    * Environment and other context

------------------------------
TESTER COMMENTS
------------------------------

Additional comments from tester:

this report is from an automated smoke testing program
and was not reviewed by a human for accuracy

------------------------------
PROGRAM OUTPUT
------------------------------

Output from '/usr/local/bin/make test':

PERL_DL_NONLAZY=1 /export/home/cpantest/perl5/bin/perl "-MExtUtils::Command::MM" "-e" "test_harness(0, 'blib/lib', 'blib/arch')" t/*.t
# Testing Test::MockDBI 0.70, Perl 5.010001, /export/home/cpantest/perl5/bin/perl, archname=i86pc-solaris-64int, byteorder=12345678
t/00-env.t ........................... ok
t/000-use.t .......................... ok
t/001-connect.t ...................... ok
t/002-prepare.t ...................... ok
t/003-ping.t ......................... ok
t/004-execute.t ...................... ok
t/005-fetchrow_hashref.t ............. ok
t/006-bind_param.t ................... ok
t/007-bind_param_inout.t ............. ok
t/008-rows.t ......................... ok
t/009-auto_commit.t .................. ok
t/010-fetchrow_arrayref.t ............ ok
t/011-prepare_cached.t ............... ok
t/012-do.t ........................... ok
t/100-set-fake-retval.t .............. ok
t/101-set-fake-retval-coderef.t ...... ok
t/102-set-inout-value.t .............. ok
t/103-bad_method.t ................... ok
t/104-bad-params.t ................... ok
t/800-die-on-unsupported-method.t .... ok
t/bad_param-1.t ...................... ok
t/bad_param-2.t ...................... ok
t/bad_param-ok-2of3.t ................ ok
t/bad_param-ok-none.t ................ ok
t/coderef-array-1.t .................. ok
t/coderef-array-many.t ............... ok
t/coderef-scalar-0.t ................. ok
t/coderef-scalar-1.t ................. ok
t/coderef-scalar-many.t .............. ok
t/connect.t .......................... ok
t/fetch-0.t .......................... ok
t/fetch-empty.t ...................... ok
t/fetchall_arrayref-0.t .............. ok
t/fetchall_arrayref-1.t .............. ok
t/fetchall_arrayref-many.t ........... ok
t/fetchrow_array-0.t ................. ok
t/fetchrow_array-1.t ................. ok
t/fetchrow_array-different-sql.t ..... ok
t/fetchrow_array-many.t .............. ok
t/fetchrow_arrayref-0.t .............. ok
t/fetchrow_arrayref-1.t .............. ok
t/fetchrow_arrayref-different-sql.t .. ok
t/fetchrow_arrayref-many.t ........... ok
t/fetchrow_hashref-1.t ............... ok
t/fetchrow_hashref-2.t ............... ok
t/fetchrow_hashref-many.t ............ ok
t/set_rows-different-numeric.t ....... ok
t/set_rows-no-arg.t .................. ok
t/set_rows-numeric.t ................. ok
t/set_rows-undef.t ................... ok
All tests successful.
Files=50, Tests=431,  8 wallclock secs ( 0.45 usr  0.34 sys +  3.32 cusr  0.80 csys =  4.91 CPU)
Result: PASS

------------------------------
PREREQUISITES
------------------------------

Prerequisite modules loaded:

requires:

    Module                Need Have      
    --------------------- ---- ----------
    Carp                  0    1.26      
    Clone                 0    0.31      
    DBI                   0    1.622     
    File::Spec::Functions 0    3.33      
    Scalar::Util          0    1.25      
    Test::Differences     0    0.61      
    Test::MockObject      0.14 1.20120301
    Test::More            0    0.98      
    Test::Warn            0    0.24      

build_requires:

    Module                Need Have      
    --------------------- ---- ----------
    CPAN::Meta            0    2.120921  

configure_requires:

    Module                Need Have      
    --------------------- ---- ----------
    ExtUtils::MakeMaker   0    6.62      


------------------------------
ENVIRONMENT AND OTHER CONTEXT
------------------------------

Environment variables:

    AUTOMATED_TESTING = 1
    LANG = C
    LD_LIBRARY_PATH = /usr/local/lib:
    PATH = /export/home/cpantest/perl5/bin:/usr/local/bin:/usr/bin
    PERL5LIB = 
    PERL5OPT = 
    PERL5_CPANPLUS_IS_RUNNING = 23759
    PERL5_CPAN_IS_RUNNING = 23759
    PERL5_CPAN_IS_RUNNING_IN_RECURSION = 17862,23759
    PERL_CR_SMOKER_CURRENT = Test-MockDBI-0.70
    PERL_EXTUTILS_AUTOINSTALL = --defaultdeps
    PERL_MM_USE_DEFAULT = 1
    SHELL = /usr/bin/bash
    TERM = xterm

Perl special variables (and OS-specific diagnostics, for MSWin32):

    $^X = /export/home/cpantest/perl5/bin/perl
    $UID/$EUID = 100 / 100
    $GID = 1 1
    $EGID = 1 1

Perl module toolchain versions installed:

    Module              Have    
    ------------------- --------
    CPAN                1.9800  
    CPAN::Meta          2.120921
    Cwd                 3.33    
    ExtUtils::CBuilder  0.280205
    ExtUtils::Command   1.17    
    ExtUtils::Install   1.54    
    ExtUtils::MakeMaker 6.62    
    ExtUtils::Manifest  1.60    
    ExtUtils::ParseXS   3.15    
    File::Spec          3.33    
    JSON                2.53    
    JSON::PP            2.27200 
    Module::Build       0.4003  
    Module::Signature   n/a     
    Parse::CPAN::Meta   1.4404  
    Test::Harness       3.25    
    Test::More          0.98    
    YAML                0.84    
    YAML::Syck          1.20    
    version             0.99    


--

Summary of my perl5 (revision 5 version 10 subversion 1) configuration:
   
  Platform:
    osname=solaris, osvers=2.10, archname=i86pc-solaris-64int
    uname='sunos vmrz0046 5.10 generic_141445-09 i86pc i386 i86pc '
    config_args='-Dcc=gcc -Dprefix=~/perl5 -Duse64bitint -d'
    hint=recommended, useposix=true, d_sigaction=define
    useithreads=undef, usemultiplicity=undef
    useperlio=define, d_sfio=undef, uselargefiles=define, usesocks=undef
    use64bitint=define, use64bitall=undef, uselongdouble=undef
    usemymalloc=n, bincompat5005=undef
  Compiler:
    cc='gcc', ccflags ='-DPTR_IS_LONG -fno-strict-aliasing -pipe -I/usr/local/include -D_LARGEFILE_SOURCE -D_FILE_OFFSET_BITS=64 -DPERL_USE_SAFE_PUTENV -DPERL_USE_SAFE_PUTENV',
    optimize='-O',
    cppflags='-DPTR_IS_LONG -fno-strict-aliasing -pipe -I/usr/local/include'
    ccversion='', gccversion='3.4.6', gccosandvers='solaris2.10'
    intsize=4, longsize=4, ptrsize=4, doublesize=8, byteorder=12345678
    d_longlong=define, longlongsize=8, d_longdbl=define, longdblsize=12
    ivtype='long long', ivsize=8, nvtype='double', nvsize=8, Off_t='off_t', lseeksize=8
    alignbytes=4, prototype=define
  Linker and Libraries:
    ld='gcc', ldflags =' -L/usr/local/lib '
    libpth=/usr/local/lib /usr/lib /usr/ccs/lib
    libs=-lsocket -lnsl -ldl -lm -lc
    perllibs=-lsocket -lnsl -ldl -lm -lc
    libc=/lib/libc.so, so=so, useshrplib=false, libperl=libperl.a
    gnulibc_version=''
  Dynamic Linking:
    dlsrc=dl_dlopen.xs, dlext=so, d_dlsymun=undef, ccdlflags=' '
    cccdlflags='-fPIC', lddlflags='-G -L/usr/local/lib'


Characteristics of this binary (from libperl): 
  Compile-time options: PERL_DONT_CREATE_GVSV PERL_MALLOC_WRAP
                        PERL_USE_SAFE_PUTENV USE_64_BIT_INT USE_LARGE_FILES
                        USE_PERLIO
  Built under solaris
  Compiled at Mar  1 2011 16:15:56
  %ENV:
    PERL5LIB=""
    PERL5OPT=""
    PERL5_CPANPLUS_IS_RUNNING="23759"
    PERL5_CPAN_IS_RUNNING="23759"
    PERL5_CPAN_IS_RUNNING_IN_RECURSION="17862,23759"
    PERL_CR_SMOKER_CURRENT="Test-MockDBI-0.70"
    PERL_EXTUTILS_AUTOINSTALL="--defaultdeps"
    PERL_MM_USE_DEFAULT="1"
  @INC:
    /export/home/cpantest/perl5/lib/5.10.1/i86pc-solaris-64int
    /export/home/cpantest/perl5/lib/5.10.1
    /export/home/cpantest/perl5/lib/site_perl/5.10.1/i86pc-solaris-64int
    /export/home/cpantest/perl5/lib/site_perl/5.10.1
    /export/home/cpantest/perl5/lib/site_perl
    .