grok v0.26 Perl 5 v5.26.1 OpenBSD.amd64-openbsd-thread-multi-ld

Status
Pass
From
Alceu Rodrigues de Freitas Junior
Dist
grok v0.26
Platform
Perl 5 v5.26.1 OpenBSD.amd64-openbsd-thread-multi-ld
Date
2018-03-22 12:49:47
ID
80ace04c-2dcf-11e8-b499-9b17ca2e601c
This distribution has been tested as part of the CPAN Testers
project, supporting the Perl programming language.  See
http://wiki.cpantesters.org/ for more information or email
questions to cpan-testers-discuss@perl.org


--
Dear Hinrik Orn Sigurdsson,

This is a computer-generated report for grok-0.26
on perl 5.26.1, created by CPAN-Reporter-1.2018.

Thank you for uploading your work to CPAN.  Congratulations!
All tests were successful.

Sections of this report:

    * Tester comments
    * Program output
    * Prerequisites
    * Environment and other context

------------------------------
TESTER COMMENTS
------------------------------

Additional comments from tester:

this report is from an automated smoke testing program
and was not reviewed by a human for accuracy

------------------------------
PROGRAM OUTPUT
------------------------------

Output from '/usr/bin/make test':

PERL_DL_NONLAZY=1 "/home/vegeta/perl5/perlbrew/perls/perl-5.26.1/bin/perl" "-MExtUtils::Command::MM" "-MTest::Harness" "-e" "undef *Test::Harness::Switches; test_harness(0, 'blib/lib', 'blib/arch')" t/*.t t/02_source/*.t t/03_opts/*.t t/04_targets/*.t
# Pod::Parser version 1.63
# Pod::Simple version 3.35
# Pod::Text version 4.10
# Pod::Xhtml version 1.61
t/01_compile.t .............. ok
t/02_source/01_pod5.t ....... ok
t/02_source/02_pod6.t ....... ok
t/03_opts/01_file.t ......... ok
t/03_opts/02_output.t ....... ok
t/03_opts/03_help.t ......... ok
t/03_opts/04_version.t ...... ok
t/03_opts/05_no_pager.t ..... ok
t/03_opts/06_index.t ........ ok
t/03_opts/07_locate.t ....... ok
t/04_targets/01_file.t ...... ok
t/04_targets/02_synopsis.t .. ok
t/04_targets/03_function.t .. ok
t/04_targets/04_tablet.t .... ok
t/04_targets/05_failure.t ... ok
t/04_targets/06_man_page.t .. ok
All tests successful.

Test Summary Report
-------------------
t/04_targets/02_synopsis.t (Wstat: 0 Tests: 4 Failed: 0)
  TODO passed:   3
Files=16, Tests=58, 13 wallclock secs ( 0.07 usr  0.10 sys +  7.26 cusr  3.15 csys = 10.58 CPU)
Result: PASS

------------------------------
PREREQUISITES
------------------------------

Prerequisite modules loaded:

requires:

    Module                   Need   Have     
    ------------------------ ------ ---------
    File::HomeDir            0      1.003_002
    File::ShareDir           0      1.104    
    File::Temp               0      0.2304   
    Getopt::Long             2.33   2.5      
    IO::Interactive          0      1.022    
    IO::Socket::SSL          0      2.056    
    LWP::UserAgent           0      6.33     
    Perl6::Doc               0.47   0.47     
    Perl6::Perldoc           v0.0.5 0.000013 
    Perl6::Perldoc::To::Ansi 0.07   0.11     
    Pod::Parser              1.36   1.63     
    Pod::Text::Ansi          0.04   0.05     
    Pod::Xhtml               0      1.61     

build_requires:

    Module                   Need   Have     
    ------------------------ ------ ---------
    Test::More               0.47   1.302134 
    Test::Script             1.07   1.23     

configure_requires:

    Module                   Need   Have     
    ------------------------ ------ ---------
    ExtUtils::MakeMaker      6.30   7.34     

opt_requires:

    Module                   Need   Have     
    ------------------------ ------ ---------
    Term::ProgressBar        0      2.21     
  ! Win32::Console::ANSI     0      n/a      


------------------------------
ENVIRONMENT AND OTHER CONTEXT
------------------------------

Environment variables:

    AUTOMATED_TESTING = 1
    DBD_MYSQL_TESTDB = test
    DBD_MYSQL_TESTHOST = localhost
    DBD_MYSQL_TESTPASSWORD = 
    DBD_MYSQL_TESTPORT = 3306
    DBD_MYSQL_TESTUSER = vegeta
    EXTENDED_TESTING = 1
    PATH = /home/vegeta/perl5/perlbrew/bin:/home/vegeta/perl5/perlbrew/perls/perl-5.26.1/bin:/home/vegeta/bin:/usr/bin:/bin:/usr/sbin:/sbin:/usr/X11R6/bin:/usr/local/bin:/usr/local/sbin
    PERL5LIB = 
    PERL5OPT = 
    PERL5_CPANPLUS_IS_RUNNING = 52352
    PERL5_CPAN_IS_RUNNING = 52352
    PERL5_CPAN_IS_RUNNING_IN_RECURSION = 81113,52352
    PERLBREW_HOME = /home/vegeta/.perlbrew
    PERLBREW_MANPATH = /home/vegeta/perl5/perlbrew/perls/perl-5.26.1/man
    PERLBREW_PATH = /home/vegeta/perl5/perlbrew/bin:/home/vegeta/perl5/perlbrew/perls/perl-5.26.1/bin
    PERLBREW_PERL = perl-5.26.1
    PERLBREW_ROOT = /home/vegeta/perl5/perlbrew
    PERLBREW_SHELLRC_VERSION = 0.82
    PERLBREW_VERSION = 0.82
    PERL_CR_SMOKER_CURRENT = grok-0.26
    PERL_EXTUTILS_AUTOINSTALL = --defaultdeps
    PERL_MM_USE_DEFAULT = 1
    SHELL = /usr/local/bin/bash
    TERM = xterm

Perl special variables (and OS-specific diagnostics, for MSWin32):

    $^X = /home/vegeta/perl5/perlbrew/perls/perl-5.26.1/bin/perl
    $UID/$EUID = 1002 / 1002
    $GID = 1002 1002 1001
    $EGID = 1002 1002 1001

Perl module toolchain versions installed:

    Module              Have    
    ------------------- --------
    CPAN                2.16    
    CPAN::Meta          2.150010
    Cwd                 3.74    
    ExtUtils::CBuilder  0.280230
    ExtUtils::Command   7.34    
    ExtUtils::Install   2.14    
    ExtUtils::MakeMaker 7.34    
    ExtUtils::Manifest  1.70    
    ExtUtils::ParseXS   3.35    
    File::Spec          3.74    
    JSON                2.90    
    JSON::PP            2.97001 
    Module::Build       0.4224  
    Module::Signature   n/a     
    Parse::CPAN::Meta   2.150010
    Test::Harness       3.42    
    Test::More          1.302134
    YAML                1.24    
    YAML::Syck          1.30    
    version             0.9918  


--

Summary of my perl5 (revision 5 version 26 subversion 1) configuration:
   
  Platform:
    osname=openbsd
    osvers=6.2
    archname=OpenBSD.amd64-openbsd-thread-multi-ld
    uname='openbsd cpan-smoker-openbsd 6.2 generic.mp#134 amd64 '
    config_args='-de -Dprefix=/home/vegeta/perl5/perlbrew/perls/perl-5.26.1 -Dman1dir=none -Dman3dir=none -Duse64bitint -Duselongdouble -Duse64bitall -Dusethreads -Dusemultiplicity -Aeval:scriptdir=/home/vegeta/perl5/perlbrew/perls/perl-5.26.1/bin'
    hint=recommended
    useposix=true
    d_sigaction=define
    useithreads=define
    usemultiplicity=define
    use64bitint=define
    use64bitall=define
    uselongdouble=define
    usemymalloc=n
    default_inc_excludes_dot=define
    bincompat5005=undef
  Compiler:
    cc='cc'
    ccflags ='-pthread -fno-strict-aliasing -pipe -fstack-protector-strong -I/usr/local/include -D_FORTIFY_SOURCE=2'
    optimize='-O2'
    cppflags='-pthread -fno-strict-aliasing -pipe -fstack-protector-strong -I/usr/local/include'
    ccversion=''
    gccversion='4.2.1 Compatible OpenBSD Clang 4.0.0 (tags/RELEASE_400/final)'
    gccosandvers=''
    intsize=4
    longsize=8
    ptrsize=8
    doublesize=8
    byteorder=12345678
    doublekind=3
    d_longlong=define
    longlongsize=8
    d_longdbl=define
    longdblsize=16
    longdblkind=3
    ivtype='long'
    ivsize=8
    nvtype='long double'
    nvsize=16
    Off_t='off_t'
    lseeksize=8
    alignbytes=16
    prototype=define
  Linker and Libraries:
    ld='cc'
    ldflags ='-pthread -Wl,-E  -fstack-protector-strong -L/usr/local/lib'
    libpth=/usr/lib /usr/local/lib
    libs=-lpthread -lm -lutil -lc
    perllibs=-lpthread -lm -lutil -lc
    libc=/usr/lib/libc.so.90.0
    so=so
    useshrplib=false
    libperl=libperl.a
    gnulibc_version=''
  Dynamic Linking:
    dlsrc=dl_dlopen.xs
    dlext=so
    d_dlsymun=undef
    ccdlflags=' '
    cccdlflags='-DPIC -fPIC '
    lddlflags='-shared -fPIC  -L/usr/local/lib -fstack-protector-strong'


Characteristics of this binary (from libperl): 
  Compile-time options:
    HAS_TIMES
    MULTIPLICITY
    PERLIO_LAYERS
    PERL_COPY_ON_WRITE
    PERL_DONT_CREATE_GVSV
    PERL_IMPLICIT_CONTEXT
    PERL_MALLOC_WRAP
    PERL_OP_PARENT
    PERL_PRESERVE_IVUV
    USE_64_BIT_ALL
    USE_64_BIT_INT
    USE_ITHREADS
    USE_LARGE_FILES
    USE_LOCALE
    USE_LOCALE_COLLATE
    USE_LOCALE_CTYPE
    USE_LOCALE_NUMERIC
    USE_LOCALE_TIME
    USE_LONG_DOUBLE
    USE_PERLIO
    USE_PERL_ATOF
    USE_REENTRANT_API
  Locally applied patches:
    Devel::PatchPerl 1.48
  Built under openbsd
  Compiled at Mar  6 2018 14:52:27
  %ENV:
    PERL5LIB=""
    PERL5OPT=""
    PERL5_CPANPLUS_IS_RUNNING="52352"
    PERL5_CPAN_IS_RUNNING="52352"
    PERL5_CPAN_IS_RUNNING_IN_RECURSION="81113,52352"
    PERLBREW_HOME="/home/vegeta/.perlbrew"
    PERLBREW_MANPATH="/home/vegeta/perl5/perlbrew/perls/perl-5.26.1/man"
    PERLBREW_PATH="/home/vegeta/perl5/perlbrew/bin:/home/vegeta/perl5/perlbrew/perls/perl-5.26.1/bin"
    PERLBREW_PERL="perl-5.26.1"
    PERLBREW_ROOT="/home/vegeta/perl5/perlbrew"
    PERLBREW_SHELLRC_VERSION="0.82"
    PERLBREW_VERSION="0.82"
    PERL_CR_SMOKER_CURRENT="grok-0.26"
    PERL_EXTUTILS_AUTOINSTALL="--defaultdeps"
    PERL_MM_USE_DEFAULT="1"
  @INC:
    /home/vegeta/perl5/perlbrew/perls/perl-5.26.1/lib/site_perl/5.26.1/OpenBSD.amd64-openbsd-thread-multi-ld
    /home/vegeta/perl5/perlbrew/perls/perl-5.26.1/lib/site_perl/5.26.1
    /home/vegeta/perl5/perlbrew/perls/perl-5.26.1/lib/5.26.1/OpenBSD.amd64-openbsd-thread-multi-ld
    /home/vegeta/perl5/perlbrew/perls/perl-5.26.1/lib/5.26.1