Net-IPv6Addr v1.0 Perl 5 v5.30.0 armv7l-linux-64int

Status
Pass
From
Nigel Horne
Dist
Net-IPv6Addr v1.0
Platform
Perl 5 v5.30.0 armv7l-linux-64int
Date
2020-06-17 07:31:05
ID
80affc24-b06c-11ea-bf4e-ad615dd88a75
This distribution has been tested as part of the CPAN Testers
project, supporting the Perl programming language.  See
http://wiki.cpantesters.org/ for more information or email
questions to cpan-testers-discuss@perl.org


--
Dear Ben Bullock,

This is a computer-generated report for Net-IPv6Addr-1.0
on perl 5.30.0, created by CPAN-Reporter-1.2018.

Thank you for uploading your work to CPAN.  Congratulations!
All tests were successful.

Sections of this report:

    * Tester comments
    * Program output
    * Prerequisites
    * Environment and other context

------------------------------
TESTER COMMENTS
------------------------------

Additional comments from tester:

this report is from an automated smoke testing program
and was not reviewed by a human for accuracy

------------------------------
PROGRAM OUTPUT
------------------------------

Output from '/usr/bin/make test':

PERL_DL_NONLAZY=1 "/mnt/nas/home/pi4/njh/perl5/perlbrew/perls/perl-5.30.0-64int/bin/perl5.30.0" "-MExtUtils::Command::MM" "-MTest::Harness" "-e" "undef *Test::Harness::Switches; test_harness(0, 'blib/lib', 'blib/arch')" t/*.t
t/compressed.t ... ok
t/base85.t ....... ok
t/chkip.t ........ ok
t/in-network.t ... ok
t/ipv4.t ......... ok
t/ipv4comp.t ..... ok
t/new.t .......... ok
t/bigint.t ....... ok
t/preferred.t .... ok
t/parse.t ........ ok
t/rfc5952.t ...... ok
t/Regexp-IPv6.t .. ok
t/string.t ....... ok
t/synopsis.t ..... ok
t/vietnam.t ...... ok
All tests successful.
Files=15, Tests=831,  2 wallclock secs ( 0.37 usr  0.06 sys +  4.63 cusr  0.65 csys =  5.71 CPU)
Result: PASS

------------------------------
PREREQUISITES
------------------------------

Prerequisite modules loaded:

requires:

    Module              Need     Have    
    ------------------- -------- --------
    Carp                0        1.50    
    Math::Base85        0.2      0.4     
    Math::BigInt        1.999813 1.999818
    Net::IPv4Addr       0.10     0.10    
    perl                5.006000 5.030000

build_requires:

    Module              Need     Have    
    ------------------- -------- --------
    ExtUtils::MakeMaker 0        7.44    

configure_requires:

    Module              Need     Have    
    ------------------- -------- --------
    ExtUtils::MakeMaker 0        7.44    


------------------------------
ENVIRONMENT AND OTHER CONTEXT
------------------------------

Environment variables:

    AUTOMATED_TESTING = 1
    HARNESS_OPTIONS = j4
    LANG = en_US.UTF-8
    PATH = /home/njh/perl5/perlbrew/bin:/home/njh/perl5/perlbrew/perls/perl-5.30.0-64int/bin:/usr/bin:/bin:/home/njh/src/njh/smoker/bin
    PERL5LIB = /var/tmp/build/Net-IPv4Addr-0.10-5/blib/arch:/var/tmp/build/Net-IPv4Addr-0.10-5/blib/lib:/var/tmp/build/Math-Base85-0.4-5/blib/arch:/var/tmp/build/Math-Base85-0.4-5/blib/lib
    PERL5OPT = 
    PERL5_CPANPLUS_IS_RUNNING = 28165
    PERL5_CPAN_IS_RUNNING = 28165
    PERL5_CPAN_IS_RUNNING_IN_RECURSION = 28141,28165
    PERLBREW_HOME = /home/njh/.perlbrew
    PERLBREW_MANPATH = /home/njh/perl5/perlbrew/perls/perl-5.30.0-64int/man
    PERLBREW_PATH = /home/njh/perl5/perlbrew/bin:/home/njh/perl5/perlbrew/perls/perl-5.30.0-64int/bin
    PERLBREW_PERL = perl-5.30.0-64int
    PERLBREW_ROOT = /home/njh/perl5/perlbrew
    PERLBREW_SHELLRC_VERSION = 0.87
    PERLBREW_VERSION = 0.87
    PERL_USE_UNSAFE_INC = 1
    SHELL = /bin/sh
    TEMP = /tmp/user/1000
    TMPDIR = /tmp/user/1000/testwrapper.28149

Perl special variables (and OS-specific diagnostics, for MSWin32):

    $^X = /mnt/nas/home/pi4/njh/perl5/perlbrew/perls/perl-5.30.0-64int/bin/perl5.30.0
    $UID/$EUID = 1000 / 1000
    $GID = 1000 4 20 24 25 27 29 30 44 46 60 100 105 109 995 997 998 999 1000
    $EGID = 1000 4 20 24 25 27 29 30 44 46 60 100 105 109 995 997 998 999 1000

Perl module toolchain versions installed:

    Module              Have    
    ------------------- --------
    CPAN                2.27    
    CPAN::Meta          2.150010
    Cwd                 3.78    
    ExtUtils::CBuilder  0.280234
    ExtUtils::Command   7.44    
    ExtUtils::Install   2.14    
    ExtUtils::MakeMaker 7.44    
    ExtUtils::Manifest  1.72    
    ExtUtils::ParseXS   3.40    
    File::Spec          3.78    
    JSON                4.02    
    JSON::PP            4.04    
    Module::Build       0.4231  
    Module::Signature   n/a     
    Parse::CPAN::Meta   2.150010
    Test::Harness       3.42    
    Test::More          1.302172
    YAML                1.30    
    YAML::Syck          1.32    
    version             0.9924  


--

Summary of my perl5 (revision 5 version 30 subversion 0) configuration:
   
  Platform:
    osname=linux
    osvers=4.19.75-v7l+
    archname=armv7l-linux-64int
    uname='linux pi4 4.19.75-v7l+ #1270 smp tue sep 24 18:51:41 bst 2019 armv7l gnulinux '
    config_args='-de -Dprefix=/home/njh/perl5/perlbrew/perls/perl-5.30.0-64int -Dusedevel -Duse64bitint -Accflags= -Aeval:scriptdir=/home/njh/perl5/perlbrew/perls/perl-5.30.0-64int/bin'
    hint=recommended
    useposix=true
    d_sigaction=define
    useithreads=undef
    usemultiplicity=undef
    use64bitint=define
    use64bitall=undef
    uselongdouble=undef
    usemymalloc=n
    default_inc_excludes_dot=define
    bincompat5005=undef
  Compiler:
    cc='cc'
    ccflags ='-fwrapv -fno-strict-aliasing -pipe -fstack-protector-strong -I/usr/local/include -D_LARGEFILE_SOURCE -D_FILE_OFFSET_BITS=64 -D_FORTIFY_SOURCE=2'
    optimize='-O2'
    cppflags='-fwrapv -fno-strict-aliasing -pipe -fstack-protector-strong -I/usr/local/include'
    ccversion=''
    gccversion='8.3.0'
    gccosandvers=''
    intsize=4
    longsize=4
    ptrsize=4
    doublesize=8
    byteorder=12345678
    doublekind=3
    d_longlong=define
    longlongsize=8
    d_longdbl=define
    longdblsize=8
    longdblkind=0
    ivtype='long long'
    ivsize=8
    nvtype='double'
    nvsize=8
    Off_t='off_t'
    lseeksize=8
    alignbytes=8
    prototype=define
  Linker and Libraries:
    ld='cc'
    ldflags =' -fstack-protector-strong -L/usr/local/lib'
    libpth=/usr/local/lib /usr/lib/gcc/arm-linux-gnueabihf/8/include-fixed /usr/include/arm-linux-gnueabihf /usr/lib /lib/arm-linux-gnueabihf /lib /usr/lib/arm-linux-gnueabihf
    libs=-lpthread -lnsl -lgdbm -ldb -ldl -lm -lcrypt -lutil -lc
    perllibs=-lpthread -lnsl -ldl -lm -lcrypt -lutil -lc
    libc=libc-2.28.so
    so=so
    useshrplib=false
    libperl=libperl.a
    gnulibc_version='2.28'
  Dynamic Linking:
    dlsrc=dl_dlopen.xs
    dlext=so
    d_dlsymun=undef
    ccdlflags='-Wl,-E'
    cccdlflags='-fPIC'
    lddlflags='-shared -O2 -L/usr/local/lib -fstack-protector-strong'


Characteristics of this binary (from libperl): 
  Compile-time options:
    HAS_TIMES
    PERLIO_LAYERS
    PERL_COPY_ON_WRITE
    PERL_DONT_CREATE_GVSV
    PERL_MALLOC_WRAP
    PERL_OP_PARENT
    PERL_PRESERVE_IVUV
    PERL_USE_DEVEL
    USE_64_BIT_INT
    USE_LARGE_FILES
    USE_LOCALE
    USE_LOCALE_COLLATE
    USE_LOCALE_CTYPE
    USE_LOCALE_NUMERIC
    USE_LOCALE_TIME
    USE_PERLIO
    USE_PERL_ATOF
  Locally applied patches:
    Devel::PatchPerl 1.80
  Built under linux
  Compiled at Dec 29 2019 15:28:07
  %ENV:
    PERL5LIB="/var/tmp/build/Net-IPv4Addr-0.10-5/blib/arch:/var/tmp/build/Net-IPv4Addr-0.10-5/blib/lib:/var/tmp/build/Math-Base85-0.4-5/blib/arch:/var/tmp/build/Math-Base85-0.4-5/blib/lib"
    PERL5OPT=""
    PERL5_CPANPLUS_IS_RUNNING="28165"
    PERL5_CPAN_IS_RUNNING="28165"
    PERL5_CPAN_IS_RUNNING_IN_RECURSION="28141,28165"
    PERLBREW_HOME="/home/njh/.perlbrew"
    PERLBREW_MANPATH="/home/njh/perl5/perlbrew/perls/perl-5.30.0-64int/man"
    PERLBREW_PATH="/home/njh/perl5/perlbrew/bin:/home/njh/perl5/perlbrew/perls/perl-5.30.0-64int/bin"
    PERLBREW_PERL="perl-5.30.0-64int"
    PERLBREW_ROOT="/home/njh/perl5/perlbrew"
    PERLBREW_SHELLRC_VERSION="0.87"
    PERLBREW_VERSION="0.87"
    PERL_USE_UNSAFE_INC="1"
  @INC:
    /var/tmp/build/Net-IPv4Addr-0.10-5/blib/arch
    /var/tmp/build/Net-IPv4Addr-0.10-5/blib/lib
    /var/tmp/build/Math-Base85-0.4-5/blib/arch
    /var/tmp/build/Math-Base85-0.4-5/blib/lib
    /home/njh/perl5/perlbrew/perls/perl-5.30.0-64int/lib/site_perl/5.30.0/armv7l-linux-64int
    /home/njh/perl5/perlbrew/perls/perl-5.30.0-64int/lib/site_perl/5.30.0
    /home/njh/perl5/perlbrew/perls/perl-5.30.0-64int/lib/5.30.0/armv7l-linux-64int
    /home/njh/perl5/perlbrew/perls/perl-5.30.0-64int/lib/5.30.0
    .