ODF-MailMerge v1.010 Perl 5 v5.28.3 x86_64-linux

Status
Pass
From
David Cantrell (DCANTRELL)
Dist
ODF-MailMerge v1.010
Platform
Perl 5 v5.28.3 x86_64-linux
Date
2024-08-28 01:04:40
ID
80b898cc-64d9-11ef-8693-35100416d7b4
This distribution has been tested as part of the CPAN Testers
project, supporting the Perl programming language.  See
http://wiki.cpantesters.org/ for more information or email
questions to cpan-testers-discuss@perl.org


--
Dear Jim Avera,

This is a computer-generated report for ODF-MailMerge-1.010
on perl 5.28.3, created by CPAN-Reporter-1.2019.

Thank you for uploading your work to CPAN.  Congratulations!
All tests were successful.

Sections of this report:

    * Tester comments
    * Program output
    * Prerequisites
    * Environment and other context

------------------------------
TESTER COMMENTS
------------------------------

Additional comments from tester:

this report is from an automated smoke testing program
and was not reviewed by a human for accuracy

------------------------------
PROGRAM OUTPUT
------------------------------

Output from '/usr/bin/make test':

Skip blib/lib/auto/share/dist/ODF-MailMerge/cover.pdf (unchanged)
Skip blib/lib/auto/share/dist/ODF-MailMerge/examples/Ex_Famnames_output.odt (unchanged)
Skip blib/lib/auto/share/dist/ODF-MailMerge/examples/Ex_Famnames.pl (unchanged)
Skip blib/lib/auto/share/dist/ODF-MailMerge/examples/Ex_Famnames_Skeleton.odt (unchanged)
Skip blib/lib/auto/share/dist/ODF-MailMerge/examples/family_names.csv (unchanged)
PERL_DL_NONLAZY=1 "/home/david/cpantesting/perl-5.28.3/bin/perl" "-MExtUtils::Command::MM" "-MTest::Harness" "-e" "undef *Test::Harness::Switches; test_harness(0, 'blib/lib', 'blib/arch')" t/*.t
t/10_basic.t ............. ok
t/20_mailmerge.t ......... ok
t/90_Ex_Famnames.t ....... skipped: LibreOffice is not avaialble
t/95_odfedit.t ........... ok
t/author-pod-coverage.t .. skipped: these tests are for testing by the author
t/author-pod-syntax.t .... skipped: these tests are for testing by the author
All tests successful.
Files=6, Tests=51, 100 wallclock secs ( 0.07 usr  0.02 sys + 22.41 cusr  2.68 csys = 25.18 CPU)
Result: PASS

------------------------------
PREREQUISITES
------------------------------

Prerequisite modules loaded:

requires:

    Module                     Need     Have    
    -------------------------- -------- --------
    Carp                       0        1.50    
    Clone                      0        0.46    
    constant                   0        1.33    
    Data::Dumper::Interp       6.009    7.007   
    DateTime                   0        1.65    
    Encode                     0        3.20    
    Encode::Locale             0        1.05    
    Exporter                   0        5.77    
    feature                    0        1.52    
    File::ShareDir             0        1.118   
    File::Spec::Functions      0        3.75    
    FindBin                    0        1.53    
    Getopt::Long               2.37     2.57    
    Guard                      0        1.023   
    List::MoreUtils            0        0.430   
    List::Util                 0        1.63    
    ODF::lpOD                  2.001    2.001   
    ODF::lpOD_Helper           6.006    6.014   
    open                       0        1.11    
    Path::Tiny                 0.144    0.144   
    perl                       5.022000 5.028003
    Pod::Usage                 0        2.03    
    Scalar::Util               0        1.63    
    Spreadsheet::Edit          1000.011 1000.015
    Spreadsheet::Edit::IO      1000.006 1000.015
    Spreadsheet::Edit::Log     1000.005 1000.015
    strict                     0        1.11    
    Text::ParseWords           3.31     3.31    
    utf8                       0        1.21    
    warnings                   0        1.42    

build_requires:

    Module                     Need     Have    
    -------------------------- -------- --------
    autovivification           0        0.18    
    Capture::Tiny              0        0.48    
    Carp::Always               0.16     0.16    
    Cwd                        0        3.75    
    Data::Dumper               0        2.183   
    DateTime::Format::Strptime 0        1.79    
    English                    0        1.10    
    Env                        0        1.04    
    ExtUtils::MakeMaker        0        7.70    
    File::Basename             0        2.85    
    File::Path                 0        2.18    
    File::Spec                 0        3.75    
    File::Temp                 0.23     0.2311  
    Import::Into               0        1.002005
    indirect                   0        0.39    
    IO::Uncompress::Gunzip     0        2.206   
    JSON                       0        4.10    
    lib                        0        0.64    
    multidimensional           0        0.014   
    parent                     0        0.241   
    POSIX                      0        1.84    
    Spreadsheet::Edit          1000.011 1000.015
    Spreadsheet::Edit::IO      1000.006 1000.015
    Test2::Plugin::BailOnFail  0        0.000159
    Test2::V0                  0        0.000159
    Time::HiRes                0        1.9764  

configure_requires:

    Module                     Need     Have    
    -------------------------- -------- --------
    ExtUtils::MakeMaker        0        7.70    
    File::ShareDir::Install    0.06     0.14    


------------------------------
ENVIRONMENT AND OTHER CONTEXT
------------------------------

Environment variables:

    AUTOMATED_TESTING = 1
    LANG = en_GB.UTF-8
    LANGUAGE = en_GB:en
    LC_TERMINAL = iTerm2
    LC_TERMINAL_VERSION = 3.5.3
    NONINTERACTIVE_TESTING = 1
    PATH = /home/david/.nvm/versions/node/v20.16.0/bin:/home/david/.cargo/bin:/home/david/perl5/perlbrew/bin:/home/david/perl5/perlbrew/perls/perl-5.30.2/bin:/home/david/bin:/usr/local/bin:/usr/bin:/bin:/usr/local/games:/usr/games
    PERL = 5.28.3
    PERL5LIB = 
    PERL5OPT = 
    PERL5_CPANPLUS_IS_RUNNING = 1173839
    PERL5_CPAN_IS_RUNNING = 1173839
    PERLBREW_HOME = /home/david/.perlbrew
    PERLBREW_MANPATH = /home/david/perl5/perlbrew/perls/perl-5.30.2/man
    PERLBREW_PATH = /home/david/perl5/perlbrew/bin:/home/david/perl5/perlbrew/perls/perl-5.30.2/bin
    PERLBREW_PERL = perl-5.30.2
    PERLBREW_ROOT = /home/david/perl5/perlbrew
    PERLBREW_SHELLRC_VERSION = 0.98
    PERLBREW_VERSION = 0.98
    PERLVER = 5.28.3
    PERL_INLINE_DIRECTORY = /home/david/.Inline-5.28.3
    PERL_MM_USE_DEFAULT = 1
    PERL_USE_UNSAFE_INC = 0
    SHELL = /bin/bash
    TERM = screen

Perl special variables (and OS-specific diagnostics, for MSWin32):

    $^X = /home/david/cpantesting/perl-5.28.3/bin/perl
    $UID/$EUID = 1000 / 1000
    $GID = 1000 24 25 27 29 30 44 46 109 1000
    $EGID = 1000 24 25 27 29 30 44 46 109 1000

Perl module toolchain versions installed:

    Module              Have    
    ------------------- --------
    CPAN                2.20    
    CPAN::Meta          2.150010
    Cwd                 3.75    
    ExtUtils::CBuilder  0.280236
    ExtUtils::Command   7.70    
    ExtUtils::Install   2.22    
    ExtUtils::MakeMaker 7.70    
    ExtUtils::Manifest  1.75    
    ExtUtils::ParseXS   3.51    
    File::Spec          3.75    
    JSON                4.10    
    JSON::PP            4.16    
    Module::Build       0.4234  
    Module::Signature   n/a     
    Parse::CPAN::Meta   2.150010
    Test2               1.302198
    Test::Harness       3.48    
    Test::More          1.302198
    YAML                1.30    
    YAML::Syck          1.34    
    version             0.9930  


--

Summary of my perl5 (revision 5 version 28 subversion 3) configuration:
   
  Platform:
    osname=linux
    osvers=5.10.0-11-amd64
    archname=x86_64-linux
    uname='linux cpantesting-linux 5.10.0-11-amd64 #1 smp debian 5.10.92-1 (2022-01-18) x86_64 gnulinux '
    config_args='-de -Dprefix=/home/david/cpantesting/perl-5.28.3'
    hint=recommended
    useposix=true
    d_sigaction=define
    useithreads=undef
    usemultiplicity=undef
    use64bitint=define
    use64bitall=define
    uselongdouble=undef
    usemymalloc=n
    default_inc_excludes_dot=define
    bincompat5005=undef
  Compiler:
    cc='cc'
    ccflags ='-fwrapv -fno-strict-aliasing -pipe -fstack-protector-strong -I/usr/local/include -D_LARGEFILE_SOURCE -D_FILE_OFFSET_BITS=64 -D_FORTIFY_SOURCE=2'
    optimize='-O2'
    cppflags='-fwrapv -fno-strict-aliasing -pipe -fstack-protector-strong -I/usr/local/include'
    ccversion=''
    gccversion='10.2.1 20210110'
    gccosandvers=''
    intsize=4
    longsize=8
    ptrsize=8
    doublesize=8
    byteorder=12345678
    doublekind=3
    d_longlong=define
    longlongsize=8
    d_longdbl=define
    longdblsize=16
    longdblkind=3
    ivtype='long'
    ivsize=8
    nvtype='double'
    nvsize=8
    Off_t='off_t'
    lseeksize=8
    alignbytes=8
    prototype=define
  Linker and Libraries:
    ld='cc'
    ldflags =' -fstack-protector-strong -L/usr/local/lib'
    libpth=/usr/local/lib /usr/include/x86_64-linux-gnu /usr/lib /lib/x86_64-linux-gnu /lib/../lib /usr/lib/x86_64-linux-gnu /usr/lib/../lib /lib /lib64 /usr/lib64
    libs=-lpthread -lnsl -ldl -lm -lcrypt -lutil -lc
    perllibs=-lpthread -lnsl -ldl -lm -lcrypt -lutil -lc
    libc=libc-2.31.so
    so=so
    useshrplib=false
    libperl=libperl.a
    gnulibc_version='2.31'
  Dynamic Linking:
    dlsrc=dl_dlopen.xs
    dlext=so
    d_dlsymun=undef
    ccdlflags='-Wl,-E'
    cccdlflags='-fPIC'
    lddlflags='-shared -O2 -L/usr/local/lib -fstack-protector-strong'


Characteristics of this binary (from libperl): 
  Compile-time options:
    HAS_TIMES
    PERLIO_LAYERS
    PERL_COPY_ON_WRITE
    PERL_DONT_CREATE_GVSV
    PERL_MALLOC_WRAP
    PERL_OP_PARENT
    PERL_PRESERVE_IVUV
    USE_64_BIT_ALL
    USE_64_BIT_INT
    USE_LARGE_FILES
    USE_LOCALE
    USE_LOCALE_COLLATE
    USE_LOCALE_CTYPE
    USE_LOCALE_NUMERIC
    USE_LOCALE_TIME
    USE_PERLIO
    USE_PERL_ATOF
  Locally applied patches:
    Devel::PatchPerl 2.08
  Built under linux
  Compiled at Jul  5 2023 22:40:42
  %ENV:
    PERL="5.28.3"
    PERL5LIB=""
    PERL5OPT=""
    PERL5_CPANPLUS_IS_RUNNING="1173839"
    PERL5_CPAN_IS_RUNNING="1173839"
    PERLBREW_HOME="/home/david/.perlbrew"
    PERLBREW_MANPATH="/home/david/perl5/perlbrew/perls/perl-5.30.2/man"
    PERLBREW_PATH="/home/david/perl5/perlbrew/bin:/home/david/perl5/perlbrew/perls/perl-5.30.2/bin"
    PERLBREW_PERL="perl-5.30.2"
    PERLBREW_ROOT="/home/david/perl5/perlbrew"
    PERLBREW_SHELLRC_VERSION="0.98"
    PERLBREW_VERSION="0.98"
    PERLVER="5.28.3"
    PERL_INLINE_DIRECTORY="/home/david/.Inline-5.28.3"
    PERL_MM_USE_DEFAULT="1"
    PERL_USE_UNSAFE_INC="0"
  @INC:
    /home/david/cpantesting/perl-5.28.3/lib/site_perl/5.28.3/x86_64-linux
    /home/david/cpantesting/perl-5.28.3/lib/site_perl/5.28.3
    /home/david/cpantesting/perl-5.28.3/lib/5.28.3/x86_64-linux
    /home/david/cpantesting/perl-5.28.3/lib/5.28.3