Back
From: metabase:user:30977d10-2aae-11df-837a-5e0a49663a4f
Subject: PASS MooseX-RemoteHelper-0.001015 v5.18.0 Mac OS X
Date: 2013-08-04T03:32:34Z
This distribution has been tested as part of the CPAN Testers
project, supporting the Perl programming language. See
http://wiki.cpantesters.org/ for more information or email
questions to cpan-testers-discuss@perl.org
--
Dear Caleb Cushing,
This is a computer-generated report for MooseX-RemoteHelper-0.001015
on perl 5.18.0, created by CPAN-Reporter-1.2010.
Thank you for uploading your work to CPAN. Congratulations!
All tests were successful.
Sections of this report:
* Tester comments
* Program output
* Prerequisites
* Environment and other context
------------------------------
TESTER COMMENTS
------------------------------
Additional comments from tester:
this report is from an automated smoke testing program
and was not reviewed by a human for accuracy
------------------------------
PROGRAM OUTPUT
------------------------------
Output from '/usr/bin/make test':
PERL_DL_NONLAZY=1 /Users/trushel/perl/5.18.0-m/bin/perl "-MExtUtils::Command::MM" "-e" "test_harness(0, 'blib/lib', 'blib/arch')" t/*.t
t/00-compile.t ................ ok
#
#
# Generated by Dist::Zilla::Plugin::ReportVersions::Tiny v1.08
# perl: 5.018000 (wanted 5.008) on darwin from /Users/trushel/perl/5.18.0-m/bin/perl
#
# Class::Load => 0.20 (want 0.20)
# ExtUtils::MakeMaker => 6.72 (want 6.30)
# File::Find => 1.23 (want any version)
# File::Temp => 0.23 (want any version)
# Moose => 2.0802 (want 2)
# Moose::Exporter => 2.0802 (want any version)
# Moose::Role => 2.0802 (want any version)
# MooseX::Types => 0.36 (want any version)
# MooseX::Types::Moose => 0.36 (want any version)
# MooseX::UndefTolerant => 0.19 (want any version)
# Pod::Coverage::TrustPod => 0.100002 (want any version)
# Test::CPAN::Changes => 0.20 (want 0.19)
# Test::CPAN::Meta => module not found. (want any version)
# Test::Method => 0.001001 (want any version)
# Test::Moose => 2.0802 (want any version)
# Test::More => 0.98 (want 0.88)
# Test::Pod => 1.48 (want 1.41)
# Test::Pod::Coverage => 1.08 (want 1.08)
# namespace::autoclean => 0.13 (want any version)
# strict => 1.07 (want any version)
# version => 0.9902 (want 0.9901)
# warnings => 1.18 (want any version)
#
# Thanks for using my code. I hope it works for you.
# If not, please try and include this output in the bug report.
# That will help me reproduce the issue and solve your problem.
#
t/000-report-versions-tiny.t .. ok
t/apply-trait.t ............... ok
t/author-critic.t ............. skipped: these tests are for testing by the author
t/author-pod-spell.t .......... skipped: these tests are for testing by the author
t/author-test-eol.t ........... skipped: these tests are for testing by the author
t/composite.t ................. ok
t/false_init_arg.t ............ ok
t/immutable.t ................. ok
t/init_args.t ................. ok
t/release-cpan-changes.t ...... skipped: these tests are for release candidate testing
t/release-dist-manifest.t ..... skipped: these tests are for release candidate testing
t/release-distmeta.t .......... skipped: these tests are for release candidate testing
t/release-kwalitee.t .......... skipped: these tests are for release candidate testing
t/release-meta-json.t ......... skipped: these tests are for release candidate testing
t/release-minimum-version.t ... skipped: these tests are for release candidate testing
t/release-mojibake.t .......... skipped: these tests are for release candidate testing
t/release-pod-coverage.t ...... skipped: these tests are for release candidate testing
t/release-pod-linkcheck.t ..... skipped: these tests are for release candidate testing
t/release-pod-syntax.t ........ skipped: these tests are for release candidate testing
t/release-portability.t ....... skipped: these tests are for release candidate testing
t/release-synopsis.t .......... skipped: these tests are for release candidate testing
t/release-test-version.t ...... skipped: these tests are for release candidate testing
t/release-unused-vars.t ....... skipped: these tests are for release candidate testing
t/role.t ...................... ok
t/serializer.t ................ ok
t/types.t ..................... ok
All tests successful.
Files=27, Tests=66, 6 wallclock secs ( 0.10 usr 0.05 sys + 4.97 cusr 0.39 csys = 5.51 CPU)
Result: PASS
------------------------------
PREREQUISITES
------------------------------
Prerequisite modules loaded:
requires:
Module Need Have
--------------------- ---- --------
Moose 2 2.0802
Moose::Exporter 0 2.0802
Moose::Role 0 2.0802
MooseX::Types 0 0.36
MooseX::Types::Moose 0 0.36
MooseX::UndefTolerant 0 0.19
namespace::autoclean 0 0.13
strict 0 1.07
warnings 0 1.18
build_requires:
Module Need Have
--------------------- ---- --------
Class::Load 0.20 0.20
File::Find 0 1.23
File::Temp 0 0.23
Test::Method 0 0.001001
Test::Moose 0 2.0802
Test::More 0.88 0.98
configure_requires:
Module Need Have
--------------------- ---- --------
ExtUtils::MakeMaker 6.30 6.72
------------------------------
ENVIRONMENT AND OTHER CONTEXT
------------------------------
Environment variables:
AUTOMATED_TESTING = 1
LANG = en_US.UTF-8
PATH = /usr/bin:/bin:/usr/sbin:/sbin:/usr/local/bin:/usr/local/bin/g4bin:/usr/local/sbin
PERL5LIB =
PERL5OPT =
PERL5_CPANPLUS_IS_RUNNING = 73833
PERL5_CPAN_IS_RUNNING = 73833
PERL5_CPAN_IS_RUNNING_IN_RECURSION = 86834,73833
PERL_CR_SMOKER_CURRENT = MooseX-RemoteHelper-0.001015
PERL_EXTUTILS_AUTOINSTALL = --defaultdeps
PERL_MM_USE_DEFAULT = 1
SHELL = /bin/bash
TERM = xterm-256color
TMPDIR = /var/folders/00/11s1r000h01000cxqpysvccm004747/T/
Perl special variables (and OS-specific diagnostics, for MSWin32):
$^X = /Users/trushel/perl/5.18.0-m/bin/perl
$UID/$EUID = 138375 / 138375
$GID = 5762 5762 21 981 980 12 33 62 80 81 98 100 204 401
$EGID = 5762 5762 21 981 980 12 33 62 80 81 98 100 204 401
Perl module toolchain versions installed:
Module Have
------------------- --------
CPAN 2.00
CPAN::Meta 2.120921
Cwd 3.40
ExtUtils::CBuilder 0.280210
ExtUtils::Command 1.17
ExtUtils::Install 1.59
ExtUtils::MakeMaker 6.72
ExtUtils::Manifest 1.63
ExtUtils::ParseXS 3.18
File::Spec 3.40
JSON 2.59
JSON::PP 2.27202
Module::Build 0.4007
Module::Signature n/a
Parse::CPAN::Meta 1.4405
Test::Harness 3.26
Test::More 0.98
YAML 0.84
YAML::Syck 1.27
version 0.9902
--
Summary of my perl5 (revision 5 version 18 subversion 0) configuration:
Platform:
osname=darwin, osvers=12.4.0, archname=darwin-multi-2level
uname='darwin trushel-macbookpro.local 12.4.0 darwin kernel version 12.4.0: wed may 1 17:57:12 pdt 2013; root:xnu-2050.24.15~1release_x86_64 x86_64 '
config_args=''
hint=recommended, useposix=true, d_sigaction=define
useithreads=undef, usemultiplicity=define
useperlio=define, d_sfio=undef, uselargefiles=define, usesocks=undef
use64bitint=define, use64bitall=define, uselongdouble=undef
usemymalloc=n, bincompat5005=undef
Compiler:
cc='cc', ccflags ='-fno-common -DPERL_DARWIN -fno-strict-aliasing -pipe -fstack-protector',
optimize='-O3',
cppflags='-fno-common -DPERL_DARWIN -fno-strict-aliasing -pipe -fstack-protector'
ccversion='', gccversion='4.2.1 Compatible Apple LLVM 4.2 (clang-425.0.28)', gccosandvers=''
intsize=4, longsize=8, ptrsize=8, doublesize=8, byteorder=12345678
d_longlong=define, longlongsize=8, d_longdbl=define, longdblsize=16
ivtype='long', ivsize=8, nvtype='double', nvsize=8, Off_t='off_t', lseeksize=8
alignbytes=8, prototype=define
Linker and Libraries:
ld='env MACOSX_DEPLOYMENT_TARGET=10.3 cc', ldflags =' -fstack-protector -L/usr/local/lib'
libpth=/usr/local/lib /usr/lib
libs=-ldbm -ldl -lm -lutil -lc
perllibs=-ldl -lm -lutil -lc
libc=, so=dylib, useshrplib=false, libperl=libperl.a
gnulibc_version=''
Dynamic Linking:
dlsrc=dl_dlopen.xs, dlext=bundle, d_dlsymun=undef, ccdlflags=' '
cccdlflags=' ', lddlflags=' -bundle -undefined dynamic_lookup -L/usr/local/lib -fstack-protector'
Characteristics of this binary (from libperl):
Compile-time options: HAS_TIMES MULTIPLICITY PERLIO_LAYERS
PERL_DONT_CREATE_GVSV
PERL_HASH_FUNC_ONE_AT_A_TIME_HARD
PERL_IMPLICIT_CONTEXT PERL_MALLOC_WRAP
PERL_PRESERVE_IVUV PERL_SAWAMPERSAND USE_64_BIT_ALL
USE_64_BIT_INT USE_LARGE_FILES USE_LOCALE
USE_LOCALE_COLLATE USE_LOCALE_CTYPE
USE_LOCALE_NUMERIC USE_PERLIO USE_PERL_ATOF
Built under darwin
Compiled at Jul 9 2013 02:13:55
%ENV:
PERL5LIB=""
PERL5OPT=""
PERL5_CPANPLUS_IS_RUNNING="73833"
PERL5_CPAN_IS_RUNNING="73833"
PERL5_CPAN_IS_RUNNING_IN_RECURSION="86834,73833"
PERL_CR_SMOKER_CURRENT="MooseX-RemoteHelper-0.001015"
PERL_EXTUTILS_AUTOINSTALL="--defaultdeps"
PERL_MM_USE_DEFAULT="1"
@INC:
/Users/trushel/perl/5.18.0-m/lib/site_perl/5.18.0/darwin-multi-2level
/Users/trushel/perl/5.18.0-m/lib/site_perl/5.18.0
/Users/trushel/perl/5.18.0-m/lib/5.18.0/darwin-multi-2level
/Users/trushel/perl/5.18.0-m/lib/5.18.0
.