Dist-Zilla-Plugin-CheckIssues v0.010 Perl 5 v5.16.3 x86_64-linux-ld
- Status
- Pass
- From
- Andreas J. König (ANDK)
- Dist
-
Dist-Zilla-Plugin-CheckIssues v0.010
- Platform
- Perl 5 v5.16.3 x86_64-linux-ld
- Date
- 2019-08-30 23:25:50
- ID
- 80cd334a-cb7d-11e9-990d-26fb19cb766e
This distribution has been tested as part of the CPAN Testers
project, supporting the Perl programming language. See
http://wiki.cpantesters.org/ for more information or email
questions to cpan-testers-discuss@perl.org
--
Dear Karen Etheridge,
This is a computer-generated report for Dist-Zilla-Plugin-CheckIssues-0.010
on perl 5.16.3, created by CPAN-Reporter-1.2018.
Thank you for uploading your work to CPAN. Congratulations!
All tests were successful.
Sections of this report:
* Tester comments
* Program output
* Prerequisites
* Environment and other context
------------------------------
TESTER COMMENTS
------------------------------
Additional comments from tester:
this report is from an automated smoke testing program
and was not reviewed by a human for accuracy
------------------------------
PROGRAM OUTPUT
------------------------------
Output from '/usr/bin/make test':
PERL_DL_NONLAZY=1 "/home/sand/src/perl/repoperls/installed-perls/host/k93msid/v5.16.3/fc43/bin/perl" "-MExtUtils::Command::MM" "-MTest::Harness" "-e" "undef *Test::Harness::Switches; test_harness(0, 'blib/lib', 'blib/arch')" t/*.t
#
# Versions for all modules listed in MYMETA.json (including optional ones):
#
# === Configure Requires ===
#
# Module Want Have
# ------------------------ -------- --------
# CPAN::Meta::Requirements 2.120620 2.140
# ExtUtils::MakeMaker any 7.37_01
# Module::Metadata any 1.000033
#
# === Build Requires ===
#
# Module Want Have
# ------------------- ---- -------
# ExtUtils::MakeMaker any 7.37_01
#
# === Test Requires ===
#
# Module Want Have
# ------------------------------- ---- --------
# Dist::Zilla::App::Tester any 6.012
# Dist::Zilla::Role::MetaProvider any 6.012
# File::Spec any 3.75
# File::pushd any 1.016
# Module::Metadata any 1.000033
# Moose::Util any 2.2011
# Path::Tiny any 0.108
# Test::DZil any 6.012
# Test::Deep any 1.128
# Test::Fatal any 0.014
# Test::More 0.88 1.302166
# if any 0.0602
# lib any 0.63
#
# === Test Recommends ===
#
# Module Want Have
# ---------- -------- --------
# CPAN::Meta 2.120900 2.150010
#
# === Runtime Requires ===
#
# Module Want Have
# -------------------------------- -------- --------
# Dist::Zilla 4.300039 6.012
# Dist::Zilla::App any 6.012
# Dist::Zilla::Role::BeforeRelease any 6.012
# Encode any 3.01
# HTTP::Headers any 6.18
# HTTP::Tiny any 0.076
# JSON::MaybeXS 1.001000 1.004000
# List::Util 1.33 1.50
# Log::Dispatch 2.49 2.68
# Moose any 2.2011
# Term::ANSIColor 3.00 4.06
# namespace::autoclean any 0.28
# strict any 1.07
# warnings any 1.13
#
# === Other Modules ===
#
# Module Have
# ------------- -----
# App::Cmd 0.331
# Log::Dispatch 2.68
# Pod::Coverage 0.23
#
t/00-report-prereqs.t .. ok
t/01-basic.t ........... ok
t/02-no-rt.t ........... ok
t/03-no-repo.t ......... ok
t/04-command.t ......... ok
t/zzz-check-breaks.t ... ok
All tests successful.
Files=6, Tests=19, 19 wallclock secs ( 0.03 usr 0.03 sys + 4.68 cusr 0.91 csys = 5.65 CPU)
Result: PASS
------------------------------
PREREQUISITES
------------------------------
Prerequisite modules loaded:
requires:
Module Need Have
-------------------------------- -------- --------
Dist::Zilla 4.300039 6.012
Dist::Zilla::App 0 6.012
Dist::Zilla::Role::BeforeRelease 0 6.012
Encode 0 3.01
HTTP::Headers 0 6.18
HTTP::Tiny 0 0.076
JSON::MaybeXS 1.001000 1.004000
List::Util 1.33 1.50
Log::Dispatch 2.49 2.68
Moose 0 2.2011
namespace::autoclean 0 0.28
perl 5.006 5.016003
strict 0 1.07
Term::ANSIColor 3.00 4.06
warnings 0 1.13
build_requires:
Module Need Have
-------------------------------- -------- --------
Dist::Zilla::App::Tester 0 6.012
Dist::Zilla::Role::MetaProvider 0 6.012
ExtUtils::MakeMaker 0 7.37_01
File::pushd 0 1.016
File::Spec 0 3.75
if 0 0.0602
lib 0 0.63
Module::Metadata 0 1.000033
Moose::Util 0 2.2011
Path::Tiny 0 0.108
Test::Deep 0 1.128
Test::DZil 0 6.012
Test::Fatal 0 0.014
Test::More 0.88 1.302166
configure_requires:
Module Need Have
-------------------------------- -------- --------
CPAN::Meta::Requirements 2.120620 2.140
ExtUtils::MakeMaker 0 7.37_01
Module::Metadata 0 1.000033
perl 5.006 5.016003
------------------------------
ENVIRONMENT AND OTHER CONTEXT
------------------------------
Environment variables:
AUTOMATED_TESTING = 1
LANG = en_US.UTF-8
PATH = /home/sand/bin:/usr/local/bin:/usr/bin:/bin:/usr/games:/usr/local/perl/bin:/usr/X11/bin:/sbin:/usr/sbin
PERL5LIB =
PERL5OPT =
PERL5_CPANPLUS_IS_RUNNING = 25048
PERL5_CPAN_IS_RUNNING = 25048
PERL_CANARY_STABILITY_NOPROMPT = 1
PERL_MM_USE_DEFAULT = 1
PERL_USE_UNSAFE_INC = 1
SHELL = /usr/bin/zsh
TERM = screen
Perl special variables (and OS-specific diagnostics, for MSWin32):
$^X = /home/sand/src/perl/repoperls/installed-perls/host/k93msid/v5.16.3/fc43/bin/perl
$UID/$EUID = 1005 / 1005
$GID = 1005 1005
$EGID = 1005 1005
Perl module toolchain versions installed:
Module Have
------------------- --------
CPAN 2.27
CPAN::Meta 2.150010
Cwd 3.75
ExtUtils::CBuilder 0.280231
ExtUtils::Command 7.37_01
ExtUtils::Install 2.06
ExtUtils::MakeMaker 7.37_01
ExtUtils::Manifest 1.70
ExtUtils::ParseXS 3.35
File::Spec 3.75
JSON 4.02
JSON::PP 4.04
Module::Build 0.42_30
Module::Signature 0.83
Parse::CPAN::Meta 2.150010
Test::Harness 3.42
Test::More 1.302166
YAML 1.29
YAML::Syck 1.31
version 0.9924
--
Summary of my perl5 (revision 5 version 16 subversion 3) configuration:
Derived from: fd04d42d38f4751b981eb6e9213ee1ab8ef11ea6
Platform:
osname=linux, osvers=4.18.0-2-amd64, archname=x86_64-linux-ld
uname='linux k93msid 4.18.0-2-amd64 #1 smp debian 4.18.10-2 (2018-10-07) x86_64 gnulinux '
config_args='-Dprefix=/home/sand/src/perl/repoperls/installed-perls/host/k93msid/v5.16.3/fc43 -Dmyhostname=k93msid -Dinstallusrbinperl=n -Uversiononly -Dusedevel -des -Ui_db -Dlibswanted=cl pthread socket inet nsl gdbm dbm malloc dl ld sun m crypt sec util c cposix posix ucb BSD gdbm_compat -Uuseithreads -Duselongdouble -DEBUGGING=both'
hint=recommended, useposix=true, d_sigaction=define
useithreads=undef, usemultiplicity=undef
useperlio=define, d_sfio=undef, uselargefiles=define, usesocks=undef
use64bitint=define, use64bitall=define, uselongdouble=define
usemymalloc=n, bincompat5005=undef
Compiler:
cc='cc', ccflags ='-DDEBUGGING -fno-strict-aliasing -pipe -fstack-protector -I/usr/local/include -D_LARGEFILE_SOURCE -D_FILE_OFFSET_BITS=64',
optimize='-O2 -g',
cppflags='-DDEBUGGING -fno-strict-aliasing -pipe -fstack-protector -I/usr/local/include'
ccversion='', gccversion='8.2.0', gccosandvers=''
intsize=4, longsize=8, ptrsize=8, doublesize=8, byteorder=12345678
d_longlong=define, longlongsize=8, d_longdbl=define, longdblsize=16
ivtype='long', ivsize=8, nvtype='long double', nvsize=16, Off_t='off_t', lseeksize=8
alignbytes=16, prototype=define
Linker and Libraries:
ld='cc', ldflags =' -fstack-protector -L/usr/local/lib'
libpth=/usr/local/lib /lib/x86_64-linux-gnu /lib/../lib /usr/lib/x86_64-linux-gnu /usr/lib/../lib /lib /usr/lib
libs=-lpthread -lnsl -ldl -lm -lcrypt -lutil -lc
perllibs=-lpthread -lnsl -ldl -lm -lcrypt -lutil -lc
libc=libc-2.27.so, so=so, useshrplib=false, libperl=libperl.a
gnulibc_version='2.27'
Dynamic Linking:
dlsrc=dl_dlopen.xs, dlext=so, d_dlsymun=undef, ccdlflags='-Wl,-E'
cccdlflags='-fPIC', lddlflags='-shared -O2 -g -L/usr/local/lib -fstack-protector'
Characteristics of this binary (from libperl):
Compile-time options: DEBUGGING HAS_TIMES PERLIO_LAYERS
PERL_DONT_CREATE_GVSV PERL_MALLOC_WRAP
PERL_PRESERVE_IVUV PERL_USE_DEVEL USE_64_BIT_ALL
USE_64_BIT_INT USE_LARGE_FILES USE_LOCALE
USE_LOCALE_COLLATE USE_LOCALE_CTYPE
USE_LOCALE_NUMERIC USE_LONG_DOUBLE USE_PERLIO
USE_PERL_ATOF
Locally applied patches:
uncommitted-changes
Built under linux
Compiled at Oct 29 2018 00:08:14
%ENV:
PERL5LIB=""
PERL5OPT=""
PERL5_CPANPLUS_IS_RUNNING="25048"
PERL5_CPAN_IS_RUNNING="25048"
PERL_CANARY_STABILITY_NOPROMPT="1"
PERL_MM_USE_DEFAULT="1"
PERL_USE_UNSAFE_INC="1"
@INC:
/home/sand/src/perl/repoperls/installed-perls/host/k93msid/v5.16.3/fc43/lib/site_perl/5.16.3/x86_64-linux-ld
/home/sand/src/perl/repoperls/installed-perls/host/k93msid/v5.16.3/fc43/lib/site_perl/5.16.3
/home/sand/src/perl/repoperls/installed-perls/host/k93msid/v5.16.3/fc43/lib/5.16.3/x86_64-linux-ld
/home/sand/src/perl/repoperls/installed-perls/host/k93msid/v5.16.3/fc43/lib/5.16.3
.