Report for CatalystX-Test-Recorder-1.0.0

Back
From: metabase:user:9820532a-708b-1014-9a05-b18a96298da1
Subject: PASS CatalystX-Test-Recorder-1.0.0 v5.15.3 FreeBSD
Date: 2011-09-26T14:40:39Z

This distribution has been tested as part of the CPAN Testers
project, supporting the Perl programming language.  See
http://wiki.cpantesters.org/ for more information or email
questions to cpan-testers-discuss@perl.org


--
Dear Moritz Onken,

This is a computer-generated report for CatalystX-Test-Recorder-1.0.0
on perl 5.15.3, created by CPAN-Reporter-1.2002.

Thank you for uploading your work to CPAN.  Congratulations!
All tests were successful.

Sections of this report:

    * Tester comments
    * Program output
    * Prerequisites
    * Environment and other context

------------------------------
TESTER COMMENTS
------------------------------

Additional comments from tester:

this report is from an automated smoke testing program
and was not reviewed by a human for accuracy

------------------------------
PROGRAM OUTPUT
------------------------------

Output from './Build test':

t/00-compile.t ................ ok
# 
# 
# perl: v5.15.3 (wanted any version) on freebsd from /home/test/perl5/perlbrew/perls/perl-5.15.3/bin/perl5.15.3
# 
# Catalyst                                      => 5.80033    (want any version)
# Catalyst::Controller                          => <undef>    (want any version)
# Data::Dumper                                  => 2.131      (want any version)
# File::Find                                    => 1.20       (want any version)
# File::Temp                                    => 0.22       (want any version)
# HTTP::Request::Common                         => 6.00       (want any version)
# List::Util                                    => 1.23       (want any version)
# Module::Build                                 => 0.38       (want 0.3601) 
# Moose                                         => 2.0300     (want any version)
# Moose::Role                                   => 2.0300     (want any version)
# Perl::Tidy                                    => 20101217   (want any version)
# Template::Alloy                               => 1.016      (want any version)
# Test::More                                    => 0.98       (want 0.94)   
# Test::WWW::Mechanize::Catalyst                => 0.54       (want 0.51)   
# WWW::Mechanize                                => 1.70       (want 1.60)   
# utf8                                          => 1.09       (want any version)
# 
# Thanks for using my code.  I hope it works for you.
# If not, please try and include this output in the bug report.
# That will help me reproduce the issue and solve you problem.
# 
t/000-report-versions-tiny.t .. ok
t/basic.t ..................... ok
t/config.t .................... ok
t/cookie.t .................... ok
t/params.t .................... ok
t/release-has-version.t ....... skipped: these tests are for release candidate testing
t/release-kwalitee.t .......... skipped: these tests are for release candidate testing
t/release-minimum-version.t ... skipped: these tests are for release candidate testing
t/release-pod-coverage.t ...... skipped: these tests are for release candidate testing
t/release-pod-syntax.t ........ skipped: these tests are for release candidate testing
t/release-portability.t ....... skipped: these tests are for release candidate testing
All tests successful.
Files=12, Tests=21,  9 wallclock secs ( 0.11 usr  0.27 sys +  5.72 cusr  1.23 csys =  7.33 CPU)
Result: PASS

------------------------------
PREREQUISITES
------------------------------

Prerequisite modules loaded:

requires:

    Module                         Need   Have    
    ------------------------------ ------ --------
    Catalyst::Controller           0      0       
    Data::Dumper                   0      2.131   
    List::Util                     0      1.23    
    Moose                          0      2.0300  
    Moose::Role                    0      2.0300  
    Perl::Tidy                     0      20101217
    Template::Alloy                0      1.016   
    Test::More                     0.94   0.98    
    Test::WWW::Mechanize::Catalyst 0.51   0.54    
    utf8                           0      1.09    
    WWW::Mechanize                 1.60   1.70    

build_requires:

    Module                         Need   Have    
    ------------------------------ ------ --------
    Catalyst                       0      5.80033 
    File::Find                     0      1.20    
    File::Temp                     0      0.22    
    HTTP::Request::Common          0      6.00    
    Module::Build                  0.3601 0.3800  
    Test::More                     0.88   0.98    
    Test::WWW::Mechanize::Catalyst 0      0.54    

configure_requires:

    Module                         Need   Have    
    ------------------------------ ------ --------
    Module::Build                  0.3601 0.3800  


------------------------------
ENVIRONMENT AND OTHER CONTEXT
------------------------------

Environment variables:

    AUTOMATED_TESTING = 1
    LANG = C
    LC_ALL = C
    PATH = /home/test/perl5/perlbrew/bin:/home/test/perl5/perlbrew/perls/perl-5.15.3/bin:~/bin:/sbin:/bin:/usr/sbin:/usr/bin:/usr/games:/usr/local/sbin:/usr/local/bin:/home/test/bin
    PATH_WITHOUT_PERLBREW = ~/bin:/sbin:/bin:/usr/sbin:/usr/bin:/usr/games:/usr/local/sbin:/usr/local/bin:/home/test/bin
    PERL5LIB = 
    PERL5OPT = 
    PERL5_CPANPLUS_IS_RUNNING = 44072
    PERL5_CPAN_IS_RUNNING = 44072
    PERL5_CPAN_IS_RUNNING_IN_RECURSION = 72792,44072
    PERLBREW_HOME = /home/test/.perlbrew
    PERLBREW_PATH = /home/test/perl5/perlbrew/bin:/home/test/perl5/perlbrew/perls/perl-5.15.3/bin
    PERLBREW_PERL = perl-5.15.3
    PERLBREW_ROOT = /home/test/perl5/perlbrew
    PERLBREW_VERSION = 0.29
    PERL_CPANM_OPT = --prompt --mirror http://172.16.1.3/cpan/
    PERL_CR_SMOKER_CURRENT = CatalystX-Test-Recorder-1.0.0
    PERL_EXTUTILS_AUTOINSTALL = --defaultdeps
    PERL_MM_USE_DEFAULT = 1
    SHELL = /usr/local/bin/bash
    TERM = linux

Perl special variables (and OS-specific diagnostics, for MSWin32):

    $^X = /home/test/perl5/perlbrew/perls/perl-5.15.3/bin/perl5.15.3
    $UID/$EUID = 1002 / 1002
    $GID = 1002 1002
    $EGID = 1002 1002

Perl module toolchain versions installed:

    Module              Have    
    ------------------- --------
    CPAN                1.9800  
    CPAN::Meta          2.112621
    Cwd                 3.37    
    ExtUtils::CBuilder  0.280202
    ExtUtils::Command   1.17    
    ExtUtils::Install   1.57    
    ExtUtils::MakeMaker 6.58    
    ExtUtils::Manifest  1.60    
    ExtUtils::ParseXS   3.04    
    File::Spec          3.34    
    JSON                2.53    
    JSON::PP            2.27200 
    Module::Build       0.3800  
    Module::Signature   n/a     
    Parse::CPAN::Meta   1.4401  
    Test::Harness       3.23    
    Test::More          0.98    
    YAML                0.73    
    YAML::Syck          n/a     
    version             0.94    


--

Summary of my perl5 (revision 5 version 15 subversion 3) configuration:
   
  Platform:
    osname=freebsd, osvers=8.1-release, archname=amd64-freebsd
    uname='freebsd fbsd.local 8.1-release freebsd 8.1-release #0: mon jul 19 02:36:49 utc 2010 root@mason.cse.buffalo.edu:usrobjusrsrcsysgeneric amd64 '
    config_args='-de -Dprefix=/home/test/perl5/perlbrew/perls/perl-5.15.3 -Dusedevel'
    hint=recommended, useposix=true, d_sigaction=define
    useithreads=undef, usemultiplicity=undef
    useperlio=define, d_sfio=undef, uselargefiles=define, usesocks=undef
    use64bitint=define, use64bitall=define, uselongdouble=undef
    usemymalloc=n, bincompat5005=undef
  Compiler:
    cc='cc', ccflags ='-DHAS_FPSETMASK -DHAS_FLOATINGPOINT_H -fno-strict-aliasing -pipe -fstack-protector -I/usr/local/include',
    optimize='-O',
    cppflags='-DHAS_FPSETMASK -DHAS_FLOATINGPOINT_H -fno-strict-aliasing -pipe -fstack-protector -I/usr/local/include'
    ccversion='', gccversion='4.2.1 20070719  [FreeBSD]', gccosandvers=''
    intsize=4, longsize=8, ptrsize=8, doublesize=8, byteorder=12345678
    d_longlong=define, longlongsize=8, d_longdbl=define, longdblsize=16
    ivtype='long', ivsize=8, nvtype='double', nvsize=8, Off_t='off_t', lseeksize=8
    alignbytes=8, prototype=define
  Linker and Libraries:
    ld='cc', ldflags ='-Wl,-E  -fstack-protector -L/usr/local/lib'
    libpth=/usr/lib /usr/local/lib
    libs=-lm -lcrypt -lutil -lc
    perllibs=-lm -lcrypt -lutil -lc
    libc=, so=so, useshrplib=false, libperl=libperl.a
    gnulibc_version=''
  Dynamic Linking:
    dlsrc=dl_dlopen.xs, dlext=so, d_dlsymun=undef, ccdlflags=' '
    cccdlflags='-DPIC -fPIC', lddlflags='-shared  -L/usr/local/lib -fstack-protector'


Characteristics of this binary (from libperl): 
  Compile-time options: HAS_TIMES PERLIO_LAYERS PERL_DONT_CREATE_GVSV
                        PERL_MALLOC_WRAP PERL_PRESERVE_IVUV PERL_USE_DEVEL
                        USE_64_BIT_ALL USE_64_BIT_INT USE_LARGE_FILES
                        USE_LOCALE USE_LOCALE_COLLATE USE_LOCALE_CTYPE
                        USE_LOCALE_NUMERIC USE_PERLIO USE_PERL_ATOF
  Built under freebsd
  Compiled at Sep 23 2011 22:42:23
  %ENV:
    PERL5LIB=""
    PERL5OPT=""
    PERL5_CPANPLUS_IS_RUNNING="44072"
    PERL5_CPAN_IS_RUNNING="44072"
    PERL5_CPAN_IS_RUNNING_IN_RECURSION="72792,44072"
    PERLBREW_HOME="/home/test/.perlbrew"
    PERLBREW_PATH="/home/test/perl5/perlbrew/bin:/home/test/perl5/perlbrew/perls/perl-5.15.3/bin"
    PERLBREW_PERL="perl-5.15.3"
    PERLBREW_ROOT="/home/test/perl5/perlbrew"
    PERLBREW_VERSION="0.29"
    PERL_CPANM_OPT="--prompt --mirror http://172.16.1.3/cpan/"
    PERL_CR_SMOKER_CURRENT="CatalystX-Test-Recorder-1.0.0"
    PERL_EXTUTILS_AUTOINSTALL="--defaultdeps"
    PERL_MM_USE_DEFAULT="1"
  @INC:
    /home/test/perl5/perlbrew/perls/perl-5.15.3/lib/site_perl/5.15.3/amd64-freebsd
    /home/test/perl5/perlbrew/perls/perl-5.15.3/lib/site_perl/5.15.3
    /home/test/perl5/perlbrew/perls/perl-5.15.3/lib/5.15.3/amd64-freebsd
    /home/test/perl5/perlbrew/perls/perl-5.15.3/lib/5.15.3
    .