Config-Model-Itself v2.023 Perl 5 v5.39.5 x86_64-linux-ld
- Status
- Pass
- From
- Andreas J. König (ANDK)
- Dist
-
Config-Model-Itself v2.023
- Platform
- Perl 5 v5.39.5 x86_64-linux-ld
- Date
- 2023-12-03 19:59:44
- ID
- 80ec4cda-9216-11ee-9c81-0f4f5d29d093
This distribution has been tested as part of the CPAN Testers
project, supporting the Perl programming language. See
http://wiki.cpantesters.org/ for more information or email
questions to cpan-testers-discuss@perl.org
--
Dear Dominique Dumont,
This is a computer-generated report for Config-Model-Itself-2.023
on perl 5.39.5, created by CPAN-Reporter-1.2019.
Thank you for uploading your work to CPAN. Congratulations!
All tests were successful.
Sections of this report:
* Tester comments
* Program output
* Prerequisites
* Environment and other context
------------------------------
TESTER COMMENTS
------------------------------
Additional comments from tester:
this report is from an automated smoke testing program
and was not reviewed by a human for accuracy
------------------------------
PROGRAM OUTPUT
------------------------------
Output from './Build test':
t/application.t ............ ok
t/author-critic.t .......... skipped: these tests are for testing by the author
t/backend_detect.t ......... ok
Prototype mismatch: sub CORE::GLOBAL::exit: none vs (;$) at /home/sand/src/perl/repoperls/installed-perls/host/k93msid/v5.39.5/af11/lib/site_perl/5.39.5/x86_64-linux-ld/Tk.pm line 415.
when is deprecated at /home/sand/src/perl/repoperls/installed-perls/host/k93msid/v5.39.5/af11/lib/site_perl/5.39.5/App/Cme/Command/run.pm line 185.
when is deprecated at /home/sand/src/perl/repoperls/installed-perls/host/k93msid/v5.39.5/af11/lib/site_perl/5.39.5/App/Cme/Command/run.pm line 188.
when is deprecated at /home/sand/src/perl/repoperls/installed-perls/host/k93msid/v5.39.5/af11/lib/site_perl/5.39.5/App/Cme/Command/run.pm line 191.
when is deprecated at /home/sand/src/perl/repoperls/installed-perls/host/k93msid/v5.39.5/af11/lib/site_perl/5.39.5/App/Cme/Command/run.pm line 196.
when is deprecated at /home/sand/src/perl/repoperls/installed-perls/host/k93msid/v5.39.5/af11/lib/site_perl/5.39.5/App/Cme/Command/run.pm line 200.
when is deprecated at /home/sand/src/perl/repoperls/installed-perls/host/k93msid/v5.39.5/af11/lib/site_perl/5.39.5/App/Cme/Command/run.pm line 203.
when is deprecated at /home/sand/src/perl/repoperls/installed-perls/host/k93msid/v5.39.5/af11/lib/site_perl/5.39.5/App/Cme/Command/run.pm line 207.
given is deprecated at /home/sand/src/perl/repoperls/installed-perls/host/k93msid/v5.39.5/af11/lib/site_perl/5.39.5/App/Cme/Command/run.pm line 266.
when is deprecated at /home/sand/src/perl/repoperls/installed-perls/host/k93msid/v5.39.5/af11/lib/site_perl/5.39.5/App/Cme/Command/run.pm line 267.
when is deprecated at /home/sand/src/perl/repoperls/installed-perls/host/k93msid/v5.39.5/af11/lib/site_perl/5.39.5/App/Cme/Command/run.pm line 277.
t/cme-meta-edit.t .......... ok
Prototype mismatch: sub CORE::GLOBAL::exit: none vs (;$) at /home/sand/src/perl/repoperls/installed-perls/host/k93msid/v5.39.5/af11/lib/site_perl/5.39.5/x86_64-linux-ld/Tk.pm line 415.
when is deprecated at /home/sand/src/perl/repoperls/installed-perls/host/k93msid/v5.39.5/af11/lib/site_perl/5.39.5/App/Cme/Command/run.pm line 185.
when is deprecated at /home/sand/src/perl/repoperls/installed-perls/host/k93msid/v5.39.5/af11/lib/site_perl/5.39.5/App/Cme/Command/run.pm line 188.
when is deprecated at /home/sand/src/perl/repoperls/installed-perls/host/k93msid/v5.39.5/af11/lib/site_perl/5.39.5/App/Cme/Command/run.pm line 191.
when is deprecated at /home/sand/src/perl/repoperls/installed-perls/host/k93msid/v5.39.5/af11/lib/site_perl/5.39.5/App/Cme/Command/run.pm line 196.
when is deprecated at /home/sand/src/perl/repoperls/installed-perls/host/k93msid/v5.39.5/af11/lib/site_perl/5.39.5/App/Cme/Command/run.pm line 200.
when is deprecated at /home/sand/src/perl/repoperls/installed-perls/host/k93msid/v5.39.5/af11/lib/site_perl/5.39.5/App/Cme/Command/run.pm line 203.
when is deprecated at /home/sand/src/perl/repoperls/installed-perls/host/k93msid/v5.39.5/af11/lib/site_perl/5.39.5/App/Cme/Command/run.pm line 207.
given is deprecated at /home/sand/src/perl/repoperls/installed-perls/host/k93msid/v5.39.5/af11/lib/site_perl/5.39.5/App/Cme/Command/run.pm line 266.
when is deprecated at /home/sand/src/perl/repoperls/installed-perls/host/k93msid/v5.39.5/af11/lib/site_perl/5.39.5/App/Cme/Command/run.pm line 267.
when is deprecated at /home/sand/src/perl/repoperls/installed-perls/host/k93msid/v5.39.5/af11/lib/site_perl/5.39.5/App/Cme/Command/run.pm line 277.
t/cme-meta-plugin.t ........ ok
Prototype mismatch: sub CORE::GLOBAL::exit: none vs (;$) at /home/sand/src/perl/repoperls/installed-perls/host/k93msid/v5.39.5/af11/lib/site_perl/5.39.5/x86_64-linux-ld/Tk.pm line 415.
when is deprecated at /home/sand/src/perl/repoperls/installed-perls/host/k93msid/v5.39.5/af11/lib/site_perl/5.39.5/App/Cme/Command/run.pm line 185.
when is deprecated at /home/sand/src/perl/repoperls/installed-perls/host/k93msid/v5.39.5/af11/lib/site_perl/5.39.5/App/Cme/Command/run.pm line 188.
when is deprecated at /home/sand/src/perl/repoperls/installed-perls/host/k93msid/v5.39.5/af11/lib/site_perl/5.39.5/App/Cme/Command/run.pm line 191.
when is deprecated at /home/sand/src/perl/repoperls/installed-perls/host/k93msid/v5.39.5/af11/lib/site_perl/5.39.5/App/Cme/Command/run.pm line 196.
when is deprecated at /home/sand/src/perl/repoperls/installed-perls/host/k93msid/v5.39.5/af11/lib/site_perl/5.39.5/App/Cme/Command/run.pm line 200.
when is deprecated at /home/sand/src/perl/repoperls/installed-perls/host/k93msid/v5.39.5/af11/lib/site_perl/5.39.5/App/Cme/Command/run.pm line 203.
when is deprecated at /home/sand/src/perl/repoperls/installed-perls/host/k93msid/v5.39.5/af11/lib/site_perl/5.39.5/App/Cme/Command/run.pm line 207.
given is deprecated at /home/sand/src/perl/repoperls/installed-perls/host/k93msid/v5.39.5/af11/lib/site_perl/5.39.5/App/Cme/Command/run.pm line 266.
when is deprecated at /home/sand/src/perl/repoperls/installed-perls/host/k93msid/v5.39.5/af11/lib/site_perl/5.39.5/App/Cme/Command/run.pm line 267.
when is deprecated at /home/sand/src/perl/repoperls/installed-perls/host/k93msid/v5.39.5/af11/lib/site_perl/5.39.5/App/Cme/Command/run.pm line 277.
t/cme-meta.t ............... ok
t/dot_graph.t .............. ok
Name "Pod::POM::Node::Pod::ATTRIBS" used only once: possible typo at /home/sand/src/perl/repoperls/installed-perls/host/k93msid/v5.39.5/af11/lib/site_perl/5.39.5/Pod/POM/Node.pm line 81.
Name "Pod::POM::Node::Verbatim::EXPECT" used only once: possible typo at /home/sand/src/perl/repoperls/installed-perls/host/k93msid/v5.39.5/af11/lib/site_perl/5.39.5/Pod/POM/Node.pm line 137.
t/itself-editor.t .......... ok
t/itself.t ................. ok
t/itself_snippet.t ......... ok
t/list_itself_structure.t .. ok
t/load_write_itself.t ...... ok
t/meta-class.t ............. ok
t/pod.t .................... ok
t/pod_gen.t ................ ok
All tests successful.
Files=15, Tests=140, 328 wallclock secs ( 0.07 usr 0.08 sys + 302.04 cusr 10.64 csys = 312.83 CPU)
Result: PASS
------------------------------
PREREQUISITES
------------------------------
Prerequisite modules loaded:
requires:
Module Need Have
---------------------------- ----- --------
App::Cme 1.002 1.038
App::Cme::Common 0 1.038
base 0 2.27
Carp 0 1.54
Config::Model 2.142 2.153
Config::Model::TkUI 1.370 1.378
Config::Model::Value 0 2.153
Data::Compare 0 1.29
Data::Dumper 0 2.189
File::Basename 0 2.86
File::Find 0 1.44
File::Path 0 2.18
IO::File 0 1.54
lib 0 0.65
Log::Log4perl 1.11 1.57
Mouse 0 v2.5.10
Mouse::Util::TypeConstraints 0 0
Path::Tiny 0.062 0.144
perl 5.014 5.039005
Pod::POM 0 2.01
Scalar::Util 0 1.63
strict 0 1.13
Tk 0 804.036
warnings 0 1.67
YAML::XS 0 0.88
build_requires:
Module Need Have
---------------------------- ----- --------
App::Cmd::Tester 0 0.336
App::Cme 1.002 1.038
Config::Model 2.142 2.153
Config::Model::Tester::Setup 0 4.007
File::Copy::Recursive 0 0.45
Getopt::Long 0 2.57
Module::Build 0.34 0.4234
perl 5.014 5.039005
Test::Differences 0 0.71
Test::Exception 0 0.43
Test::File::Contents 0 0.242
Test::Memory::Cycle 0 1.06
Test::More 0 1.302195
Test::Pod 1.00 1.52
Text::Diff 0 1.45
configure_requires:
Module Need Have
---------------------------- ----- --------
Module::Build 0.34 0.4234
------------------------------
ENVIRONMENT AND OTHER CONTEXT
------------------------------
Environment variables:
AUTOMATED_TESTING = 1
LANG = en_US.UTF-8
LANGUAGE = en_US:en
PATH = /home/sand/bin:/usr/local/bin:/usr/bin:/bin:/usr/games:/usr/local/perl/bin:/usr/X11/bin:/sbin:/usr/sbin
PERL5LIB =
PERL5OPT =
PERL5_CPANPLUS_IS_RUNNING = 200058
PERL5_CPAN_IS_RUNNING = 200058
PERL_CANARY_STABILITY_NOPROMPT = 1
PERL_MM_USE_DEFAULT = 1
PERL_USE_UNSAFE_INC = 1
SHELL = /usr/bin/zsh
TERM = screen
Perl special variables (and OS-specific diagnostics, for MSWin32):
$^X = /home/sand/src/perl/repoperls/installed-perls/host/k93msid/v5.39.5/af11/bin/perl
$UID/$EUID = 1005 / 1005
$GID = 1005 1005
$EGID = 1005 1005
Perl module toolchain versions installed:
Module Have
------------------- --------
CPAN 2.36
CPAN::Meta 2.150010
Cwd 3.90
ExtUtils::CBuilder 0.280240
ExtUtils::Command 7.70
ExtUtils::Install 2.22
ExtUtils::MakeMaker 7.70
ExtUtils::Manifest 1.75
ExtUtils::ParseXS 3.51
File::Spec 3.90
JSON 4.10
JSON::PP 4.16
Module::Build 0.4234
Module::Signature 0.88
Parse::CPAN::Meta 2.150010
Test2 1.302195
Test::Harness 3.48
Test::More 1.302195
YAML 1.30
YAML::Syck 1.34
version 0.9930
--
Summary of my perl5 (revision 5 version 39 subversion 5) configuration:
Commit id: 09aaec6ab612b7594785a5cb8652db706a732a9a
Platform:
osname=linux
osvers=6.5.0-4-amd64
archname=x86_64-linux-ld
uname='linux k93msid 6.5.0-4-amd64 #1 smp preempt_dynamic debian 6.5.10-1 (2023-11-03) x86_64 gnulinux '
config_args='-Dprefix=/home/sand/src/perl/repoperls/installed-perls/host/k93msid/v5.39.5/af11 -Dmyhostname=k93msid -Dinstallusrbinperl=n -Uversiononly -Dusedevel -des -Ui_db -Dlibswanted=cl pthread socket inet nsl gdbm dbm malloc dl ld sun m crypt sec util c cposix posix ucb BSD gdbm_compat -Uuseithreads -Duselongdouble -DEBUGGING=-g'
hint=recommended
useposix=true
d_sigaction=define
useithreads=undef
usemultiplicity=undef
use64bitint=define
use64bitall=define
uselongdouble=define
usemymalloc=n
default_inc_excludes_dot=define
Compiler:
cc='cc'
ccflags ='-fwrapv -fno-strict-aliasing -pipe -fstack-protector-strong -I/usr/local/include -D_LARGEFILE_SOURCE -D_FILE_OFFSET_BITS=64 -D_FORTIFY_SOURCE=2'
optimize='-O2 -g'
cppflags='-fwrapv -fno-strict-aliasing -pipe -fstack-protector-strong -I/usr/local/include'
ccversion=''
gccversion='13.2.0'
gccosandvers=''
intsize=4
longsize=8
ptrsize=8
doublesize=8
byteorder=12345678
doublekind=3
d_longlong=define
longlongsize=8
d_longdbl=define
longdblsize=16
longdblkind=3
ivtype='long'
ivsize=8
nvtype='long double'
nvsize=16
Off_t='off_t'
lseeksize=8
alignbytes=16
prototype=define
Linker and Libraries:
ld='cc'
ldflags =' -fstack-protector-strong -L/usr/local/lib'
libpth=/usr/local/lib /usr/lib/x86_64-linux-gnu /usr/lib /usr/lib64
libs=-lpthread -lnsl -ldl -lm -lcrypt -lutil -lc
perllibs=-lpthread -lnsl -ldl -lm -lcrypt -lutil -lc
libc=/lib/x86_64-linux-gnu/libc.so.6
so=so
useshrplib=false
libperl=libperl.a
gnulibc_version='2.37'
Dynamic Linking:
dlsrc=dl_dlopen.xs
dlext=so
d_dlsymun=undef
ccdlflags='-Wl,-E'
cccdlflags='-fPIC'
lddlflags='-shared -O2 -g -L/usr/local/lib -fstack-protector-strong'
Characteristics of this binary (from libperl):
Compile-time options:
HAS_LONG_DOUBLE
HAS_STRTOLD
HAS_TIMES
PERLIO_LAYERS
PERL_COPY_ON_WRITE
PERL_DONT_CREATE_GVSV
PERL_HASH_FUNC_SIPHASH13
PERL_HASH_USE_SBOX32
PERL_MALLOC_WRAP
PERL_OP_PARENT
PERL_PRESERVE_IVUV
PERL_USE_DEVEL
PERL_USE_SAFE_PUTENV
USE_64_BIT_ALL
USE_64_BIT_INT
USE_LARGE_FILES
USE_LOCALE
USE_LOCALE_COLLATE
USE_LOCALE_CTYPE
USE_LOCALE_NUMERIC
USE_LOCALE_TIME
USE_LONG_DOUBLE
USE_PERLIO
USE_PERL_ATOF
Built under linux
Compiled at Nov 20 2023 09:46:59
%ENV:
PERL5LIB=""
PERL5OPT=""
PERL5_CPANPLUS_IS_RUNNING="200058"
PERL5_CPAN_IS_RUNNING="200058"
PERL_CANARY_STABILITY_NOPROMPT="1"
PERL_MM_USE_DEFAULT="1"
PERL_USE_UNSAFE_INC="1"
@INC:
/home/sand/src/perl/repoperls/installed-perls/host/k93msid/v5.39.5/af11/lib/site_perl/5.39.5/x86_64-linux-ld
/home/sand/src/perl/repoperls/installed-perls/host/k93msid/v5.39.5/af11/lib/site_perl/5.39.5
/home/sand/src/perl/repoperls/installed-perls/host/k93msid/v5.39.5/af11/lib/5.39.5/x86_64-linux-ld
/home/sand/src/perl/repoperls/installed-perls/host/k93msid/v5.39.5/af11/lib/5.39.5
.