utf8-all v0.024 Perl 5 v5.22.3 x86_64-linux-thread-multi

Status
Pass
From
Slaven Rezić (SREZIC)
Dist
utf8-all v0.024
Platform
Perl 5 v5.22.3 x86_64-linux-thread-multi
Date
2018-10-08 07:33:52
ID
80f04658-cacc-11e8-b51f-9ef8d018e89f
This distribution has been tested as part of the CPAN Testers
project, supporting the Perl programming language.  See
http://wiki.cpantesters.org/ for more information or email
questions to cpan-testers-discuss@perl.org


--
Dear Hayo Baan,

This is a computer-generated report for utf8-all-0.024
on perl 5.22.3, created by CPAN-Reporter-1.2018.

Thank you for uploading your work to CPAN.  Congratulations!
All tests were successful.

Sections of this report:

    * Tester comments
    * Program output
    * Prerequisites
    * Environment and other context

------------------------------
TESTER COMMENTS
------------------------------

Additional comments from tester:

none provided

------------------------------
PROGRAM OUTPUT
------------------------------

Output from '/usr/bin/make test':

PERL_DL_NONLAZY=1 "/bbbike/perl-5.22.3t/bin/perl" "-MExtUtils::Command::MM" "-MTest::Harness" "-e" "undef *Test::Harness::Switches; test_harness(0, 'blib/lib', 'blib/arch')" t/*.t
t/00-compile.t ....... ok
t/ARGV.t ............. ok
t/ARGV_nonmain.t ..... ok
t/ARGV_twice.t ....... ok
t/autodie.t .......... ok
t/charnames.t ........ ok
t/FATAL_utf8.t ....... ok
t/fc.t ............... ok
t/force_global.t ..... ok
t/glob.t ............. ok
t/global_nonmain.t ... ok
t/lexical-again.t .... ok
t/lexical.t .......... ok
t/no_global.t ........ ok
t/open.t ............. ok
t/readdir.t .......... ok
t/readlink.t ......... ok
t/readpipe.t ......... ok
t/threads.t .......... ok
t/unicode_eval.t ..... ok
t/unicode_strings.t .. ok
t/utf8.t ............. ok
t/utf8_check.t ....... ok
All tests successful.
Files=23, Tests=122,  2 wallclock secs ( 0.04 usr  0.08 sys +  1.17 cusr  0.29 csys =  1.58 CPU)
Result: PASS

------------------------------
PREREQUISITES
------------------------------

Prerequisite modules loaded:

requires:

    Module              Need  Have    
    ------------------- ----- --------
    Carp                0     1.38    
    charnames           0     1.43    
    Encode              0     2.88    
    feature             0     1.40    
    Import::Into        0     1.002005
    open                0     1.10    
    parent              0     0.236   
    perl                5.010 5.022003
    PerlIO::utf8_strict 0     0.006   
    strict              0     1.09    
    Symbol              0     1.07    
    utf8                0     1.17    
    warnings            0     1.34    

build_requires:

    Module              Need  Have    
    ------------------- ----- --------
    autodie             0     2.29    
    blib                1.01  1.06    
    constant            0     1.33    
    ExtUtils::MakeMaker 0     7.24    
    File::Spec          0     3.62    
    IO::Handle          0     1.35    
    IPC::Open3          0     1.18    
    PerlIO              0     1.09    
    Test::Exception     0     0.43    
    Test::Fatal         0     0.014   
    Test::More          0.96  1.302075
    Test::Warn          0     0.32    
    threads             0     2.01    
    threads::shared     0     1.48    
    version             0.77  0.9917  

configure_requires:

    Module              Need  Have    
    ------------------- ----- --------
    ExtUtils::MakeMaker 0     7.24    
    perl                5.010 5.022003


------------------------------
ENVIRONMENT AND OTHER CONTEXT
------------------------------

Environment variables:

    LANG = C
    PATH = /usr/local/bin:/usr/bin:/bin:/usr/local/sbin:/usr/sbin:/sbin:/home/cpansand/bin/linux-gnu:/home/cpansand/bin/sh:/home/cpansand/bin:/usr/games:/home/cpansand/devel:/home/eserte/src/srezic-misc/scripts
    PERL5LIB = /home/cpansand/.cpan/build/2018100806/Test-Perl-Critic-1.04-gMU5mZ/blib/arch:/home/cpansand/.cpan/build/2018100806/Test-Perl-Critic-1.04-gMU5mZ/blib/lib:/home/cpansand/.cpan/build/2018100806/MCE-1.837-5Cv3qK/blib/arch:/home/cpansand/.cpan/build/2018100806/MCE-1.837-5Cv3qK/blib/lib:/home/cpansand/.cpan/build/2018100806/Test-PerlTidy-20130104-8xz6rf/blib/arch:/home/cpansand/.cpan/build/2018100806/Test-PerlTidy-20130104-8xz6rf/blib/lib:/home/cpansand/.cpan/build/2018100806/File-Finder-0.53-Th1UiN/blib/arch:/home/cpansand/.cpan/build/2018100806/File-Finder-0.53-Th1UiN/blib/lib
    PERL5OPT = 
    PERL5_CPANPLUS_IS_RUNNING = 18916
    PERL5_CPAN_IS_RUNNING = 18916
    PERL5_CPAN_IS_RUNNING_IN_RECURSION = 19323,18916
    PERLDOC = -MPod::Perldoc::ToTextOverstrike
    PERL_BATCH = yes
    PERL_CANARY_STABILITY_NOPROMPT = 1
    PERL_CPAN_REPORTER_CONFIG = /var/tmp/cpansmoker-1023/2018100805/cpanreporter_000_config.ini
    PERL_EXTUTILS_AUTOINSTALL = --defaultdeps
    SHELL = /bin/zsh
    TERM = screen
    TMPDIR = /var/tmp/cpansmoker-1023/2018100805

Perl special variables (and OS-specific diagnostics, for MSWin32):

    $^X = /bbbike/perl-5.22.3t/bin/perl
    $UID/$EUID = 1023 / 1023
    $GID = 1023 1023
    $EGID = 1023 1023

Perl module toolchain versions installed:

    Module              Have    
    ------------------- --------
    CPAN                2.11_01 
    CPAN::Meta          2.150010
    Cwd                 3.62    
    ExtUtils::CBuilder  0.280224
    ExtUtils::Command   7.24    
    ExtUtils::Install   2.04    
    ExtUtils::MakeMaker 7.24    
    ExtUtils::Manifest  1.70    
    ExtUtils::ParseXS   3.30    
    File::Spec          3.62    
    JSON                2.90    
    JSON::PP            2.27400 
    Module::Build       0.4220  
    Module::Signature   n/a     
    Parse::CPAN::Meta   2.150010
    Test::Harness       3.36    
    Test::More          1.302075
    YAML                1.21    
    YAML::Syck          1.29    
    version             0.9917  


--

Summary of my perl5 (revision 5 version 22 subversion 3) configuration:
   
  Platform:
    osname=linux, osvers=3.16.0-4-amd64, archname=x86_64-linux-thread-multi
    uname='linux eserte 3.16.0-4-amd64 #1 smp debian 3.16.39-1 (2016-12-30) x86_64 gnulinux '
    config_args='-ds -e -Dprefix=/opt/perl-5.22.3t -Dusethreads -Dcf_email=srezic@cpan.org'
    hint=recommended, useposix=true, d_sigaction=define
    useithreads=define, usemultiplicity=define
    use64bitint=define, use64bitall=define, uselongdouble=undef
    usemymalloc=n, bincompat5005=undef
  Compiler:
    cc='cc', ccflags ='-D_REENTRANT -D_GNU_SOURCE -fwrapv -fno-strict-aliasing -pipe -fstack-protector-strong -I/usr/local/include -D_LARGEFILE_SOURCE -D_FILE_OFFSET_BITS=64 -D_FORTIFY_SOURCE=2',
    optimize='-O2',
    cppflags='-D_REENTRANT -D_GNU_SOURCE -fwrapv -fno-strict-aliasing -pipe -fstack-protector-strong -I/usr/local/include'
    ccversion='', gccversion='4.9.2', gccosandvers=''
    intsize=4, longsize=8, ptrsize=8, doublesize=8, byteorder=12345678, doublekind=3
    d_longlong=define, longlongsize=8, d_longdbl=define, longdblsize=16, longdblkind=3
    ivtype='long', ivsize=8, nvtype='double', nvsize=8, Off_t='off_t', lseeksize=8
    alignbytes=8, prototype=define
  Linker and Libraries:
    ld='cc', ldflags =' -fstack-protector-strong -L/usr/local/lib'
    libpth=/usr/local/lib /usr/lib/gcc/x86_64-linux-gnu/4.9/include-fixed /usr/include/x86_64-linux-gnu /usr/lib /lib/x86_64-linux-gnu /lib/../lib /usr/lib/x86_64-linux-gnu /usr/lib/../lib /lib
    libs=-lpthread -lnsl -lgdbm -ldb -ldl -lm -lcrypt -lutil -lc -lgdbm_compat
    perllibs=-lpthread -lnsl -ldl -lm -lcrypt -lutil -lc
    libc=libc-2.19.so, so=so, useshrplib=false, libperl=libperl.a
    gnulibc_version='2.19'
  Dynamic Linking:
    dlsrc=dl_dlopen.xs, dlext=so, d_dlsymun=undef, ccdlflags='-Wl,-E'
    cccdlflags='-fPIC', lddlflags='-shared -O2 -L/usr/local/lib -fstack-protector-strong'


Characteristics of this binary (from libperl): 
  Compile-time options: HAS_TIMES MULTIPLICITY PERLIO_LAYERS
                        PERL_DONT_CREATE_GVSV
                        PERL_HASH_FUNC_ONE_AT_A_TIME_HARD
                        PERL_IMPLICIT_CONTEXT PERL_MALLOC_WRAP
                        PERL_NEW_COPY_ON_WRITE PERL_PRESERVE_IVUV
                        USE_64_BIT_ALL USE_64_BIT_INT USE_ITHREADS
                        USE_LARGE_FILES USE_LOCALE USE_LOCALE_COLLATE
                        USE_LOCALE_CTYPE USE_LOCALE_NUMERIC USE_LOCALE_TIME
                        USE_PERLIO USE_PERL_ATOF USE_REENTRANT_API
  Built under linux
  Compiled at Jan 17 2017 19:09:56
  %ENV:
    PERL5LIB="/home/cpansand/.cpan/build/2018100806/Test-Perl-Critic-1.04-gMU5mZ/blib/arch:/home/cpansand/.cpan/build/2018100806/Test-Perl-Critic-1.04-gMU5mZ/blib/lib:/home/cpansand/.cpan/build/2018100806/MCE-1.837-5Cv3qK/blib/arch:/home/cpansand/.cpan/build/2018100806/MCE-1.837-5Cv3qK/blib/lib:/home/cpansand/.cpan/build/2018100806/Test-PerlTidy-20130104-8xz6rf/blib/arch:/home/cpansand/.cpan/build/2018100806/Test-PerlTidy-20130104-8xz6rf/blib/lib:/home/cpansand/.cpan/build/2018100806/File-Finder-0.53-Th1UiN/blib/arch:/home/cpansand/.cpan/build/2018100806/File-Finder-0.53-Th1UiN/blib/lib"
    PERL5OPT=""
    PERL5_CPANPLUS_IS_RUNNING="18916"
    PERL5_CPAN_IS_RUNNING="18916"
    PERL5_CPAN_IS_RUNNING_IN_RECURSION="19323,18916"
    PERLDOC="-MPod::Perldoc::ToTextOverstrike"
    PERL_BATCH="yes"
    PERL_CANARY_STABILITY_NOPROMPT="1"
    PERL_CPAN_REPORTER_CONFIG="/var/tmp/cpansmoker-1023/2018100805/cpanreporter_000_config.ini"
    PERL_EXTUTILS_AUTOINSTALL="--defaultdeps"
  @INC:
    /home/cpansand/.cpan/build/2018100806/Test-Perl-Critic-1.04-gMU5mZ/blib/arch
    /home/cpansand/.cpan/build/2018100806/Test-Perl-Critic-1.04-gMU5mZ/blib/lib
    /home/cpansand/.cpan/build/2018100806/MCE-1.837-5Cv3qK/blib/arch
    /home/cpansand/.cpan/build/2018100806/MCE-1.837-5Cv3qK/blib/lib
    /home/cpansand/.cpan/build/2018100806/Test-PerlTidy-20130104-8xz6rf/blib/arch
    /home/cpansand/.cpan/build/2018100806/Test-PerlTidy-20130104-8xz6rf/blib/lib
    /home/cpansand/.cpan/build/2018100806/File-Finder-0.53-Th1UiN/blib/arch
    /home/cpansand/.cpan/build/2018100806/File-Finder-0.53-Th1UiN/blib/lib
    /opt/perl-5.22.3t/lib/site_perl/5.22.3/x86_64-linux-thread-multi
    /opt/perl-5.22.3t/lib/site_perl/5.22.3
    /opt/perl-5.22.3t/lib/5.22.3/x86_64-linux-thread-multi
    /opt/perl-5.22.3t/lib/5.22.3
    .