Report for CGI-Application-Server-0.063

Back
From: metabase:user:320bfe00-2aae-11df-837a-5e0a49663a4f
Subject: PASS CGI-Application-Server-0.063 v5.8.9 GNU/Linux
Date: 2014-08-06T17:24:21Z

This distribution has been tested as part of the CPAN Testers
project, supporting the Perl programming language.  See
http://wiki.cpantesters.org/ for more information or email
questions to cpan-testers-discuss@perl.org


--
Dear Ricardo SIGNES,

This is a computer-generated report for CGI-Application-Server-0.063
on perl 5.8.9, created by CPAN-Reporter-1.2011.

Thank you for uploading your work to CPAN.  Congratulations!
All tests were successful.

Sections of this report:

    * Tester comments
    * Program output
    * Prerequisites
    * Environment and other context

------------------------------
TESTER COMMENTS
------------------------------

Additional comments from tester:

this report is from an automated smoke testing program
and was not reviewed by a human for accuracy

------------------------------
PROGRAM OUTPUT
------------------------------

Output from '/usr/bin/make test':

PERL_DL_NONLAZY=1 /home/sand/src/perl/repoperls/installed-perls/perl/perl-5.8.9/5da8/bin/perl "-MExtUtils::Command::MM" "-MTest::Harness" "-e" "undef *Test::Harness::Switches; test_harness(0, 'blib/lib', 'blib/arch')" t/*.t
t/00-compile.t ..................... ok
# 

# Generated by Dist::Zilla::Plugin::ReportVersions::Tiny v1.08
# perl: 5.008009 (wanted any version) on linux from /home/sand/src/perl/repoperls/installed-perls/perl/perl-5.8.9/5da8/bin/perl
# 
# CGI                                           => 4.03       (want any version)
# CGI::Application                              => 4.50       (want 4.21)   
# CGI::Application::Dispatch                    => module not found. (want any version)
# CGI::Application::Plugin::Redirect            => 1.00       (want any version)
# Carp                                          => 1.3301     (want 0.01)   
# ExtUtils::MakeMaker                           => 6.98       (want 6.30)   
# File::Find                                    => 1.13       (want any version)
# File::Temp                                    => 0.2304     (want any version)
# HTTP::Response                                => 6.04       (want any version)
# HTTP::Server::Simple                          => 0.44       (want 0.18)   
# HTTP::Server::Simple::CGI                     => 0.44       (want any version)
# HTTP::Server::Simple::Static                  => 0.09       (want 0.02)   
# HTTP::Status                                  => 6.03       (want any version)
# Scalar::Util                                  => 1.39       (want 1.18)   
# Test::Exception                               => 0.32       (want any version)
# Test::HTTP::Server::Simple                    => 0.11       (want any version)
# Test::More                                    => 1.301001021 (want 0.96)   
# Test::Pod                                     => 1.48       (want 1.41)   
# Test::WWW::Mechanize                          => 1.44       (want any version)
# base                                          => 2.18       (want any version)
# lib                                           => 0.61       (want any version)
# strict                                        => 1.03       (want any version)
# version                                       => 0.9908     (want 0.9901) 
# warnings                                      => 1.05_01    (want any version)
# 
# Thanks for using my code.  I hope it works for you.
# If not, please try and include this output in the bug report.
# That will help me reproduce the issue and solve your problem.
# 
t/000-report-versions-tiny.t ....... ok
t/000_load.t ....................... ok
t/001_basic.t ...................... ok
t/002_valid_entry_points.t ......... ok
t/003_dispatch.t ................... skipped: CGI::Application::Dispatch required for these tests
t/004_object_as_entry_point.t ...... ok
t/005_mode_param_from_path_info.t .. ok
t/006_docroot_as_entry_point.t ..... ok
t/006_replacequeryobject.t ......... ok
t/007_default_target.t ............. ok
All tests successful.
Files=11, Tests=93,  6 wallclock secs ( 0.04 usr  0.02 sys +  1.96 cusr  0.21 csys =  2.23 CPU)
Result: PASS

------------------------------
PREREQUISITES
------------------------------

Prerequisite modules loaded:

requires:

    Module                             Need Have        
    ---------------------------------- ---- ------------
    base                               0    2.18        
    Carp                               0.01 1.3301      
    CGI                                0    4.03        
    CGI::Application                   4.21 4.50        
    HTTP::Response                     0    6.04        
    HTTP::Server::Simple               0.18 0.44        
    HTTP::Server::Simple::CGI          0    0.44        
    HTTP::Server::Simple::Static       0.02 0.09        
    HTTP::Status                       0    6.03        
    Scalar::Util                       1.18 1.39        
    strict                             0    1.03        
    warnings                           0    1.05_01     

build_requires:

    Module                             Need Have        
    ---------------------------------- ---- ------------
    CGI::Application                   0    4.50        
  ! CGI::Application::Dispatch         0    n/a         
    CGI::Application::Plugin::Redirect 0    1.00        
    File::Find                         0    1.13        
    File::Temp                         0    0.2304      
    lib                                0    0.61        
    Test::Exception                    0    0.32        
    Test::HTTP::Server::Simple         0    0.11        
    Test::More                         0.96 1.301001_021
    Test::WWW::Mechanize               0    1.44        

configure_requires:

    Module                             Need Have        
    ---------------------------------- ---- ------------
    ExtUtils::MakeMaker                6.30 6.98        


------------------------------
ENVIRONMENT AND OTHER CONTEXT
------------------------------

Environment variables:

    AUTOMATED_TESTING = 1
    LANG = en_US.UTF-8
    LANGUAGE = en_US:en
    PATH = /usr/lib/ccache:/home/sand/bin:/usr/local/bin:/usr/bin:/bin:/usr/games:/usr/local/perl/bin:/usr/X11/bin:/sbin:/usr/sbin
    PERL5LIB = 
    PERL5OPT = 
    PERL5_CPANPLUS_IS_RUNNING = 1797
    PERL5_CPAN_IS_RUNNING = 1797
    PERL_MM_USE_DEFAULT = 1
    SHELL = /usr/bin/zsh
    TERM = screen

Perl special variables (and OS-specific diagnostics, for MSWin32):

    $^X = /home/sand/src/perl/repoperls/installed-perls/perl/perl-5.8.9/5da8/bin/perl
    $UID/$EUID = 1005 / 1005
    $GID = 1005 1005
    $EGID = 1005 1005

Perl module toolchain versions installed:

    Module              Have        
    ------------------- ------------
    CPAN                2.05        
    CPAN::Meta          2.142060    
    Cwd                 3.47        
    ExtUtils::CBuilder  0.280216    
    ExtUtils::Command   1.16        
    ExtUtils::Install   1.54        
    ExtUtils::MakeMaker 6.98        
    ExtUtils::Manifest  1.60        
    ExtUtils::ParseXS   3.24        
    File::Spec          3.47        
    JSON                2.90        
    JSON::PP            2.27203     
    Module::Build       0.4206      
    Module::Signature   0.73        
    Parse::CPAN::Meta   1.4414      
    Test::Harness       3.32        
    Test::More          1.301001_021
    YAML                0.98        
    YAML::Syck          1.27        
    version             0.9908      


--

Summary of my perl5 (revision 5 version 8 subversion 9) configuration:
  Platform:
    osname=linux, osvers=3.14-2-amd64, archname=x86_64-linux
    uname='linux k83 3.14-2-amd64 #1 smp debian 3.14.13-2 (2014-07-24) x86_64 gnulinux '
    config_args='-Dprefix=/home/sand/src/perl/repoperls/installed-perls/perl/perl-5.8.9/5da8 -Dmyhostname=k83 -Dinstallusrbinperl=n -Uversiononly -Dusedevel -des -Ui_db -Uuseithreads -Uuselongdouble -DDEBUGGING=-g -Dusedl -Ddlsrc=dl_dlopen.xs -Dlibs=-lnsl -ldb -ldl -lm -lcrypt -lutil -lc -Dlibpth=/usr/lib/x86_64-linux-gnu /usr/local/lib /lib /usr/lib'
    hint=recommended, useposix=true, d_sigaction=define
    usethreads=undef use5005threads=undef useithreads=undef usemultiplicity=undef
    useperlio=define d_sfio=undef uselargefiles=define usesocks=undef
    use64bitint=define use64bitall=define uselongdouble=undef
    usemymalloc=n, bincompat5005=undef
  Compiler:
    cc='cc', ccflags ='-fno-strict-aliasing -pipe -I/usr/local/include -D_LARGEFILE_SOURCE -D_FILE_OFFSET_BITS=64',
    optimize='-O2 -g',
    cppflags='-fno-strict-aliasing -pipe -I/usr/local/include'
    ccversion='', gccversion='4.9.1', gccosandvers=''
    intsize=4, longsize=8, ptrsize=8, doublesize=8, byteorder=12345678
    d_longlong=define, longlongsize=8, d_longdbl=define, longdblsize=16
    ivtype='long', ivsize=8, nvtype='double', nvsize=8, Off_t='off_t', lseeksize=8
    alignbytes=8, prototype=define
  Linker and Libraries:
    ld='cc', ldflags =' -L/usr/local/lib'
    libpth=/usr/lib/x86_64-linux-gnu /usr/local/lib /lib /usr/lib
    libs=-lnsl -ldb -ldl -lm -lcrypt -lutil -lc
    perllibs=-lnsl -ldl -lm -lcrypt -lutil -lc
    libc=, so=so, useshrplib=false, libperl=libperl.a
    gnulibc_version='2.19'
  Dynamic Linking:
    dlsrc=dl_dlopen.xs, dlext=so, d_dlsymun=undef, ccdlflags='-Wl,-E'
    cccdlflags='-fPIC', lddlflags='-shared -O2 -g -L/usr/local/lib'


Characteristics of this binary (from libperl): 
  Compile-time options: PERL_MALLOC_WRAP USE_64_BIT_ALL USE_64_BIT_INT
                        USE_FAST_STDIO USE_LARGE_FILES USE_PERLIO
  Built under linux
  Compiled at Aug  1 2014 14:02:11
  %ENV:
    PERL5LIB=""
    PERL5OPT=""
    PERL5_CPANPLUS_IS_RUNNING="1797"
    PERL5_CPAN_IS_RUNNING="1797"
    PERL_MM_USE_DEFAULT="1"
  @INC:
    /home/sand/src/perl/repoperls/installed-perls/perl/perl-5.8.9/5da8/lib/5.8.9/x86_64-linux
    /home/sand/src/perl/repoperls/installed-perls/perl/perl-5.8.9/5da8/lib/5.8.9
    /home/sand/src/perl/repoperls/installed-perls/perl/perl-5.8.9/5da8/lib/site_perl/5.8.9/x86_64-linux
    /home/sand/src/perl/repoperls/installed-perls/perl/perl-5.8.9/5da8/lib/site_perl/5.8.9
    .