CPAN-SQLite v0.220 Perl 5 v5.36.0 i86pc-solaris-thread-multi-64
- Status
- Pass
- From
- Chris Williams (BINGOS)
- Dist
-
CPAN-SQLite v0.220
- Platform
- Perl 5 v5.36.0 i86pc-solaris-thread-multi-64
- Date
- 2022-11-05 12:15:15
- ID
- 8178a9d0-5d03-11ed-aba6-9a79f339625c
This distribution has been tested as part of the CPAN Testers
project, supporting the Perl programming language. See
http://wiki.cpantesters.org/ for more information or email
questions to cpan-testers-discuss@perl.org
--
Dear STRO,
This is a computer-generated error report created automatically by
CPANPLUS, version 0.9914. Testers personal comments may appear
at the end of this report.
Thank you for uploading your work to CPAN. Congratulations!
All tests were successful.
TEST RESULTS:
Below is the error stack from stage 'make test':
PERL_DL_NONLAZY=1 "/home/cpan/pit/thr/perl-5.36.0/bin/perl" "-MExtUtils::Command::MM" "-MTest::Harness" "-e" "undef *Test::Harness::Switches; test_harness(0, 'blib/lib', 'blib/arch')" t/*.t
t/02drop.t ....................... ok
t/03info.t ....................... ok
t/04search.t ..................... ok
t/04search_everything.t .......... ok
t/05meta_new.t ................... ok
t/05meta_update.t ................ ok
# Listing %INC
# B 1.83
# CPAN 2.33
# CPAN::Author 5.5002
# CPAN::Bundle 5.5005
# CPAN::CacheMgr 5.5002
# CPAN::Complete 5.5001
# CPAN::Debug 5.5001
# CPAN::DeferredCode 5.50
# CPAN::DistnameInfo 0.12
# CPAN::Distribution 2.33
# CPAN::Distroprefs 6.0001
# CPAN::Distrostatus 5.5
# CPAN::Exception::RecursiveDependency 5.5001
# CPAN::Exception::yaml_not_installed 5.5
# CPAN::Exception::yaml_process_error 5.5
# CPAN::FTP 5.5016
# CPAN::FTP::netrc 1.01
# CPAN::HTTP::Credentials 1.9601
# CPAN::HandleConfig 5.5012
# CPAN::Index 2.29
# CPAN::InfoObj 5.5
# CPAN::LWP::UserAgent 1.9601
# CPAN::Module 5.5003
# CPAN::Prompt 5.5
# CPAN::Queue 5.5003
# CPAN::Shell 5.5009
# CPAN::Tarzip 5.5013
# CPAN::URL 5.5
# CPAN::Version 5.5003
# Carp 1.52
# Carp::Heavy 1.52
# Compress::Raw::Zlib 2.202
# Compress::Zlib 2.201
# Config 5.036000
# Cwd 3.84
# DBI 1.643
# DirHandle 1.05
# DynaLoader 1.52
# Encode 3.17
# Encode::Alias 2.24
# Encode::Config 2.05
# Encode::Encoding 2.08
# Encode::MIME::Name 1.03
# English 1.11
# Errno 1.36
# Exporter 5.77
# Exporter::Heavy 5.77
# ExtUtils::Liblist 7.64
# ExtUtils::Liblist::Kid 7.64
# ExtUtils::MM 7.64
# ExtUtils::MM_Any 7.64
# ExtUtils::MM_Unix 7.64
# ExtUtils::MY 7.64
# ExtUtils::MakeMaker 7.64
# ExtUtils::MakeMaker::Config 7.64
# ExtUtils::MakeMaker::Locale 7.64
# ExtUtils::MakeMaker::version 7.64
# Fcntl 1.15
# File::Basename 2.85
# File::Copy 2.39
# File::Find 1.40
# File::Glob 1.37
# File::GlobMapper 1.001
# File::HomeDir 1.006
# File::HomeDir::Driver 1.006
# File::HomeDir::Unix 1.006
# File::Path 2.18
# File::Spec 3.84
# File::Spec::Functions 3.84
# File::Spec::Unix 3.84
# File::Which 1.27
# FileHandle 2.03
# Getopt::Long 2.52
# HTTP::Tiny 0.080
# I18N::Langinfo 0.21
# IO 1.50
# IO::Compress::Adapter::Deflate 2.201
# IO::Compress::Base 2.201
# IO::Compress::Base::Common 2.201
# IO::Compress::Gzip 2.201
# IO::Compress::Gzip::Constants 2.201
# IO::Compress::RawDeflate 2.201
# IO::Compress::Zlib::Extra 2.201
# IO::File 1.48
# IO::Handle 1.48
# IO::Seekable 1.48
# IO::Socket 1.49
# IO::Socket::INET 1.49
# IO::Socket::IP 0.41
# IO::Socket::UNIX 1.49
# IO::Uncompress::Adapter::Inflate 2.201
# IO::Uncompress::Base 2.201
# IO::Uncompress::Gunzip 2.201
# IO::Uncompress::RawInflate 2.201
# List::Util 1.62
# Opcode 1.57
# POSIX 2.03
# Safe 2.43
# Scalar::Util 1.62
# SelectSaver 1.02
# Socket 2.033
# Storable 3.26
# Symbol 1.09
# Sys::Hostname 1.24
# Text::ParseWords 3.31
# Text::Tabs 2021.0814
# Text::Wrap 2021.0814
# Tie::Hash 1.06
# Time::HiRes 1.977
# XSLoader 0.31
# base 2.27
# builtin 0.006
# bytes 1.08
# constant 1.33
# lib 0.65
# overload 1.35
# overloading 0.02
# parent 0.238
# re 0.43
# strict 1.12
# subs 1.04
# utf8 1.24
# vars 1.05
# version 0.9929
# version::regex 0.9929
# warnings 1.58
# warnings::register 1.04
t/00-all_prereqs.t ............... ok
t/00-compile.t ................... ok
#
# Versions for all modules listed in MYMETA.json (including optional ones):
#
# === Configure Requires ===
#
# Module Want Have
# ------------------- ---- ----
# ExtUtils::MakeMaker any 7.64
#
# === Build Requires ===
#
# Module Want Have
# ------------------- ---- ----
# ExtUtils::MakeMaker any 7.64
#
# === Test Requires ===
#
# Module Want Have
# ------------------- ---- --------
# CPAN::HandleConfig any 5.5012
# CPAN::Version any 5.5003
# Carp any 1.52
# DBD::SQLite any 1.72
# ExtUtils::MakeMaker any 7.64
# File::Copy any 2.39
# File::Spec any 3.84
# FindBin any 1.53
# IO::Handle any 1.48
# IPC::Open3 any 1.22
# Test::More 0.94 1.302191
# base any 2.27
# lib any 0.65
#
# === Test Recommends ===
#
# Module Want Have
# ---------- -------- --------
# CPAN::Meta 2.120900 2.150010
#
# === Runtime Requires ===
#
# Module Want Have
# --------------------- ----- -----
# Archive::Tar 1.54 2.40
# CPAN any 2.33
# CPAN::DistnameInfo 0.09 0.12
# CPAN::Index 1.93 2.29
# Compress::Zlib any 2.201
# Cwd any 3.84
# DBD::SQLite 1.27 1.72
# DBI any 1.643
# English any 1.11
# Exporter any 5.77
# File::Basename any 2.85
# File::Find any 1.40
# File::HomeDir any 1.006
# File::Path any 2.18
# File::Spec any 3.84
# File::Spec::Functions any 3.84
# Getopt::Long any 2.52
# HTTP::Tiny 0.041 0.080
# IO::Zlib any 1.11
# Safe any 2.43
# Scalar::Util any 1.62
# constant any 1.33
# parent any 0.238
# strict any 1.12
# utf8 any 1.24
# warnings any 1.58
#
t/00-report-prereqs.t ............ ok
# Testing with Perl 5.036000, /home/cpan/pit/thr/perl-5.36.0/bin/perl
# CPAN version is 2.33
# CPAN::DistnameInfo version is 0.12
# CPAN::HandleConfig version is 5.5012
# CPAN::Version version is 5.5003
# Carp version is 1.52
# Compress::Zlib version is 2.201
# Cwd version is 3.84
# DBD::SQLite version is 1.72
# DBI version is 1.643
# English version is 1.11
# Exporter version is 5.77
# ExtUtils::MakeMaker version is 7.64
# File::Basename version is 2.85
# File::Copy version is 2.39
# File::Find version is 1.40
# File::HomeDir version is 1.006
# File::Path version is 2.18
# File::Spec version is 3.84
# File::Spec::Functions version is 3.84
# FindBin version is 1.53
# Getopt::Long version is 2.52
# HTTP::Tiny version is 0.080
# IO::Handle version is 1.48
# IPC::Open3 version is 1.22
# Safe version is 2.43
# Scalar::Util version is 1.62
# Test::More version is 1.302191
# base version is 2.27
# constant version is 1.33
# lib version is 0.65
# parent version is 0.238
# strict version is 1.12
# utf8 version is 1.24
# warnings version is 1.58
t/000-report-versions.t .......... ok
t/01basic.t ...................... ok
t/06retrieve.t ................... ok
t/07download.t ................... ok
# Can't locate Test/Memory/Cycle.pm in @INC (you may need to install the Test::Memory::Cycle module) (@INC contains: /home/cpan/pit/thr/conf/perl-5.36.0/.cpanplus/5.36.0/build/fLW2K3qaVT/CPAN-SQLite-0.220/t/lib /home/cpan/pit/thr/conf/perl-5.36.0/.cpanplus/5.36.0/build/fLW2K3qaVT/CPAN-SQLite-0.220/blib/lib /home/cpan/pit/thr/conf/perl-5.36.0/.cpanplus/5.36.0/build/fLW2K3qaVT/CPAN-SQLite-0.220/blib/arch /home/cpan/pit/jail/lsw62NiGqS/lib/perl5/5.36.0/i86pc-solaris-thread-multi-64 /home/cpan/pit/jail/lsw62NiGqS/lib/perl5/5.36.0 /home/cpan/pit/jail/lsw62NiGqS/lib/perl5/i86pc-solaris-thread-multi-64 /home/cpan/pit/jail/lsw62NiGqS/lib/perl5 /home/cpan/pit/thr/perl-5.36.0/lib/site_perl/5.36.0/i86pc-solaris-thread-multi-64 /home/cpan/pit/thr/perl-5.36.0/lib/site_perl/5.36.0 /home/cpan/pit/thr/perl-5.36.0/lib/5.36.0/i86pc-solaris-thread-multi-64 /home/cpan/pit/thr/perl-5.36.0/lib/5.36.0 /home/cpan/pit/thr/conf/perl-5.36.0/.cpanplus/5.36.0/build/fLW2K3qaVT/CPAN-SQLite-0.220) at (eval 20) line 1.
# BEGIN failed--compilation aborted at (eval 20) line 1.
t/08circular_references.t ........ skipped: Test::Memory::Cycle is required for testing memory leaks
t/author-critic.t ................ skipped: these tests are for testing by the author
t/author-distmeta.t .............. skipped: these tests are for testing by the author
t/author-eol.t ................... skipped: these tests are for testing by the author
t/author-minimum-version.t ....... skipped: these tests are for testing by the author
t/author-no-tabs.t ............... skipped: these tests are for testing by the author
t/author-pod-syntax.t ............ skipped: these tests are for testing by the author
t/release-changes_has_content.t .. skipped: these tests are for release candidate testing
t/release-fixme.t ................ skipped: these tests are for release candidate testing
t/release-has-version.t .......... skipped: these tests are for release candidate testing
t/release-kwalitee.t ............. skipped: these tests are for release candidate testing
t/release-meta-json.t ............ skipped: these tests are for release candidate testing
t/release-pause-permissions.t .... skipped: these tests are for release candidate testing
All tests successful.
Files=26, Tests=11292, 55 wallclock secs ( 1.53 usr 0.23 sys + 15.45 cusr 2.80 csys = 20.00 CPU)
Result: PASS
PREREQUISITES:
Here is a list of prerequisites you specified and versions we
managed to load:
Module Name Have Want
Archive::Tar 2.40 1.54
CPAN::DistnameInfo 0.12 0.09
CPAN::Index 2.29 1.93
Compress::Zlib 2.201 0
DBD::SQLite 1.72 1.27
ExtUtils::MakeMaker 7.64 0
File::HomeDir 1.006 0
File::Spec 3.84 0
HTTP::Tiny 0.080 0.041
IO::Zlib 1.11 0
parent 0.238 0
Perl module toolchain versions installed:
Module Name Have
CPANPLUS 0.9914
CPANPLUS::Dist::Build 0.90
Cwd 3.84
ExtUtils::CBuilder 0.280236
ExtUtils::Command 7.64
ExtUtils::Install 2.20
ExtUtils::MakeMaker 7.64
ExtUtils::Manifest 1.73
ExtUtils::ParseXS 3.45
File::Spec 3.84
Module::Build 0.4231
Pod::Parser 0
Pod::Simple 3.43
Test2 1.302191
Test::Harness 3.44
Test::More 1.302191
version 0.9929
******************************** NOTE ********************************
The comments above are created mechanically, possibly without manual
checking by the sender. As there are many people performing automatic
tests on each upload to CPAN, it is likely that you will receive
identical messages about the same problem.
If you believe that the message is mistaken, please reply to the first
one with correction and/or additional informations, and do not take
it personally. We appreciate your patience. :)
**********************************************************************
Additional comments:
This report was machine-generated by CPANPLUS::Dist::YACSmoke 1.08.
Powered by minismokebox version 0.68
CPANPLUS is prefering Build.PL
------------------------------
ENVIRONMENT AND OTHER CONTEXT
------------------------------
Environment variables:
AUTOMATED_TESTING = 1
LANG = en_GB.UTF-8
NONINTERACTIVE_TESTING = 1
PATH = /home/cpan/pit/thr/conf/perl-5.36.0/.cpanplus/5.36.0/build/fLW2K3qaVT/CPAN-SQLite-0.220/blib/script:/usr/bin:/usr/sbin:/sbin:/opt/ooce/bin:/usr/gnu/bin
PERL5LIB = /home/cpan/pit/jail/lsw62NiGqS/lib/perl5:/home/cpan/pit/thr/conf/perl-5.36.0/.cpanplus/5.36.0/build/fLW2K3qaVT/CPAN-SQLite-0.220/blib/lib:/home/cpan/pit/thr/conf/perl-5.36.0/.cpanplus/5.36.0/build/fLW2K3qaVT/CPAN-SQLite-0.220/blib/arch
PERL5_CPANPLUS_IS_RUNNING = 28049
PERL5_CPANPLUS_IS_VERSION = 0.9914
PERL5_MINISMOKEBOX = 0.68
PERL5_YACSMOKE_BASE = /home/cpan/pit/thr/conf/perl-5.36.0
PERL_EXTUTILS_AUTOINSTALL = --defaultdeps
PERL_LOCAL_LIB_ROOT = /home/cpan/pit/jail/lsw62NiGqS
PERL_MB_OPT = --install_base "/home/cpan/pit/jail/lsw62NiGqS"
PERL_MM_OPT = INSTALL_BASE=/home/cpan/pit/jail/lsw62NiGqS
PERL_MM_USE_DEFAULT = 1
SHELL = /bin/bash
TERM = screen.xterm-256color
Perl special variables (and OS-specific diagnostics, for MSWin32):
Perl: $^X = /home/cpan/pit/thr/perl-5.36.0/bin/perl
UID: $< = 101
EUID: $> = 101
GID: $( = 101 101
EGID: $) = 101 101
-------------------------------
--
Summary of my perl5 (revision 5 version 36 subversion 0) configuration:
Platform:
osname=solaris
osvers=2.11
archname=i86pc-solaris-thread-multi-64
uname='sunos ouzel 5.11 omnios-r151038-e2489d53f5 i86pc i386 i86pc '
config_args='-des -Dprefix=/home/cpan/pit/thr/perl-5.36.0 -Dusethreads -Duse64bitall -Dcc=gcc'
hint=recommended
useposix=true
d_sigaction=define
useithreads=define
usemultiplicity=define
use64bitint=define
use64bitall=define
uselongdouble=undef
usemymalloc=n
default_inc_excludes_dot=define
Compiler:
cc='gcc'
ccflags ='-D_REENTRANT -m64 -fwrapv -fno-strict-aliasing -pipe -fstack-protector-strong -D_LARGEFILE_SOURCE -D_FILE_OFFSET_BITS=64 -D_FORTIFY_SOURCE=2 -DPERL_USE_SAFE_PUTENV'
optimize='-O'
cppflags='-D_REENTRANT -m64 -fwrapv -fno-strict-aliasing -pipe -fstack-protector-strong'
ccversion=''
gccversion='10.3.0'
gccosandvers=''
intsize=4
longsize=8
ptrsize=8
doublesize=8
byteorder=12345678
doublekind=3
d_longlong=define
longlongsize=8
d_longdbl=define
longdblsize=16
longdblkind=3
ivtype='long'
ivsize=8
nvtype='double'
nvsize=8
Off_t='off_t'
lseeksize=8
alignbytes=8
prototype=define
Linker and Libraries:
ld='gcc'
ldflags =' -m64 -fstack-protector-strong -L/usr/gnu/lib '
libpth=/opt/gcc-10/lib /usr/lib /usr/gnu/lib /usr/ccs/lib
libs=-lpthread -lsocket -lnsl -ldl -lm -lc
perllibs=-lpthread -lsocket -lnsl -ldl -lm -lc
libc=/lib/libc.so
so=so
useshrplib=true
libperl=libperl.so
gnulibc_version=''
Dynamic Linking:
dlsrc=dl_dlopen.xs
dlext=so
d_dlsymun=undef
ccdlflags=' -R /home/cpan/pit/thr/perl-5.36.0/lib/5.36.0/i86pc-solaris-thread-multi-64/CORE'
cccdlflags='-fPIC'
lddlflags=' -shared -m64 -L/usr/gnu/lib -fstack-protector-strong'
Characteristics of this binary (from libperl):
Compile-time options:
HAS_TIMES
MULTIPLICITY
PERLIO_LAYERS
PERL_COPY_ON_WRITE
PERL_DONT_CREATE_GVSV
PERL_MALLOC_WRAP
PERL_OP_PARENT
PERL_PRESERVE_IVUV
PERL_USE_SAFE_PUTENV
USE_64_BIT_ALL
USE_64_BIT_INT
USE_ITHREADS
USE_LARGE_FILES
USE_LOCALE
USE_LOCALE_COLLATE
USE_LOCALE_CTYPE
USE_LOCALE_NUMERIC
USE_LOCALE_TIME
USE_PERLIO
USE_PERL_ATOF
USE_REENTRANT_API
USE_THREAD_SAFE_LOCALE
Built under solaris
Compiled at May 29 2022 10:42:30
%ENV:
PERL5LIB="/home/cpan/pit/jail/lsw62NiGqS/lib/perl5:/home/cpan/pit/thr/conf/perl-5.36.0/.cpanplus/5.36.0/build/fLW2K3qaVT/CPAN-SQLite-0.220/blib/lib:/home/cpan/pit/thr/conf/perl-5.36.0/.cpanplus/5.36.0/build/fLW2K3qaVT/CPAN-SQLite-0.220/blib/arch"
PERL5_CPANPLUS_IS_RUNNING="28049"
PERL5_CPANPLUS_IS_VERSION="0.9914"
PERL5_MINISMOKEBOX="0.68"
PERL5_YACSMOKE_BASE="/home/cpan/pit/thr/conf/perl-5.36.0"
PERL_EXTUTILS_AUTOINSTALL="--defaultdeps"
PERL_LOCAL_LIB_ROOT="/home/cpan/pit/jail/lsw62NiGqS"
PERL_MB_OPT="--install_base "/home/cpan/pit/jail/lsw62NiGqS""
PERL_MM_OPT="INSTALL_BASE=/home/cpan/pit/jail/lsw62NiGqS"
PERL_MM_USE_DEFAULT="1"
@INC:
/home/cpan/pit/jail/lsw62NiGqS/lib/perl5/5.36.0/i86pc-solaris-thread-multi-64
/home/cpan/pit/jail/lsw62NiGqS/lib/perl5/5.36.0
/home/cpan/pit/jail/lsw62NiGqS/lib/perl5/i86pc-solaris-thread-multi-64
/home/cpan/pit/jail/lsw62NiGqS/lib/perl5
/home/cpan/pit/thr/conf/perl-5.36.0/.cpanplus/5.36.0/build/fLW2K3qaVT/CPAN-SQLite-0.220/blib/lib
/home/cpan/pit/thr/conf/perl-5.36.0/.cpanplus/5.36.0/build/fLW2K3qaVT/CPAN-SQLite-0.220/blib/arch
/home/cpan/pit/thr/perl-5.36.0/lib/site_perl/5.36.0/i86pc-solaris-thread-multi-64
/home/cpan/pit/thr/perl-5.36.0/lib/site_perl/5.36.0
/home/cpan/pit/thr/perl-5.36.0/lib/5.36.0/i86pc-solaris-thread-multi-64
/home/cpan/pit/thr/perl-5.36.0/lib/5.36.0