Report for Sys-CpuAffinity-1.10

Back
From: metabase:user:314402c4-2aae-11df-837a-5e0a49663a4f
Subject: PASS Sys-CpuAffinity-1.10 v5.14.4 GNU/Linux
Date: 2016-08-20T00:24:49Z

This distribution has been tested as part of the CPAN Testers
project, supporting the Perl programming language.  See
http://wiki.cpantesters.org/ for more information or email
questions to cpan-testers-discuss@perl.org


--
Dear Marty O'Brien,

This is a computer-generated report for Sys-CpuAffinity-1.10
on perl 5.14.4, created by CPAN-Reporter-1.2018.

Thank you for uploading your work to CPAN.  Congratulations!
All tests were successful.

Sections of this report:

    * Tester comments
    * Program output
    * Prerequisites
    * Environment and other context

------------------------------
TESTER COMMENTS
------------------------------

Additional comments from tester:

none provided

------------------------------
PROGRAM OUTPUT
------------------------------

Output from './Build test':

# Testing Sys::CpuAffinity 1.10, Perl 5.014004, /bbbike/perl-5.14.4/bin/perl5.14.4, linux
t/00-load.t .......... ok


System configuration
====================
$^O = linux; $] = 5.014004
$ENV{AUTOMATED_TESTING} = 
Defined XS functions:
	xs_fortytwo
	xs_sched_getaffinity_get_affinity
	xs_sched_setaffinity_set_affinity

module Win32::API: not available
module Win32::Process: not available
module BSD::Process::Affinity: not available
bindprocessor: not found
dmesg available at: /bin/dmesg
sysctl available at: /sbin/sysctl
psrinfo: not found
hinv: not found
hwprefs: not found
lsdev: not found
system_profiler: not found
prtconf: not found
taskset available at: /usr/bin/taskset
pbind: not found
cpuset: not found

t/02-available.t ..... ok
result: -1 3 ESRCH
result: -1 3 ESRCH
Sys::CpuAffinity: invalid mask 0 in call to setAffinty
 at t/10-exercise.t line 94.
Sys::CpuAffinity: mask 8 is not valid for system with 3 processors.
 at t/10-exercise.t line 95.
t/10-exercise.t ...... ok


=================================================
Num processors =
    bindprocessor                  - 0 -
    dmesg_bsd                      - 0 -
    dmesg_solaris                  - 0 -
    ENV                            - 0 -
    hinv                           - 0 -
    hwprefs                        - 0 -
    lsdev                          - 0 -
    proc_cpuinfo                   - 3 -
    proc_stat                      - 3 -
    prtconf                        - 0 -
    psrinfo                        - 0 -
    sysctl                         - 0 -
    system_profiler                - 0 -
    taskset                        - 3 -
    Test_Smoke_SysInfo             - 0 -
    Win32API_System_Info           - 0 -
    xs_cpusetGetCPUCount           - 0 -
    xs_solaris                     - 0 -
    xs_Win32API_System_Info        - 0 -


===============================================
Current affinity = 
    BSD_Process_Affinity           ==> 0
    cpuset                         ==> 0
    pbind                          ==> 0
    psaix                          ==> 0
    taskset                        ==> 7
    Win32API                       ==> 0
    Win32Process                   ==> 0
    xs_cpuset_getaffinity          ==> 0
    xs_DEBUG_sched_getaffinity     ==> ---
diag CPU_SETSIZE=1024
diag sizeof(__cpu_mask)=8
diag __NCPUBITS=64
diag sizeof(cpu_set_t)=128
diag sizeof(pid_t)=4
getaffinity0
getaffinity1 pid=3098 size=1024 cpuset=0x7fc2548ef380
getaffinity2
getaffinity5
getaffinity6 i=0 r=0
getaffinity7
getaffinity8 add 0 to mask
getaffinity9
getaffinity6 i=1 r=1
getaffinity7
getaffinity8 add 1 to mask
getaffinity9
getaffinity6 i=2 r=1
getaffinity7
getaffinity8 add 2 to mask
getaffinity9
getaffinity6 i=3 r=1
getaffinity9
getaffinity6 i=4 r=1
getaffinity9
getaffinity6 i=5 r=1
getaffinity9
getaffinity6 i=6 r=1
getaffinity9
getaffinity6 i=7 r=1
getaffinity9
getaffinity6 i=8 r=1
getaffinity9
getaffinity6 i=9 r=1
getaffinity9
getaffinity6 i=10 r=1
getaffinity9
getaffinity6 i=11 r=1
getaffinity9
getaffinity6 i=12 r=1
getaffinity9
getaffinity6 i=13 r=1
getaffinity9
getaffinity6 i=14 r=1
getaffinity9
getaffinity6 i=15 r=1
getaffinity9
getaffinity6 i=16 r=1
getaffinity9
getaffinity6 i=17 r=1
getaffinity9
getaffinity6 i=18 r=1
getaffinity9
getaffinity6 i=19 r=1
getaffinity9
getaffinity6 i=20 r=1
getaffinity9
getaffinity6 i=21 r=1
getaffinity9
getaffinity6 i=22 r=1
getaffinity9
getaffinity6 i=23 r=1
getaffinity9
getaffinity6 i=24 r=1
getaffinity9
getaffinity6 i=25 r=1
getaffinity9
getaffinity6 i=26 r=1
getaffinity9
getaffinity6 i=27 r=1
getaffinity9
getaffinity6 i=28 r=1
getaffinity9
getaffinity6 i=29 r=1
getaffinity9
getaffinity6 i=30 r=1
getaffinity9
getaffinity6 i=31 r=1
getaffinity9
getaffinity6 i=32 r=1
getaffinity9
getaffinity6 i=33 r=1
getaffinity9
getaffinity6 i=34 r=1
getaffinity9
getaffinity6 i=35 r=1
getaffinity9
getaffinity6 i=36 r=1
getaffinity9
getaffinity6 i=37 r=1
getaffinity9
getaffinity6 i=38 r=1
getaffinity9
getaffinity6 i=39 r=1
getaffinity9
getaffinity6 i=40 r=1
getaffinity9
getaffinity6 i=41 r=1
getaffinity9
getaffinity6 i=42 r=1
getaffinity9
getaffinity6 i=43 r=1
getaffinity9
getaffinity6 i=44 r=1
getaffinity9
getaffinity6 i=45 r=1
getaffinity9
getaffinity6 i=46 r=1
getaffinity9
getaffinity6 i=47 r=1
getaffinity9
getaffinity6 i=48 r=1
getaffinity9
getaffinity6 i=49 r=1
getaffinity9
getaffinity6 i=50 r=1
getaffinity9
getaffinity6 i=51 r=1
getaffinity9
getaffinity6 i=52 r=1
getaffinity9
getaffinity6 i=53 r=1
getaffinity9
getaffinity6 i=54 r=1
getaffinity9
getaffinity6 i=55 r=1
getaffinity9
getaffinity6 i=56 r=1
getaffinity9
getaffinity6 i=57 r=1
getaffinity9
getaffinity6 i=58 r=1
getaffinity9
getaffinity6 i=59 r=1
getaffinity9
getaffinity6 i=60 r=1
getaffinity9
getaffinity6 i=61 r=1
getaffinity9
getaffinity6 i=62 r=1
getaffinity9
getaffinity6 i=63 r=1
getaffinity9
getaffinitya r=1
7
    xs_irix_sysmp                  ==> 0
    xs_processor_affinity          ==> 0
    xs_pthread_self_getaffinity    ==> 0
    xs_sched_getaffinity           ==> 7
    xs_win32                       ==> 0


==================================================
Set affinity =
    bindprocessor                  =>   4 ==>   7   [FAIL]
    BSD_Process_Affinity           =>   6 ==>   7   [FAIL]
    cpuset                         =>   4 ==>   7   [FAIL]
    pbind                          =>   3 ==>   7   [FAIL]
    taskset                        =>   2 ==>   2   [ ok ]
    Win32API                       =>   3 ==>   2   [FAIL]
    Win32Process                   =>   1 ==>   2   [FAIL]
    xs_cpuset_setaffinity          =>   3 ==>   2   [FAIL]
    xs_irix_sysmp                  =>   7 ==>   2   [FAIL]
    xs_processor_affinity          =>   6 ==>   2   [FAIL]
    xs_pthread_self_setaffinity    =>   6 ==>   2   [FAIL]
    xs_sched_setaffinity           =>   7 ==>   7   [ ok ]
    xs_win32                       =>   3 ==>   7   [FAIL]


t/11-exercise-all.t .. ok
# This system has 3 cpus. Spoofing Sys::CpuAffinity::getNumCpus() to return 32
t/12-32cpus.t ........ ok
All tests successful.
Files=5, Tests=24,  4 wallclock secs ( 0.01 usr  0.04 sys +  0.38 cusr  0.22 csys =  0.65 CPU)
Result: PASS

------------------------------
PREREQUISITES
------------------------------

Prerequisite modules loaded:

build_requires:

    Module             Need Have    
    ------------------ ---- --------
    Module::Build      0.25 0.4218  
    Test::More         0    1.302049

configure_requires:

    Module             Need Have    
    ------------------ ---- --------
    Module::Build      0.42 0.4218  

opt_requires:

    Module             Need Have    
    ------------------ ---- --------
    ExtUtils::CBuilder 0.15 0.280224


------------------------------
ENVIRONMENT AND OTHER CONTEXT
------------------------------

Environment variables:

    LANG = C
    LC_ALL = de_DE.UTF-8
    PATH = /usr/local/bin:/usr/bin:/bin:/usr/local/sbin:/usr/sbin:/sbin:/home/cpansand/bin/linux-gnu:/home/cpansand/bin/sh:/home/cpansand/bin:/usr/games:/home/cpansand/devel:/home/eserte/src/srezic-misc/scripts
    PERL5LIB = 
    PERL5OPT = 
    PERL5_CPANPLUS_IS_RUNNING = 25383
    PERL5_CPAN_IS_RUNNING = 25383
    PERL5_CPAN_IS_RUNNING_IN_RECURSION = 7009,25383
    PERLDOC = -MPod::Perldoc::ToTextOverstrike
    PERL_BATCH = yes
    PERL_CANARY_STABILITY_NOPROMPT = 1
    PERL_CPAN_REPORTER_CONFIG = /run/user/1023/cpansmoker/2016082000/cpanreporter_000_config.ini
    PERL_EXTUTILS_AUTOINSTALL = --defaultdeps
    PERL_PARALLEL_SMOKER = yes
    PERL_USE_UNSAFE_INC = 1
    SHELL = /bin/zsh
    TERM = screen
    TMPDIR = /run/user/1023/cpansmoker/2016082000

Perl special variables (and OS-specific diagnostics, for MSWin32):

    $^X = /bbbike/perl-5.14.4/bin/perl5.14.4
    $UID/$EUID = 1023 / 1023
    $GID = 1023 1023
    $EGID = 1023 1023

Perl module toolchain versions installed:

    Module              Have    
    ------------------- --------
    CPAN                2.14    
    CPAN::Meta          2.143240
    Cwd                 3.62    
    ExtUtils::CBuilder  0.280224
    ExtUtils::Command   7.16    
    ExtUtils::Install   1.56    
    ExtUtils::MakeMaker 7.16    
    ExtUtils::Manifest  1.70    
    ExtUtils::ParseXS   3.30    
    File::Spec          3.62    
    JSON                2.90    
    JSON::PP            2.27400 
    Module::Build       0.4218  
    Module::Signature   0.80    
    Parse::CPAN::Meta   1.4422  
    Test::Harness       3.36    
    Test::More          1.302049
    YAML                1.15    
    YAML::Syck          1.29    
    version             0.9916  


--

Summary of my perl5 (revision 5 version 14 subversion 4) configuration:
   
  Platform:
    osname=linux, osvers=3.16.0-4-amd64, archname=x86_64-linux
    uname='linux eserte 3.16.0-4-amd64 #1 smp debian 3.16.7-ckt25-2 (2016-04-08) x86_64 gnulinux '
    config_args='-ds -e -Dprefix=/opt/perl-5.14.4 -Dcf_email=srezic@cpan.org'
    hint=recommended, useposix=true, d_sigaction=define
    useithreads=undef, usemultiplicity=undef
    useperlio=define, d_sfio=undef, uselargefiles=define, usesocks=undef
    use64bitint=define, use64bitall=define, uselongdouble=undef
    usemymalloc=n, bincompat5005=undef
  Compiler:
    cc='cc', ccflags ='-fno-strict-aliasing -pipe -fstack-protector -I/usr/local/include -D_LARGEFILE_SOURCE -D_FILE_OFFSET_BITS=64',
    optimize='-O2',
    cppflags='-fno-strict-aliasing -pipe -fstack-protector -I/usr/local/include'
    ccversion='', gccversion='4.9.2', gccosandvers=''
    intsize=4, longsize=8, ptrsize=8, doublesize=8, byteorder=12345678
    d_longlong=define, longlongsize=8, d_longdbl=define, longdblsize=16
    ivtype='long', ivsize=8, nvtype='double', nvsize=8, Off_t='off_t', lseeksize=8
    alignbytes=8, prototype=define
  Linker and Libraries:
    ld='cc', ldflags =' -fstack-protector -L/usr/local/lib'
    libpth=/usr/local/lib /lib/x86_64-linux-gnu /lib/../lib /usr/lib/x86_64-linux-gnu /usr/lib/../lib /lib /usr/lib
    libs=-lnsl -lgdbm -ldb -ldl -lm -lcrypt -lutil -lc -lgdbm_compat
    perllibs=-lnsl -ldl -lm -lcrypt -lutil -lc
    libc=libc-2.19.so, so=so, useshrplib=false, libperl=libperl.a
    gnulibc_version='2.19'
  Dynamic Linking:
    dlsrc=dl_dlopen.xs, dlext=so, d_dlsymun=undef, ccdlflags='-Wl,-E'
    cccdlflags='-fPIC', lddlflags='-shared -O2 -L/usr/local/lib -fstack-protector'


Characteristics of this binary (from libperl): 
  Compile-time options: PERL_DONT_CREATE_GVSV PERL_MALLOC_WRAP
                        PERL_PRESERVE_IVUV USE_64_BIT_ALL USE_64_BIT_INT
                        USE_LARGE_FILES USE_PERLIO USE_PERL_ATOF
  Locally applied patches:
	Devel::PatchPerl 1.42
  Built under linux
  Compiled at May  7 2016 10:35:43
  %ENV:
    PERL5LIB=""
    PERL5OPT=""
    PERL5_CPANPLUS_IS_RUNNING="25383"
    PERL5_CPAN_IS_RUNNING="25383"
    PERL5_CPAN_IS_RUNNING_IN_RECURSION="7009,25383"
    PERLDOC="-MPod::Perldoc::ToTextOverstrike"
    PERL_BATCH="yes"
    PERL_CANARY_STABILITY_NOPROMPT="1"
    PERL_CPAN_REPORTER_CONFIG="/run/user/1023/cpansmoker/2016082000/cpanreporter_000_config.ini"
    PERL_EXTUTILS_AUTOINSTALL="--defaultdeps"
    PERL_PARALLEL_SMOKER="yes"
    PERL_USE_UNSAFE_INC="1"
  @INC:
    /opt/perl-5.14.4/lib/site_perl/5.14.4/x86_64-linux
    /opt/perl-5.14.4/lib/site_perl/5.14.4
    /opt/perl-5.14.4/lib/5.14.4/x86_64-linux
    /opt/perl-5.14.4/lib/5.14.4
    .