Alien-raylib v0.019 Perl 5 v5.8.8 darwin-thread-multi-2level

Status
Pass
From
Nigel Horne
Dist
Alien-raylib v0.019
Platform
Perl 5 v5.8.8 darwin-thread-multi-2level
Date
2018-07-04 13:38:16
ID
819a9a8c-7f8f-11e8-a300-2e07d07491a7
This distribution has been tested as part of the CPAN Testers
project, supporting the Perl programming language.  See
http://wiki.cpantesters.org/ for more information or email
questions to cpan-testers-discuss@perl.org


--
Dear Ahmad Fatoum,

This is a computer-generated report for Alien-raylib-0.019
on perl 5.8.8, created by CPAN-Reporter-1.2018.

Thank you for uploading your work to CPAN.  Congratulations!
All tests were successful.

Sections of this report:

    * Tester comments
    * Program output
    * Prerequisites
    * Environment and other context

------------------------------
TESTER COMMENTS
------------------------------

Additional comments from tester:

this report is from an automated smoke testing program
and was not reviewed by a human for accuracy

------------------------------
PROGRAM OUTPUT
------------------------------

Output from '/sw/bin/make test':

"/Users/hornenj/perl5/perlbrew/perls/perl-5.8.8/bin/perl" -MAlien::Build::MM=cmd -e test
Alien::Build::Plugin::PkgConfig::Negotiate> Using PkgConfig plugin: PkgConfig::CommandLine
PERL_DL_NONLAZY=1 "/Users/hornenj/perl5/perlbrew/perls/perl-5.8.8/bin/perl" "-MExtUtils::Command::MM" "-MTest::Harness" "-e" "undef *Test::Harness::Switches; test_harness(0, 'blib/lib', 'blib/arch')" t/*.t
t/00-compile.t ......... ok
# Trying out GetRandomValue
compilet-R7oWe.c:1:5: warning: no previous prototype for function 'boot_compilet' [-Wmissing-prototypes]
int boot_compilet() { return 1; }
    ^
1 warning generated.
ld: warning: object file (compilet-R7oWe.o) was built for newer OSX version (10.13) than being linked (10.4)
# 
# Versions for all modules listed in MYMETA.json (including optional ones):
# 
# === Configure Requires ===
# 
#     Module                             Want Have
#     ---------------------------------- ---- ----
#     Alien::Build                       0.32 1.46
#     Alien::Build::MM                   0.32 1.46
#     Alien::Build::Plugin::Build::CMake 0.99 1.46
#     ExtUtils::MakeMaker                6.52 7.30
# 
# === Build Requires ===
# 
#     Module                                        Want  Have
#     -------------------------------------------- ----- -----
#     Alien::Build                                  0.32  1.46
#     Alien::Build::MM                              0.32  1.46
#     Alien::Build::Plugin::Gather::IsolateDynamic  0.48  1.46
#     Alien::cmake3                                 0.02  0.04
#     Archive::Tar                                   any  2.10
#     Config                                         any undef
#     ExtUtils::MakeMaker                           6.52  7.30
#     HTTP::Tiny                                   0.044 0.056
#     IO::Socket::SSL                               1.56 2.056
#     IO::Zlib                                       any  1.10
#     Net::SSLeay                                   1.49  1.81
#     URI                                            any  1.69
# 
# === Test Requires ===
# 
#     Module              Want     Have
#     ------------------- ---- --------
#     ExtUtils::MakeMaker 6.52     7.30
#     File::Spec           any   3.2701
#     IO::Handle           any     1.28
#     IPC::Open3           any     1.02
#     Test::More           any 1.302136
# 
# === Test Recommends ===
# 
#     Module         Want     Have
#     ---------- -------- --------
#     CPAN::Meta 2.120900 2.150010
# 
# === Runtime Requires ===
# 
#     Module       Want Have
#     ------------ ---- ----
#     Alien::Build 0.25 1.46
# 
t/00-report-prereqs.t .. ok
# LIBS: -L/Users/hornenj/.cpan/build/Alien-raylib-0.019-0/blib/lib/auto/share/dist/Alien-raylib/lib -lraylib
t/libs.t ............... ok
t/init.t ............... ok
All tests successful.
Files=4, Tests=7,  0 wallclock secs ( 0.02 usr  0.01 sys +  0.65 cusr  0.35 csys =  1.03 CPU)
Result: PASS

------------------------------
PREREQUISITES
------------------------------

Prerequisite modules loaded:

requires:

    Module                                       Need  Have    
    -------------------------------------------- ----- --------
    Alien::Build                                 0.25  1.46    
    perl                                         5.008 5.008008

build_requires:

    Module                                       Need  Have    
    -------------------------------------------- ----- --------
    Alien::Build                                 0.32  1.46    
    Alien::Build::MM                             0.32  1.46    
    Alien::Build::Plugin::Gather::IsolateDynamic 0.48  1.46    
    Alien::cmake3                                0.02  0.04    
    Archive::Tar                                 0     2.10    
    Config                                       0     0       
    ExtUtils::MakeMaker                          6.52  7.30    
    File::Spec                                   0     3.2701  
    HTTP::Tiny                                   0.044 0.056   
    IO::Handle                                   0     1.28    
    IO::Socket::SSL                              1.56  2.056   
    IO::Zlib                                     0     1.10    
    IPC::Open3                                   0     1.02    
    Net::SSLeay                                  1.49  1.81    
    Test::More                                   0     1.302136
    URI                                          0     1.69    

configure_requires:

    Module                                       Need  Have    
    -------------------------------------------- ----- --------
    Alien::Build                                 0.32  1.46    
    Alien::Build::MM                             0.32  1.46    
    Alien::Build::Plugin::Build::CMake           0.99  1.46    
    ExtUtils::MakeMaker                          6.52  7.30    


------------------------------
ENVIRONMENT AND OTHER CONTEXT
------------------------------

Environment variables:

    AUTOMATED_TESTING = 1
    HARNESS_OPTIONS = c:j3
    LANG = en_US.UTF-8
    LC_ALL = POSIX
    PATH = /Users/hornenj/perl5/perlbrew/bin:/Users/hornenj/perl5/perlbrew/perls/perl-5.8.8/bin:/Users/hornenj/homebrew/bin:/Users/hornenj/bin:/usr/bin:/bin:/usr/X11R6/bin:/sw/bin:/Users/hornenj/src/njh/smoker/bin
    PERL5LIB = /Users/hornenj/.cpan/build/Alien-cmake3-0.04-0/blib/arch:/Users/hornenj/.cpan/build/Alien-cmake3-0.04-0/blib/lib:/Users/hornenj/.cpan/build/Alien-Build-1.46-0/blib/arch:/Users/hornenj/.cpan/build/Alien-Build-1.46-0/blib/lib:/Users/hornenj/.cpan/build/Path-Tiny-0.104-0/blib/arch:/Users/hornenj/.cpan/build/Path-Tiny-0.104-0/blib/lib:/Users/hornenj/.cpan/build/File-chdir-0.1010-0/blib/arch:/Users/hornenj/.cpan/build/File-chdir-0.1010-0/blib/lib:/Users/hornenj/.cpan/build/File-Which-1.22-0/blib/arch:/Users/hornenj/.cpan/build/File-Which-1.22-0/blib/lib:/Users/hornenj/.cpan/build/FFI-CheckLib-0.20-0/blib/arch:/Users/hornenj/.cpan/build/FFI-CheckLib-0.20-0/blib/lib:/Users/hornenj/.cpan/build/Test2-Suite-0.000114-0/blib/arch:/Users/hornenj/.cpan/build/Test2-Suite-0.000114-0/blib/lib:/Users/hornenj/.cpan/build/Term-Table-0.012-0/blib/arch:/Users/hornenj/.cpan/build/Term-Table-0.012-0/blib/lib:/Users/hornenj/.cpan/build/Sub-Info-0.002-0/blib/arch:/Users/hornenj/.cpan/build/Sub-Info-0.002-0/blib/lib:/Users/hornenj/.cpan/build/Test-Simple-1.302136-0/blib/arch:/Users/hornenj/.cpan/build/Test-Simple-1.302136-0/blib/lib
    PERL5OPT = 
    PERL5_CPANPLUS_IS_RUNNING = 78228
    PERL5_CPAN_IS_RUNNING = 78228
    PERLBREW_HOME = /Users/hornenj/.perlbrew
    PERLBREW_MANPATH = /Users/hornenj/perl5/perlbrew/perls/perl-5.8.8/man
    PERLBREW_PATH = /Users/hornenj/perl5/perlbrew/bin:/Users/hornenj/perl5/perlbrew/perls/perl-5.8.8/bin
    PERLBREW_PERL = perl-5.8.8
    PERLBREW_ROOT = /Users/hornenj/perl5/perlbrew
    PERLBREW_SHELLRC_VERSION = 0.84
    PERLBREW_VERSION = 0.84
    SHELL = /bin/bash
    TERM = xterm-256color
    TMPDIR = /var/folders/pz/pd7y1qjs6s3cbk170cw50fjc000c61/T//testwrapper.78216
    VERSIONER_PERL_PREFER_32_BIT = no
    VERSIONER_PERL_VERSION = 5.18

Perl special variables (and OS-specific diagnostics, for MSWin32):

    $^X = /Users/hornenj/perl5/perlbrew/perls/perl-5.8.8/bin/perl
    $UID/$EUID = 12481 / 12481
    $GID = 14 100 223 241 37223 206 399 204 98 62 12 527 37191 5344 14
    $EGID = 14 100 223 241 37223 206 399 204 98 62 12 527 37191 5344 14

Perl module toolchain versions installed:

    Module              Have    
    ------------------- --------
    CPAN                2.16    
    CPAN::Meta          2.150010
    Cwd                 3.2701  
    ExtUtils::CBuilder  0.280224
    ExtUtils::Command   7.30    
    ExtUtils::Install   2.06    
    ExtUtils::MakeMaker 7.30    
    ExtUtils::Manifest  1.70    
    ExtUtils::ParseXS   3.30    
    File::Spec          3.2701  
    JSON                2.93    
    JSON::PP            2.27400 
    Module::Build       0.32    
    Module::Signature   n/a     
    Parse::CPAN::Meta   2.150010
    Test::Harness       3.36    
    Test::More          1.302136
    YAML                1.26    
    YAML::Syck          1.30    
    version             0.9912  


--

Summary of my perl5 (revision 5 version 8 subversion 8) configuration:
  Platform:
    osname=darwin, osvers=12.5.0, archname=darwin-thread-multi-2level
    uname='darwin ncbimac2008.ncbi.nlm.nih.gov 12.5.0 darwin kernel version 12.5.0: sun sep 29 13:33:47 pdt 2013; root:xnu-2050.48.12~1release_x86_64 x86_64 '
    config_args='-de -Dprefix=/Users/hornenj/perl5/perlbrew/perls/perl-5.8.8 -Duseithreads -Dusemultiplicity -Accflags=-O2 -W -Wformat=2 -Wswitch -Wshadow -Wwrite-strings -Wuninitialized -Wall -pipe -mtune=native -march=native -fomit-frame-pointer -msse2 -msse -mmmx -pedantic -D_FORTIFY_SOURCE=2 -Wpointer-arith -Wstrict-prototypes -fstack-protector -Wstack-protector -Wextra -Wbad-function-cast -Wcast-align -Wcast-qual -Wdisabled-optimization -Wendif-labels -Wfloat-equal -Wformat-nonliteral -Winline -Wmissing-declarations -Wmissing-prototypes -Wnested-externs -Wpointer-arith -Wundef -Wformat-security -fassociative-math -Acc=cc -Aeval:scriptdir=/Users/hornenj/perl5/perlbrew/perls/perl-5.8.8/bin'
    hint=recommended, useposix=true, d_sigaction=define
    usethreads=define use5005threads=undef useithreads=define usemultiplicity=define
    useperlio=define d_sfio=undef uselargefiles=define usesocks=undef
    use64bitint=define use64bitall=define uselongdouble=undef
    usemymalloc=n, bincompat5005=undef
  Compiler:
    cc=' cc', ccflags ='-fno-common -DPERL_DARWIN -O2 -W -Wformat=2 -Wswitch -Wshadow -Wwrite-strings -Wuninitialized -Wall -pipe -mtune=native -march=native -fomit-frame-pointer -msse2 -msse -mmmx -pedantic -D_FORTIFY_SOURCE=2 -Wpointer-arith -Wstrict-prototypes -fstack-protector -Wstack-protector -Wextra -Wbad-function-cast -Wcast-align -Wcast-qual -Wdisabled-optimization -Wendif-labels -Wfloat-equal -Wformat-nonliteral -Winline -Wmissing-declarations -Wmissing-prototypes -Wnested-externs -Wpointer-arith -Wundef -Wformat-security -fassociative-math -fno-strict-aliasing -Wdeclaration-after-statement -I/usr/local/include',
    optimize='-O3',
    cppflags='-fno-common -DPERL_DARWIN -O2 -W -Wformat=2 -Wswitch -Wshadow -Wwrite-strings -Wuninitialized -Wall -pipe -mtune=native -march=native -fomit-frame-pointer -msse2 -msse -mmmx -pedantic -D_FORTIFY_SOURCE=2 -Wpointer-arith -Wstrict-prototypes -fstack-protector -Wstack-protector -Wextra -Wbad-function-cast -Wcast-align -Wcast-qual -Wdisabled-optimization -Wendif-labels -Wfloat-equal -Wformat-nonliteral -Winline -Wmissing-declarations -Wmissing-prototypes -Wnested-externs -Wpointer-arith -Wundef -Wformat-security -fassociative-math -fno-strict-aliasing -Wdeclaration-after-statement -I/usr/local/include'
    ccversion='', gccversion='4.2.1 Compatible Apple LLVM 4.2 (clang-425.0.24)', gccosandvers=''
    intsize=4, longsize=8, ptrsize=8, doublesize=8, byteorder=12345678
    d_longlong=define, longlongsize=8, d_longdbl=define, longdblsize=16
    ivtype='long', ivsize=8, nvtype='double', nvsize=8, Off_t='off_t', lseeksize=8
    alignbytes=8, prototype=define
  Linker and Libraries:
    ld='env MACOSX_DEPLOYMENT_TARGET=10.3 cc', ldflags =' -L/usr/local/lib'
    libpth=/usr/local/lib /usr/lib
    libs=-ldbm -ldl -lm -lutil -lc
    perllibs=-ldl -lm -lutil -lc
    libc=, so=dylib, useshrplib=false, libperl=libperl.a
    gnulibc_version=''
  Dynamic Linking:
    dlsrc=dl_dlopen.xs, dlext=bundle, d_dlsymun=undef, ccdlflags=' '
    cccdlflags=' ', lddlflags=' -bundle -undefined dynamic_lookup -L/usr/local/lib'


Characteristics of this binary (from libperl): 
  Compile-time options: MULTIPLICITY PERL_IMPLICIT_CONTEXT
                        PERL_MALLOC_WRAP USE_64_BIT_ALL USE_64_BIT_INT
                        USE_ITHREADS USE_LARGE_FILES USE_PERLIO
                        USE_REENTRANT_API
  Built under darwin
  Compiled at Sep 17 2014 09:02:20
  %ENV:
    PERL5LIB="/Users/hornenj/.cpan/build/Alien-cmake3-0.04-0/blib/arch:/Users/hornenj/.cpan/build/Alien-cmake3-0.04-0/blib/lib:/Users/hornenj/.cpan/build/Alien-Build-1.46-0/blib/arch:/Users/hornenj/.cpan/build/Alien-Build-1.46-0/blib/lib:/Users/hornenj/.cpan/build/Path-Tiny-0.104-0/blib/arch:/Users/hornenj/.cpan/build/Path-Tiny-0.104-0/blib/lib:/Users/hornenj/.cpan/build/File-chdir-0.1010-0/blib/arch:/Users/hornenj/.cpan/build/File-chdir-0.1010-0/blib/lib:/Users/hornenj/.cpan/build/File-Which-1.22-0/blib/arch:/Users/hornenj/.cpan/build/File-Which-1.22-0/blib/lib:/Users/hornenj/.cpan/build/FFI-CheckLib-0.20-0/blib/arch:/Users/hornenj/.cpan/build/FFI-CheckLib-0.20-0/blib/lib:/Users/hornenj/.cpan/build/Test2-Suite-0.000114-0/blib/arch:/Users/hornenj/.cpan/build/Test2-Suite-0.000114-0/blib/lib:/Users/hornenj/.cpan/build/Term-Table-0.012-0/blib/arch:/Users/hornenj/.cpan/build/Term-Table-0.012-0/blib/lib:/Users/hornenj/.cpan/build/Sub-Info-0.002-0/blib/arch:/Users/hornenj/.cpan/build/Sub-Info-0.002-0/blib/lib:/Users/hornenj/.cpan/build/Test-Simple-1.302136-0/blib/arch:/Users/hornenj/.cpan/build/Test-Simple-1.302136-0/blib/lib"
    PERL5OPT=""
    PERL5_CPANPLUS_IS_RUNNING="78228"
    PERL5_CPAN_IS_RUNNING="78228"
    PERLBREW_HOME="/Users/hornenj/.perlbrew"
    PERLBREW_MANPATH="/Users/hornenj/perl5/perlbrew/perls/perl-5.8.8/man"
    PERLBREW_PATH="/Users/hornenj/perl5/perlbrew/bin:/Users/hornenj/perl5/perlbrew/perls/perl-5.8.8/bin"
    PERLBREW_PERL="perl-5.8.8"
    PERLBREW_ROOT="/Users/hornenj/perl5/perlbrew"
    PERLBREW_SHELLRC_VERSION="0.84"
    PERLBREW_VERSION="0.84"
  @INC:
    /Users/hornenj/.cpan/build/Alien-cmake3-0.04-0/blib/arch
    /Users/hornenj/.cpan/build/Alien-cmake3-0.04-0/blib/lib
    /Users/hornenj/.cpan/build/Alien-Build-1.46-0/blib/arch
    /Users/hornenj/.cpan/build/Alien-Build-1.46-0/blib/lib
    /Users/hornenj/.cpan/build/Path-Tiny-0.104-0/blib/arch
    /Users/hornenj/.cpan/build/Path-Tiny-0.104-0/blib/lib
    /Users/hornenj/.cpan/build/File-chdir-0.1010-0/blib/arch
    /Users/hornenj/.cpan/build/File-chdir-0.1010-0/blib/lib
    /Users/hornenj/.cpan/build/File-Which-1.22-0/blib/arch
    /Users/hornenj/.cpan/build/File-Which-1.22-0/blib/lib
    /Users/hornenj/.cpan/build/FFI-CheckLib-0.20-0/blib/arch
    /Users/hornenj/.cpan/build/FFI-CheckLib-0.20-0/blib/lib
    /Users/hornenj/.cpan/build/Test2-Suite-0.000114-0/blib/arch
    /Users/hornenj/.cpan/build/Test2-Suite-0.000114-0/blib/lib
    /Users/hornenj/.cpan/build/Term-Table-0.012-0/blib/arch
    /Users/hornenj/.cpan/build/Term-Table-0.012-0/blib/lib
    /Users/hornenj/.cpan/build/Sub-Info-0.002-0/blib/arch
    /Users/hornenj/.cpan/build/Sub-Info-0.002-0/blib/lib
    /Users/hornenj/.cpan/build/Test-Simple-1.302136-0/blib/arch
    /Users/hornenj/.cpan/build/Test-Simple-1.302136-0/blib/lib
    /Users/hornenj/perl5/perlbrew/perls/perl-5.8.8/lib/5.8.8/darwin-thread-multi-2level
    /Users/hornenj/perl5/perlbrew/perls/perl-5.8.8/lib/5.8.8
    /Users/hornenj/perl5/perlbrew/perls/perl-5.8.8/lib/site_perl/5.8.8/darwin-thread-multi-2level
    /Users/hornenj/perl5/perlbrew/perls/perl-5.8.8/lib/site_perl/5.8.8
    /Users/hornenj/perl5/perlbrew/perls/perl-5.8.8/lib/site_perl
    .