Astro-Catalog v4.37 Perl 5 v5.37.7 x86_64-linux-quadmath

Status
Pass
From
Andreas J. König (ANDK)
Dist
Astro-Catalog v4.37
Platform
Perl 5 v5.37.7 x86_64-linux-quadmath
Date
2023-05-16 03:48:23
ID
81a07f02-f39c-11ed-9b33-5bbc92bc4639
This distribution has been tested as part of the CPAN Testers
project, supporting the Perl programming language.  See
http://wiki.cpantesters.org/ for more information or email
questions to cpan-testers-discuss@perl.org


--
Dear Graham Bell,

This is a computer-generated report for Astro-Catalog-4.37
on perl 5.37.7, created by CPAN-Reporter-1.2018.

Thank you for uploading your work to CPAN.  Congratulations!
All tests were successful.

Sections of this report:

    * Tester comments
    * Program output
    * Prerequisites
    * Environment and other context

------------------------------
TESTER COMMENTS
------------------------------

Additional comments from tester:

this report is from an automated smoke testing program
and was not reviewed by a human for accuracy

------------------------------
PROGRAM OUTPUT
------------------------------

Output from './Build test':

# Astro::Catalog::IO::VOTable can not locate Astro/VO/VOTable/Document.pm
# Astro::Catalog::IO::VEX can not locate Astro/VEX.pm
t/1_compile.t ..... ok
t/2_astrom.t ...... ok
t/2_cluster.t ..... ok
t/2_findoff.t ..... ok
t/2_fitstable.t ... ok
t/2_gaiapick.t .... ok
t/2_jcmt.t ........ ok
t/2_jcmt_loose.t .. ok
t/2_northstar.t ... ok
t/2_ritmatch.t .... ok
t/2_sextractor.t .. ok
t/2_simple.t ...... ok
t/2_stl.t ......... ok
t/2_tst.t ......... ok
t/2_ukirtbs.t ..... ok
t/2_votable.t ..... skipped: Astro::VO::VOTable not installed
t/2_xy.t .......... ok
t/3_catalog.t ..... ok
t/3_item.t ........ ok
t/3_morphology.t .. ok
t/3_star.t ........ ok
t/4_cmc.t ......... ok
Unable to find plausible coordinate in string '------ ------ ------' at /home/sand/src/perl/repoperls/installed-perls/host/k93msid/v5.37.7/ec94/lib/site_perl/5.37.7/Astro/Coords/Equatorial.pm line 149.
Unable to find plausible coordinate in string '------ ----- ----' at /home/sand/src/perl/repoperls/installed-perls/host/k93msid/v5.37.7/ec94/lib/site_perl/5.37.7/Astro/Coords/Equatorial.pm line 151.
# Cannot connect to ESO GSC: Coordinates must be an Astro::Coords object at /tmp/loop_over_bdir-941283-8XF0ut/Astro-Catalog-4.37-0/blib/lib/Astro/Catalog/Query/GSC.pm line 205.
t/4_gsc.t ......... ok
# Error 500: Failed to establish network connection using url http://scully.harvard.edu/~cgi/MPCheck.COM?ra=07+13+42&oc=500&which=pos&sort=d&decl=-14+02+00&needed=f&year=2004&limit=20&type=p&ps=n&TextArea=&radius=300&month=3&day=1.87&mot=h&tmot=s at t/4_mpc.t line 99.
t/4_mpc.t ......... ok
# Cannot connect to Sesame: Service description 'http://cdsws.u-strasbg.fr/axis/services/Sesame?wsdl' can't be loaded: 500 Can't connect to cdsws.u-strasbg.fr:80 (Name or service not known)
# Cannot connect to Sesame: Service description 'http://cdsws.u-strasbg.fr/axis/services/Sesame?wsdl' can't be loaded: 500 Can't connect to cdsws.u-strasbg.fr:80 (Name or service not known)
t/4_sesame.t ...... ok
# Can not construct Skycat client: unable to find a remote service named gsc@eso at t/4_skycat_gsc.t line 107.
t/4_skycat_gsc.t .. ok
# Cannot connect to USNO-A2: Error 404: Failed to establish network connection using url http://archive.eso.org/skycat/servers/usnoa_res?radmax=1&magbright=0&object=HT Cas&sort=ra&format=1&magfaint=100&nout=2000 at t/4_usnoa2.t line 152.
t/4_usnoa2.t ...... ok
All tests successful.
Files=27, Tests=3471, 26 wallclock secs ( 0.30 usr  0.05 sys + 15.90 cusr  2.59 csys = 18.84 CPU)
Result: PASS

------------------------------
PREREQUISITES
------------------------------

Prerequisite modules loaded:

requires:

    Module                    Need    Have    
    ------------------------- ------- --------
    Astro::Coords             0.12    0.21    
    Astro::Flux               0.01    0.01    
    Astro::Telescope          0.5     0.71    
    Carp                      1.01    1.54    
    Class::Struct             0.63    0.67    
    Data::Dumper              2.12    2.187   
    DateTime                  0       1.59    
    DateTime::Format::ISO8601 0       0.16    
    File::Spec                0.84    3.88    
    File::Temp                0.14    0.2311  
    LWP                       5.53    6.67    
    Misc::Quality             0.01    0.01    
    Net::Domain               2.13    3.14    
    Number::Uncertainty       0.01    1.4     
    Pod::Usage                1.14    2.03    
    Scalar::Util              1.14    1.63    
    SOAP::Lite                0       1.27    
    Time::Piece               1.08    1.3401  

build_requires:

    Module                    Need    Have    
    ------------------------- ------- --------
    Test::More                0       1.302194

configure_requires:

    Module                    Need    Have    
    ------------------------- ------- --------
    Module::Build             0.3     0.4232  

opt_requires:

    Module                    Need    Have    
    ------------------------- ------- --------
    Astro::FITS::CFITSIO      1.03    1.16    
  ! Astro::VEX                0       n/a     
  ! Astro::VO::VOTable        0.9     n/a     
    Text::CSV                 0       2.02    
    Tk                        804.029 804.036 


------------------------------
ENVIRONMENT AND OTHER CONTEXT
------------------------------

Environment variables:

    AUTOMATED_TESTING = 1
    LANG = en_US.UTF-8
    LANGUAGE = en_US:en
    PATH = /home/sand/bin:/usr/local/bin:/usr/bin:/bin:/usr/games:/usr/local/perl/bin:/usr/X11/bin:/sbin:/usr/sbin
    PERL5LIB = 
    PERL5OPT = 
    PERL5_CPANPLUS_IS_RUNNING = 1777850
    PERL5_CPAN_IS_RUNNING = 1777850
    PERL_CANARY_STABILITY_NOPROMPT = 1
    PERL_MM_USE_DEFAULT = 1
    PERL_USE_UNSAFE_INC = 1
    SHELL = /usr/bin/zsh
    TERM = screen

Perl special variables (and OS-specific diagnostics, for MSWin32):

    $^X = /home/sand/src/perl/repoperls/installed-perls/host/k93msid/v5.37.7/ec94/bin/perl
    $UID/$EUID = 1005 / 1005
    $GID = 1005 1005
    $EGID = 1005 1005

Perl module toolchain versions installed:

    Module              Have    
    ------------------- --------
    CPAN                2.34    
    CPAN::Meta          2.150010
    Cwd                 3.88    
    ExtUtils::CBuilder  0.280238
    ExtUtils::Command   7.70    
    ExtUtils::Install   2.20    
    ExtUtils::MakeMaker 7.70    
    ExtUtils::Manifest  1.73    
    ExtUtils::ParseXS   3.49    
    File::Spec          3.88    
    JSON                4.10    
    JSON::PP            4.12    
    Module::Build       0.4232  
    Module::Signature   0.88    
    Parse::CPAN::Meta   2.150010
    Test::Harness       3.44    
    Test::More          1.302194
    YAML                1.30    
    YAML::Syck          1.34    
    version             0.9929  


--

Summary of my perl5 (revision 5 version 37 subversion 7) configuration:
  Commit id: b1163c2ae562670f2bf4c7700087f0c9d0ad8fe5
  Platform:
    osname=linux
    osvers=6.0.0-5-amd64
    archname=x86_64-linux-quadmath
    uname='linux k93msid 6.0.0-5-amd64 #1 smp preempt_dynamic debian 6.0.10-2 (2022-12-01) x86_64 gnulinux '
    config_args='-Dprefix=/home/sand/src/perl/repoperls/installed-perls/host/k93msid/v5.37.7/ec94 -Dmyhostname=k93msid -Dinstallusrbinperl=n -Uversiononly -Dusedevel -des -Ui_db -Dlibswanted=cl pthread socket inet nsl gdbm dbm malloc dl ld sun m crypt sec util c cposix posix ucb BSD gdbm_compat -Uuseithreads -Uuselongdouble -DEBUGGING=both -Dusequadmath'
    hint=recommended
    useposix=true
    d_sigaction=define
    useithreads=undef
    usemultiplicity=undef
    use64bitint=define
    use64bitall=define
    uselongdouble=undef
    usemymalloc=n
    default_inc_excludes_dot=define
  Compiler:
    cc='cc'
    ccflags ='-fwrapv -DDEBUGGING -fno-strict-aliasing -pipe -fstack-protector-strong -I/usr/local/include -D_LARGEFILE_SOURCE -D_FILE_OFFSET_BITS=64 -D_FORTIFY_SOURCE=2'
    optimize='-O2 -g'
    cppflags='-fwrapv -DDEBUGGING -fno-strict-aliasing -pipe -fstack-protector-strong -I/usr/local/include'
    ccversion=''
    gccversion='12.2.0'
    gccosandvers=''
    intsize=4
    longsize=8
    ptrsize=8
    doublesize=8
    byteorder=12345678
    doublekind=3
    d_longlong=define
    longlongsize=8
    d_longdbl=define
    longdblsize=16
    longdblkind=3
    ivtype='long'
    ivsize=8
    nvtype='__float128'
    nvsize=16
    Off_t='off_t'
    lseeksize=8
    alignbytes=16
    prototype=define
  Linker and Libraries:
    ld='cc'
    ldflags =' -fstack-protector-strong -L/usr/local/lib'
    libpth=/usr/local/lib /usr/lib/x86_64-linux-gnu /usr/lib /usr/lib64
    libs=-lpthread -lnsl -ldl -lm -lcrypt -lutil -lc -lquadmath
    perllibs=-lpthread -lnsl -ldl -lm -lcrypt -lutil -lc -lquadmath
    libc=/lib/x86_64-linux-gnu/libc.so.6
    so=so
    useshrplib=false
    libperl=libperl.a
    gnulibc_version='2.36'
  Dynamic Linking:
    dlsrc=dl_dlopen.xs
    dlext=so
    d_dlsymun=undef
    ccdlflags='-Wl,-E'
    cccdlflags='-fPIC'
    lddlflags='-shared -O2 -g -L/usr/local/lib -fstack-protector-strong'


Characteristics of this binary (from libperl): 
  Compile-time options:
    DEBUGGING
    HAS_TIMES
    PERLIO_LAYERS
    PERL_COPY_ON_WRITE
    PERL_DONT_CREATE_GVSV
    PERL_HASH_FUNC_SIPHASH13
    PERL_HASH_USE_SBOX32
    PERL_MALLOC_WRAP
    PERL_OP_PARENT
    PERL_PRESERVE_IVUV
    PERL_USE_DEVEL
    PERL_USE_SAFE_PUTENV
    USE_64_BIT_ALL
    USE_64_BIT_INT
    USE_LARGE_FILES
    USE_LOCALE
    USE_LOCALE_COLLATE
    USE_LOCALE_CTYPE
    USE_LOCALE_NUMERIC
    USE_LOCALE_TIME
    USE_PERLIO
    USE_PERL_ATOF
    USE_QUADMATH
  Built under linux
  Compiled at Dec 21 2022 00:13:09
  %ENV:
    PERL5LIB=""
    PERL5OPT=""
    PERL5_CPANPLUS_IS_RUNNING="1777850"
    PERL5_CPAN_IS_RUNNING="1777850"
    PERL_CANARY_STABILITY_NOPROMPT="1"
    PERL_MM_USE_DEFAULT="1"
    PERL_USE_UNSAFE_INC="1"
  @INC:
    /home/sand/src/perl/repoperls/installed-perls/host/k93msid/v5.37.7/ec94/lib/site_perl/5.37.7/x86_64-linux-quadmath
    /home/sand/src/perl/repoperls/installed-perls/host/k93msid/v5.37.7/ec94/lib/site_perl/5.37.7
    /home/sand/src/perl/repoperls/installed-perls/host/k93msid/v5.37.7/ec94/lib/5.37.7/x86_64-linux-quadmath
    /home/sand/src/perl/repoperls/installed-perls/host/k93msid/v5.37.7/ec94/lib/5.37.7
    .