SQL-Schema-Versioned v0.239 Perl 5 v5.40.3 x86_64-cygwin-threads-multi

Status
Pass
From
Peter John Acklam (PJACKLAM)
Dist
SQL-Schema-Versioned v0.239
Platform
Perl 5 v5.40.3 x86_64-cygwin-threads-multi
Date
2025-10-13 16:22:27
ID
81c223e3-7fe5-1014-b7c5-eefc23a7f17e
This distribution has been tested as part of the CPAN Testers
project, supporting the Perl programming language.  See
http://wiki.cpantesters.org/ for more information or email
questions to cpan-testers-discuss@perl.org


--
Dear perlancar,

This is a computer-generated report for SQL-Schema-Versioned-0.239
on perl 5.40.3, created by CPAN-Reporter-1.2020.

Thank you for uploading your work to CPAN.  Congratulations!
All tests were successful.

Sections of this report:

    * Tester comments
    * Program output
    * Prerequisites
    * Environment and other context

------------------------------
TESTER COMMENTS
------------------------------

Additional comments from tester:

none provided

------------------------------
PROGRAM OUTPUT
------------------------------

Output from '/bin/make test':

PERL_DL_NONLAZY=1 "/usr/bin/perl.exe" "-MExtUtils::Command::MM" "-MTest::Harness" "-e" "undef *Test::Harness::Switches; test_harness(0, 'blib/lib', 'blib/arch')" t/*.t
t/00-compile.t ....................................... ok
DBD::SQLite::db do failed: near "blah": syntax error at /cygdrive/d/src/perl/.cpan/buildADvJsWkD/SQL-Schema-Versioned-0.239-0/blib/lib/SQL/Schema/Versioned.pm line 534.
    # [
    #   500,
    #   'Failed executing SQL statement from upgrade_to_v2\'s step #1: near "blah": syntax error (SQL statement: blah)'
    # ]
DBD::SQLite::db do failed: near "blah": syntax error at /cygdrive/d/src/perl/.cpan/buildADvJsWkD/SQL-Schema-Versioned-0.239-0/blib/lib/SQL/Schema/Versioned.pm line 534.
    # [
    #   500,
    #   'Failed executing SQL statement from upgrade_to_v3\'s step #1: near "blah": syntax error (SQL statement: blah)'
    # ]
    # [
    #   500,
    #   'Died when executing code from upgrade_to_v3\'s step #1: Died at t/01-basic.t line 185.
    # '
    # ]
cannot unlink file for /tmp/DjiPUFK1B0/db.db: Device or resource busy at /usr/share/perl5/5.40/File/Temp.pm line 921.
cannot restore permissions to 0100755 for /tmp/DjiPUFK1B0/db.db: Device or resource busy at /usr/share/perl5/5.40/File/Temp.pm line 921.
cannot remove directory for /tmp/DjiPUFK1B0: Directory not empty at /usr/share/perl5/5.40/File/Temp.pm line 921.
t/01-basic.t ......................................... ok
cannot unlink file for /tmp/aBsx89k13v/db.db: Device or resource busy at t/02-component.t line 244.
cannot restore permissions to 0100755 for /tmp/aBsx89k13v/db.db: Device or resource busy at t/02-component.t line 244.
cannot remove directory for /tmp/aBsx89k13v: Directory not empty at t/02-component.t line 244.
t/02-component.t ..................................... ok
t/author-critic.t .................................... skipped: these tests are for testing by the author
t/author-pod-coverage.t .............................. skipped: these tests are for testing by the author
t/author-pod-syntax.t ................................ skipped: these tests are for testing by the author
t/release-rinci.t .................................... skipped: these tests are for release candidate testing
t/sub-_extract_created_tables_from_sql_statements.t .. ok
All tests successful.
Files=8, Tests=20, 15 wallclock secs ( 0.11 usr  0.94 sys +  2.24 cusr 10.85 csys = 14.14 CPU)
Result: PASS

------------------------------
PREREQUISITES
------------------------------

Prerequisite modules loaded:

requires:

    Module                Need     Have    
    --------------------- -------- --------
    DBIx::Diff::Schema    0.094    0.098   
    Exporter              5.57     5.78    
    Log::ger              0.038    0.042   
    perl                  5.010001 5.040003
    Scalar::Util          0        1.70    
    Scalar::Util::Numeric 0        0.40    
    strict                0        1.13    
    Test::Exception       0        0.43    
    Test::More            0.98     1.302214
    warnings              0        1.70    

build_requires:

    Module                Need     Have    
    --------------------- -------- --------
    Data::Clone           0        0.006   
    DBD::SQLite           0        1.76    
    DBI                   0        1.647   
    ExtUtils::MakeMaker   0        7.70    
    File::chdir           0        0.1011  
    File::Path            0        2.18    
    File::Spec            0        3.91    
    File::Temp            0.2307   0.2311  
    IO::Handle            0        1.55    
    IPC::Open3            0        1.22    
    Test::More            0.98     1.302214

configure_requires:

    Module                Need     Have    
    --------------------- -------- --------
    ExtUtils::MakeMaker   0        7.70    

opt_requires:

    Module                Need     Have    
    --------------------- -------- --------
  ! Test::WithDB          0.100    n/a     


------------------------------
ENVIRONMENT AND OTHER CONTEXT
------------------------------

Environment variables:

    COMSPEC = C:\WINDOWS\system32\cmd.exe
    LDFLAGS = -Wl,-rpath,/usr/local/lib -L/usr/local/lib
    NUMBER_OF_PROCESSORS = 8
    PATH = /usr/bin:/usr/lib/lapack:/usr/bin:/bin:/usr/local/bin
    PERL5LIB = /usr/local/lib/perl5/site_perl/5.40:/usr/local/lib/perl5/site_perl/5.40/x86_64-cygwin-threads-multi:/usr/local/lib/perl5/site_perl:/usr/local/lib/perl5/vendor_perl/5.40:/usr/local/lib/perl5/vendor_perl/5.40/x86_64-cygwin-threads-multi:/usr/local/lib/perl5/vendor_perl:/usr/local/lib/perl5/5.40:/usr/local/lib/perl5/5.40/x86_64-cygwin-threads-multi:/usr/local/lib/perl5:/usr/local/share/perl5/site_perl/5.40:/usr/local/share/perl5/site_perl/5.40/x86_64-cygwin-threads-multi:/usr/local/share/perl5/site_perl:/usr/local/share/perl5/vendor_perl/5.40:/usr/local/share/perl5/vendor_perl/5.40/x86_64-cygwin-threads-multi:/usr/local/share/perl5/vendor_perl:/usr/local/share/perl5/5.40:/usr/local/share/perl5/5.40/x86_64-cygwin-threads-multi:/usr/local/share/perl5
    PERL5OPT = 
    PERL5_CPANPLUS_IS_RUNNING = 1460886
    PERL5_CPAN_IS_RUNNING = 1460886
    PERL_CANARY_STABILITY_NOPROMPT = 1
    PERL_CPAN_REPORTER_CONFIG = /cygdrive/d/home/peter/.cpanreporter/config-cygwin-rigel.ini
    PERL_USE_UNSAFE_INC = 
    PROCESSOR_IDENTIFIER = Intel64 Family 6 Model 42 Stepping 7, GenuineIntel
    SHELL = /bin/bash
    TEMP = /tmp
    TERM = xterm

Perl special variables (and OS-specific diagnostics, for MSWin32):

    $^X = /usr/bin/perl
    $UID/$EUID = 197609 / 197609
    $GID = 197609 401408 545 4 66049 11 15 68380 113 4095 66048 262180
    $EGID = 197609 401408 545 4 66049 11 15 68380 113 4095 66048 262180

Perl module toolchain versions installed:

    Module              Have    
    ------------------- --------
    CPAN                2.38    
    CPAN::Meta          2.150010
    Cwd                 3.91    
    ExtUtils::CBuilder  0.280240
    ExtUtils::Command   7.70    
    ExtUtils::Install   2.22    
    ExtUtils::MakeMaker 7.70    
    ExtUtils::Manifest  1.75    
    ExtUtils::ParseXS   3.51    
    File::Spec          3.91    
    JSON                4.10    
    JSON::PP            4.16    
    Module::Build       0.4234  
    Module::Signature   n/a     
    Parse::CPAN::Meta   2.150010
    Test2               1.302214
    Test::Harness       3.48    
    Test::More          1.302214
    YAML                1.31    
    YAML::Syck          1.34    
    version             0.9930  


--

Summary of my perl5 (revision 5 version 40 subversion 3) configuration:
   
  Platform:
    osname=cygwin
    osvers=3.6.4-1.x86_64
    archname=x86_64-cygwin-threads-multi
    uname='cygwin_nt-10.0-26100 walter 3.6.4-1.x86_64 2025-07-15 07:55 utc x86_64 cygwin '
    config_args='-des -Dprefix=/usr -Dmksymlinks -Darchname=x86_64-cygwin-threads -Dlibperl=cygperl5_40.dll -Dcc=gcc -Dld=g++ -Accflags=-ggdb -O2 -pipe -Wall -Werror=format-security -D_FORTIFY_SOURCE=3 -fstack-protector-strong --param=ssp-buffer-size=4 -ffile-prefix-map=/mnt/share/cygpkgs/perl/perl.x86_64/build=/usr/src/debug/perl-5.40.3-1 -ffile-prefix-map=/mnt/share/cygpkgs/perl/perl.x86_64/src/perl-5.40.3=/usr/src/debug/perl-5.40.3-1 -fwrapv'
    hint=recommended
    useposix=true
    d_sigaction=define
    useithreads=define
    usemultiplicity=define
    use64bitint=define
    use64bitall=define
    uselongdouble=undef
    usemymalloc=n
    default_inc_excludes_dot=define
  Compiler:
    cc='gcc'
    ccflags ='-U__STRICT_ANSI__ -D_GNU_SOURCE -ggdb -O2 -pipe -Wall -Werror=format-security -D_FORTIFY_SOURCE=3 -fstack-protector-strong --param=ssp-buffer-size=4 -ffile-prefix-map=/mnt/share/cygpkgs/perl/perl.x86_64/build=/usr/src/debug/perl-5.40.3-1 -ffile-prefix-map=/mnt/share/cygpkgs/perl/perl.x86_64/src/perl-5.40.3=/usr/src/debug/perl-5.40.3-1 -fwrapv -fno-strict-aliasing'
    optimize='-O3'
    cppflags='-U__STRICT_ANSI__ -D_GNU_SOURCE -ggdb -O2 -pipe -Wall -Werror=format-security -D_FORTIFY_SOURCE=3 -fstack-protector-strong --param=ssp-buffer-size=4 -ffile-prefix-map=/mnt/share/cygpkgs/perl/perl.x86_64/build=/usr/src/debug/perl-5.40.3-1 -ffile-prefix-map=/mnt/share/cygpkgs/perl/perl.x86_64/src/perl-5.40.3=/usr/src/debug/perl-5.40.3-1 -fwrapv -fno-strict-aliasing'
    ccversion=''
    gccversion='13.4.0'
    gccosandvers=''
    intsize=4
    longsize=8
    ptrsize=8
    doublesize=8
    byteorder=12345678
    doublekind=3
    d_longlong=define
    longlongsize=8
    d_longdbl=define
    longdblsize=16
    longdblkind=3
    ivtype='long'
    ivsize=8
    nvtype='double'
    nvsize=8
    Off_t='off_t'
    lseeksize=8
    alignbytes=8
    prototype=define
  Linker and Libraries:
    ld='g++'
    ldflags =' -Wl,--enable-auto-import -Wl,--export-all-symbols -Wl,--enable-auto-image-base -fstack-protector-strong'
    libpth=/usr/lib
    libs=-lpthread -lgdbm -ldb -ldl -lcrypt -lgdbm_compat
    perllibs=-lpthread -ldl -lcrypt
    libc=/usr/lib/libcygwin.a
    so=dll
    useshrplib=true
    libperl=cygperl5_40.dll
    gnulibc_version=''
  Dynamic Linking:
    dlsrc=dl_dlopen.xs
    dlext=dll
    d_dlsymun=undef
    ccdlflags=' '
    cccdlflags=' '
    lddlflags=' --shared  -Wl,--enable-auto-import -Wl,--export-all-symbols -Wl,--enable-auto-image-base -fstack-protector-strong'


Characteristics of this binary (from libperl): 
  Compile-time options:
    HAS_LONG_DOUBLE
    HAS_STRTOLD
    HAS_TIMES
    MULTIPLICITY
    PERLIO_LAYERS
    PERL_COPY_ON_WRITE
    PERL_DONT_CREATE_GVSV
    PERL_HASH_FUNC_SIPHASH13
    PERL_HASH_USE_SBOX32
    PERL_OP_PARENT
    PERL_PRESERVE_IVUV
    PERL_USE_SAFE_PUTENV
    USE_64_BIT_ALL
    USE_64_BIT_INT
    USE_ITHREADS
    USE_LARGE_FILES
    USE_LOCALE
    USE_LOCALE_COLLATE
    USE_LOCALE_CTYPE
    USE_LOCALE_NUMERIC
    USE_LOCALE_TIME
    USE_PERLIO
    USE_PERL_ATOF
    USE_REENTRANT_API
    USE_THREAD_SAFE_LOCALE
  Locally applied patches:
    Cygwin: README
    Cygwin: modify hints
    Cygwin: Win32 correct UTF8 handling for tests
  Built under cygwin
  Compiled at Aug  3 2025 15:18:07
  %ENV:
    PERL5LIB="/usr/local/lib/perl5/site_perl/5.40:/usr/local/lib/perl5/site_perl/5.40/x86_64-cygwin-threads-multi:/usr/local/lib/perl5/site_perl:/usr/local/lib/perl5/vendor_perl/5.40:/usr/local/lib/perl5/vendor_perl/5.40/x86_64-cygwin-threads-multi:/usr/local/lib/perl5/vendor_perl:/usr/local/lib/perl5/5.40:/usr/local/lib/perl5/5.40/x86_64-cygwin-threads-multi:/usr/local/lib/perl5:/usr/local/share/perl5/site_perl/5.40:/usr/local/share/perl5/site_perl/5.40/x86_64-cygwin-threads-multi:/usr/local/share/perl5/site_perl:/usr/local/share/perl5/vendor_perl/5.40:/usr/local/share/perl5/vendor_perl/5.40/x86_64-cygwin-threads-multi:/usr/local/share/perl5/vendor_perl:/usr/local/share/perl5/5.40:/usr/local/share/perl5/5.40/x86_64-cygwin-threads-multi:/usr/local/share/perl5"
    PERL5OPT=""
    PERL5_CPANPLUS_IS_RUNNING="1460886"
    PERL5_CPAN_IS_RUNNING="1460886"
    PERL_CANARY_STABILITY_NOPROMPT="1"
    PERL_CPAN_REPORTER_CONFIG="/cygdrive/d/home/peter/.cpanreporter/config-cygwin-rigel.ini"
    PERL_USE_UNSAFE_INC=""
  @INC:
    /usr/local/lib/perl5/site_perl/5.40
    /usr/local/lib/perl5/site_perl/5.40/x86_64-cygwin-threads-multi
    /usr/local/lib/perl5/site_perl
    /usr/local/lib/perl5/vendor_perl/5.40
    /usr/local/lib/perl5/vendor_perl/5.40/x86_64-cygwin-threads-multi
    /usr/local/lib/perl5/vendor_perl
    /usr/local/lib/perl5/5.40
    /usr/local/lib/perl5/5.40/x86_64-cygwin-threads-multi
    /usr/local/lib/perl5/x86_64-cygwin-threads-multi
    /usr/local/lib/perl5
    /usr/local/share/perl5/site_perl/5.40
    /usr/local/share/perl5/site_perl/5.40/x86_64-cygwin-threads-multi
    /usr/local/share/perl5/site_perl
    /usr/local/share/perl5/vendor_perl/5.40
    /usr/local/share/perl5/vendor_perl/5.40/x86_64-cygwin-threads-multi
    /usr/local/share/perl5/vendor_perl
    /usr/local/share/perl5/5.40
    /usr/local/share/perl5/5.40/x86_64-cygwin-threads-multi
    /usr/local/share/perl5
    /usr/local/lib/perl5/site_perl/5.40/x86_64-cygwin-threads
    /usr/local/share/perl5/site_perl/5.40
    /usr/lib/perl5/vendor_perl/5.40/x86_64-cygwin-threads
    /usr/share/perl5/vendor_perl/5.40
    /usr/lib/perl5/5.40/x86_64-cygwin-threads
    /usr/share/perl5/5.40