Back
From: metabase:user:e19ceca0-3168-11e0-8227-519973746d79
Subject: PASS Tree-Simple-View-0.17 v5.12.3 FreeBSD
Date: 2011-06-12T19:45:20Z
This distribution has been tested as part of the CPAN Testers
project, supporting the Perl programming language. See
http://wiki.cpantesters.org/ for more information or email
questions to cpan-testers-discuss@perl.org
--
Dear Stevan Little,
This is a computer-generated report for Tree-Simple-View-0.17
on perl 5.12.3, created by CPAN-Reporter-1.1902.
Thank you for uploading your work to CPAN. Congratulations!
All tests were successful.
Sections of this report:
* Tester comments
* Program output
* Prerequisites
* Environment and other context
------------------------------
TESTER COMMENTS
------------------------------
Additional comments from tester:
this report is from an automated smoke testing program
and was not reviewed by a human for accuracy
------------------------------
PROGRAM OUTPUT
------------------------------
Output from './Build test':
t/10_Tree_Simple_View_test.t ............... ok
t/20_Tree_Simple_View_HTML_test.t .......... ok
t/22_Tree_Simple_View_HTML_tag_style.t ..... ok
t/30_Tree_Simple_View_DHTML_test.t ......... ok
t/40_Tree_Simple_View_ASCII_test.t ......... ok
t/41_Tree_Simple_View_ASCII_w_formatter.t .. ok
t/pod.t .................................... skipped: Test::Pod 1.14 required for testing POD
t/pod_coverage.t ........................... skipped: Test::Pod::Coverage 1.04 required for testing POD coverage
All tests successful.
Files=8, Tests=196, 1 wallclock secs ( 0.10 usr 0.03 sys + 0.38 cusr 0.16 csys = 0.67 CPU)
Result: PASS
------------------------------
PREREQUISITES
------------------------------
Prerequisite modules loaded:
requires:
Module Need Have
---------------- ---- ----
Class::Throwable 0.1 0.11
Scalar::Util 1.18 1.22
Tree::Simple 1.07 1.18
build_requires:
Module Need Have
---------------- ---- ----
Test::Exception 0.15 0.31
Test::LongString 0 0.15
Test::More 0.47 0.94
------------------------------
ENVIRONMENT AND OTHER CONTEXT
------------------------------
Environment variables:
AUTOMATED_TESTING = 1
PATH = /sbin:/bin:/usr/sbin:/usr/bin:/usr/games:/usr/local/sbin:/usr/local/bin:/home/swills/bin
PERL5LIB = /home/swills/.cpan/build/Tree-Simple-1.18-V0UBTG/blib/arch:/home/swills/.cpan/build/Tree-Simple-1.18-V0UBTG/blib/lib:/home/swills/.cpan/build/Class-Throwable-0.11-r_VdPo/blib/arch:/home/swills/.cpan/build/Class-Throwable-0.11-r_VdPo/blib/lib:/home/swills/.cpan/build/Test-LongString-0.15-VQP92w/blib/arch:/home/swills/.cpan/build/Test-LongString-0.15-VQP92w/blib/lib:/home/swills/.cpan/build/MP4-Info-1.13-xZM0zR/blib/arch:/home/swills/.cpan/build/MP4-Info-1.13-xZM0zR/blib/lib
PERL5OPT =
PERL5_CPANPLUS_IS_RUNNING = 16862
PERL5_CPAN_IS_RUNNING = 16862
PERL5_CPAN_IS_RUNNING_IN_RECURSION = 32726,16862
PERL_CR_SMOKER_CURRENT = Music-Tag-M4A-0.4101
PERL_EXTUTILS_AUTOINSTALL = --defaultdeps
PERL_MM_USE_DEFAULT = 1
SHELL = /usr/local/bin/zsh
TERM = screen
Perl special variables (and OS-specific diagnostics, for MSWin32):
$^X = /usr/bin/perl
$UID/$EUID = 1001 / 1001
$GID = 1001 1001 0
$EGID = 1001 1001 0
Perl module toolchain versions installed:
Module Have
------------------- -------
CPAN 1.94_56
Cwd 3.33
ExtUtils::CBuilder 0.27
ExtUtils::Command 1.16
ExtUtils::Install 1.55
ExtUtils::MakeMaker 0
ExtUtils::Manifest 1.57
ExtUtils::ParseXS 2.21
File::Spec 3.33
Module::Build 0.3603
Module::Signature n/a
Test::Harness 3.17
Test::More 0.94
YAML n/a
YAML::Syck n/a
version 0.82
--
Summary of my perl5 (revision 5 version 12 subversion 3) configuration:
Platform:
osname=freebsd, osvers=8.2-stable, archname=i386-freebsd-64int
uname='freebsd tinderbox.host 8.2-stable freebsd 8.2-stable #0: sun may 22 12:37:45 edt 2011 root@tinderbox.host:usrsrcsysmagickernelpath i386 '
config_args='-sde -Dprefix=/usr/local -Darchlib=/usr/local/lib/perl5/5.12.3/mach -Dprivlib=/usr/local/lib/perl5/5.12.3 -Dman3dir=/usr/local/lib/perl5/5.12.3/perl/man/man3 -Dman1dir=/usr/local/man/man1 -Dsitearch=/usr/local/lib/perl5/site_perl/5.12.3/mach -Dsitelib=/usr/local/lib/perl5/site_perl/5.12.3 -Dscriptdir=/usr/local/bin -Dsiteman3dir=/usr/local/lib/perl5/5.12.3/man/man3 -Dsiteman1dir=/usr/local/man/man1 -Ui_malloc -Ui_iconv -Uinstallusrbinperl -Dcc=cc -Duseshrplib -Dinc_version_list=none -Dccflags=-DAPPLLIB_EXP="/usr/local/lib/perl5/5.12.3/BSDPAN" -Doptimize=-O2 -pipe -fno-strict-aliasing -Ui_gdbm -Dusethreads=n -Dusemymalloc=n -Duse64bitint'
hint=recommended, useposix=true, d_sigaction=define
useithreads=undef, usemultiplicity=undef
useperlio=define, d_sfio=undef, uselargefiles=define, usesocks=undef
use64bitint=define, use64bitall=undef, uselongdouble=undef
usemymalloc=n, bincompat5005=undef
Compiler:
cc='cc', ccflags ='-DAPPLLIB_EXP="/usr/local/lib/perl5/5.12.3/BSDPAN" -DHAS_FPSETMASK -DHAS_FLOATINGPOINT_H -fno-strict-aliasing -pipe -fstack-protector -I/usr/local/include',
optimize='-O2 -pipe -fno-strict-aliasing',
cppflags='-DAPPLLIB_EXP="/usr/local/lib/perl5/5.12.3/BSDPAN" -DHAS_FPSETMASK -DHAS_FLOATINGPOINT_H -fno-strict-aliasing -pipe -fstack-protector -I/usr/local/include'
ccversion='', gccversion='4.2.2 20070831 prerelease [FreeBSD]', gccosandvers=''
intsize=4, longsize=4, ptrsize=4, doublesize=8, byteorder=12345678
d_longlong=define, longlongsize=8, d_longdbl=define, longdblsize=12
ivtype='long long', ivsize=8, nvtype='double', nvsize=8, Off_t='off_t', lseeksize=8
alignbytes=4, prototype=define
Linker and Libraries:
ld='cc', ldflags =' -Wl,-E -fstack-protector -L/usr/local/lib'
libpth=/usr/lib /usr/local/lib
libs=-lm -lcrypt -lutil
perllibs=-lm -lcrypt -lutil
libc=, so=so, useshrplib=true, libperl=libperl.so
gnulibc_version=''
Dynamic Linking:
dlsrc=dl_dlopen.xs, dlext=so, d_dlsymun=undef, ccdlflags=' -Wl,-R/usr/local/lib/perl5/5.12.3/mach/CORE'
cccdlflags='-DPIC -fPIC', lddlflags='-shared -L/usr/local/lib -fstack-protector'
Characteristics of this binary (from libperl):
Compile-time options: PERL_DONT_CREATE_GVSV PERL_MALLOC_WRAP USE_64_BIT_INT
USE_LARGE_FILES USE_PERLIO USE_PERL_ATOF
Built under freebsd
Compiled at May 22 2011 16:40:26
%ENV:
PERL5LIB="/home/swills/.cpan/build/Tree-Simple-1.18-V0UBTG/blib/arch:/home/swills/.cpan/build/Tree-Simple-1.18-V0UBTG/blib/lib:/home/swills/.cpan/build/Class-Throwable-0.11-r_VdPo/blib/arch:/home/swills/.cpan/build/Class-Throwable-0.11-r_VdPo/blib/lib:/home/swills/.cpan/build/Test-LongString-0.15-VQP92w/blib/arch:/home/swills/.cpan/build/Test-LongString-0.15-VQP92w/blib/lib:/home/swills/.cpan/build/MP4-Info-1.13-xZM0zR/blib/arch:/home/swills/.cpan/build/MP4-Info-1.13-xZM0zR/blib/lib"
PERL5OPT=""
PERL5_CPANPLUS_IS_RUNNING="16862"
PERL5_CPAN_IS_RUNNING="16862"
PERL5_CPAN_IS_RUNNING_IN_RECURSION="32726,16862"
PERL_CR_SMOKER_CURRENT="Music-Tag-M4A-0.4101"
PERL_EXTUTILS_AUTOINSTALL="--defaultdeps"
PERL_MM_USE_DEFAULT="1"
@INC:
/home/swills/.cpan/build/Tree-Simple-1.18-V0UBTG/blib/arch
/home/swills/.cpan/build/Tree-Simple-1.18-V0UBTG/blib/lib
/home/swills/.cpan/build/Class-Throwable-0.11-r_VdPo/blib/arch
/home/swills/.cpan/build/Class-Throwable-0.11-r_VdPo/blib/lib
/home/swills/.cpan/build/Test-LongString-0.15-VQP92w/blib/arch
/home/swills/.cpan/build/Test-LongString-0.15-VQP92w/blib/lib
/home/swills/.cpan/build/MP4-Info-1.13-xZM0zR/blib/arch
/home/swills/.cpan/build/MP4-Info-1.13-xZM0zR/blib/lib
/usr/local/lib/perl5/5.12.3/BSDPAN
/usr/local/lib/perl5/site_perl/5.12.3/mach
/usr/local/lib/perl5/site_perl/5.12.3
/usr/local/lib/perl5/5.12.3/mach
/usr/local/lib/perl5/5.12.3
.