XML-XPath v1.44 Perl 5 v5.30.0 darwin-2level

Status
Pass
From
John SJ Anderson
Dist
XML-XPath v1.44
Platform
Perl 5 v5.30.0 darwin-2level
Date
2019-05-23 15:36:17
ID
81c7551a-7d70-11e9-a8d3-1ce38b1d4cc0
This distribution has been tested as part of the CPAN Testers
project, supporting the Perl programming language.  See
http://wiki.cpantesters.org/ for more information or email
questions to cpan-testers-discuss@perl.org


--
Dear MANWAR,

This is a computer-generated report for XML-XPath-1.44
on perl 5.30.0, created by App::cpanminus::reporter 0.17 (1.7044).

Thank you for uploading your work to CPAN.  Congratulations!
All tests were successful.

Sections of this report:

    * Tester comments
    * Program output
    * Prerequisites
    * Environment and other context

------------------------------
TESTER COMMENTS
------------------------------

Additional comments from tester:

none provided

------------------------------
PROGRAM OUTPUT
------------------------------

Output from '':

Building and testing XML-XPath-1.44
cp lib/XML/XPath/Parser.pm blib/lib/XML/XPath/Parser.pm
cp lib/XML/XPath/Node.pm blib/lib/XML/XPath/Node.pm
cp lib/XML/XPath/NodeSet.pm blib/lib/XML/XPath/NodeSet.pm
cp lib/XML/XPath/Node/Attribute.pm blib/lib/XML/XPath/Node/Attribute.pm
cp lib/XML/XPath/Root.pm blib/lib/XML/XPath/Root.pm
cp lib/XML/XPath/Literal.pm blib/lib/XML/XPath/Literal.pm
cp lib/XML/XPath/Expr.pm blib/lib/XML/XPath/Expr.pm
cp lib/XML/XPath/Node/Element.pm blib/lib/XML/XPath/Node/Element.pm
cp lib/XML/XPath/Step.pm blib/lib/XML/XPath/Step.pm
cp lib/XML/XPath/Number.pm blib/lib/XML/XPath/Number.pm
cp lib/XML/XPath/LocationPath.pm blib/lib/XML/XPath/LocationPath.pm
cp lib/XML/XPath/Node/Text.pm blib/lib/XML/XPath/Node/Text.pm
cp lib/XML/XPath/Variable.pm blib/lib/XML/XPath/Variable.pm
cp lib/XML/XPath/Node/Comment.pm blib/lib/XML/XPath/Node/Comment.pm
cp lib/XML/XPath/XMLParser.pm blib/lib/XML/XPath/XMLParser.pm
cp lib/XML/XPath/Builder.pm blib/lib/XML/XPath/Builder.pm
cp lib/XML/XPath/Function.pm blib/lib/XML/XPath/Function.pm
cp lib/XML/XPath/Boolean.pm blib/lib/XML/XPath/Boolean.pm
cp lib/XML/XPath/Node/PI.pm blib/lib/XML/XPath/Node/PI.pm
cp lib/XML/XPath.pm blib/lib/XML/XPath.pm
cp lib/XML/XPath/Node/Namespace.pm blib/lib/XML/XPath/Node/Namespace.pm
cp lib/XML/XPath/PerlSAX.pm blib/lib/XML/XPath/PerlSAX.pm
cp examples/xpath blib/script/xpath
"/opt/plenv/versions/5.30.0/bin/perl5.30.0" -MExtUtils::MY -e 'MY->fixin(shift)' -- blib/script/xpath
Manifying 1 pod document
Manifying 15 pod documents
PERL_DL_NONLAZY=1 "/opt/plenv/versions/5.30.0/bin/perl5.30.0" "-MExtUtils::Command::MM" "-MTest::Harness" "-e" "undef *Test::Harness::Switches; test_harness(0, 'blib/lib', 'blib/arch')" t/*.t
# Testing XML::XPath 1.44, Perl 5.030000, /opt/plenv/versions/5.30.0/bin/perl5.30.0
t/00load.t .................... ok
t/01basic.t ................... ok
t/02descendant.t .............. ok
t/03star.t .................... ok
t/04pos.t ..................... ok
t/05attrib.t .................. ok
t/06attrib_val.t .............. ok
t/07count.t ................... ok
t/08name.t .................... ok
t/09a_string_length.t ......... ok
t/09string_length.t ........... ok
t/10pipe.t .................... ok
t/11axischild.t ............... ok
t/12axisdescendant.t .......... ok
t/13axisparent.t .............. ok
t/14axisancestor.t ............ ok
t/15axisfol_sib.t ............. ok
t/16axisprec_sib.t ............ ok
t/17axisfollowing.t ........... ok
t/18axispreceding.t ........... ok
t/19axisd_or_s.t .............. ok
t/20axisa_or_s.t .............. ok
t/21allnodes.t ................ ok
t/22name_select.t ............. ok
t/23func.t .................... ok
t/24namespaces.t .............. ok
t/25scope.t ................... ok
t/26predicate.t ............... ok
t/27asxml.t ................... ok
t/28ancestor2.t ............... ok
t/29desc_with_predicate.t ..... ok
t/30lang.t .................... ok
t/31dots.t .................... ok
t/32duplicate_nodes.t ......... ok
t/33getnodetext.t ............. ok
t/34non_abbreviated_attrib.t .. ok
t/35namespace_uri.t ........... ok
t/36substring.t ............... ok
t/37concat.t .................. ok
t/38starts_with.t ............. ok
t/39contains.t ................ ok
t/40substring_before.t ........ ok
t/41substring_after.t ......... ok
t/42create_node.t ............. ok
t/43op_div.t .................. ok
t/44test_compare.t ............ ok
t/45cmp_nodeset.t ............. ok
t/46context.t ................. ok
t/47position.t ................ ok
t/48translate.t ............... ok
t/49literal.t ................. ok
t/50xmlxpathparsercache.t ..... ok
t/51elementname.t ............. ok
t/insert.t .................... ok
t/meta-json.t ................. skipped: Test::CPAN::Meta::JSON required for testing MYMETA.json
t/meta-yml.t .................. skipped: Test::CPAN::Meta required for testing MYMETA.yml
t/rdf.t ....................... ok
t/remove.t .................... ok
t/stress.t .................... ok
All tests successful.
Files=59, Tests=317,  4 wallclock secs ( 0.15 usr  0.09 sys +  3.74 cusr  0.58 csys =  4.56 CPU)
Result: PASS

------------------------------
PREREQUISITES
------------------------------

Prerequisite modules loaded:

    No requirements found

------------------------------
ENVIRONMENT AND OTHER CONTEXT
------------------------------

Environment variables:

    LANG = en_US.UTF-8
    LC_ALL = en_US.UTF-8
    PATH = /opt/plenv/versions/5.30.0/bin:/opt/plenv/libexec:/opt/plenv/plugins/perl-build/bin:/opt/plenv/shims:/opt/nvm/versions/node/v8.14.0/bin:/usr/local/bin:/usr/bin:/bin:/usr/sbin:/sbin:/usr/local/share/dotnet:~/.dotnet/tools:/Library/Frameworks/Mono.framework/Versions/Current/Commands:/Applications/Xamarin Workbooks.app/Contents/SharedSupport/path-bin:/opt/plenv/shims:/opt/plenv/bin:/opt/nvm/versions/node/v8.14.0/bin:/Users/genehack/bin:/opt/vim/bin:/opt/tmux/bin:/opt/git/bin:/opt/emacs/bin:/opt/local/bin:/usr/local/opt/fzf/bin/
    PERL_CPANM_OPT = --skip-installed --prompt
    SHELL = /bin/zsh
    TERM = screen-256color
    TMPDIR = /var/folders/ls/0z9hs2311kn45yqnfxk2m8vr0000gn/T/

Perl special variables (and OS-specific diagnostics, for MSWin32):

    EGID = 20 20 701 12 61 79 80 81 98 33 100 204 250 395 398 399
    EUID = 501
    EXECUTABLE_NAME = /opt/plenv/versions/5.30.0/bin/perl5.30.0
    GID = 20 20 701 12 61 79 80 81 98 33 100 204 250 395 398 399
    UID = 501

Perl module toolchain versions installed:

    Module              Have    
    ------------------- --------
    CPAN                2.22    
    CPAN::Meta          2.150010
    Cwd                 3.78    
    ExtUtils::CBuilder  0.280231
    ExtUtils::Command   7.34    
    ExtUtils::Install   2.14    
    ExtUtils::MakeMaker 7.34    
    ExtUtils::Manifest  1.72    
    ExtUtils::ParseXS   3.40    
    File::Spec          3.78    
    JSON                4.02    
    JSON::PP            4.02    
    Module::Build       0.4229  
    Module::Signature   n/a     
    Parse::CPAN::Meta   2.150010
    Test::Harness       3.42    
    Test::More          1.302162
    YAML                1.29    
    YAML::Syck          n/a     
    version             0.9924  


--

Summary of my perl5 (revision 5 version 30 subversion 0) configuration:
   
  Platform:
    osname=darwin
    osvers=18.5.0
    archname=darwin-2level
    uname='darwin phineas.localdomain 18.5.0 darwin kernel version 18.5.0: mon mar 11 20:40:32 pdt 2019; root:xnu-4903.251.3~3release_x86_64 x86_64 '
    config_args='-Dprefix=/opt/plenv/versions/5.30.0 -de -Dversiononly -Dusedevel -A'eval:scriptdir=/opt/plenv/versions/5.30.0/bin''
    hint=recommended
    useposix=true
    d_sigaction=define
    useithreads=undef
    usemultiplicity=undef
    use64bitint=define
    use64bitall=define
    uselongdouble=undef
    usemymalloc=n
    default_inc_excludes_dot=define
    bincompat5005=undef
  Compiler:
    cc='cc'
    ccflags ='-fno-common -DPERL_DARWIN -mmacosx-version-min=10.14 -fno-strict-aliasing -pipe -fstack-protector-strong -I/usr/local/include -DPERL_USE_SAFE_PUTENV'
    optimize='-O3'
    cppflags='-fno-common -DPERL_DARWIN -mmacosx-version-min=10.14 -fno-strict-aliasing -pipe -fstack-protector-strong -I/usr/local/include'
    ccversion=''
    gccversion='4.2.1 Compatible Apple LLVM 10.0.1 (clang-1001.0.46.4)'
    gccosandvers=''
    intsize=4
    longsize=8
    ptrsize=8
    doublesize=8
    byteorder=12345678
    doublekind=3
    d_longlong=define
    longlongsize=8
    d_longdbl=define
    longdblsize=16
    longdblkind=3
    ivtype='long'
    ivsize=8
    nvtype='double'
    nvsize=8
    Off_t='off_t'
    lseeksize=8
    alignbytes=8
    prototype=define
  Linker and Libraries:
    ld='cc'
    ldflags =' -mmacosx-version-min=10.14 -fstack-protector-strong -L/usr/local/lib'
    libpth=/usr/local/lib /Applications/Xcode.app/Contents/Developer/Toolchains/XcodeDefault.xctoolchain/usr/lib/clang/10.0.1/lib /Applications/Xcode.app/Contents/Developer/Toolchains/XcodeDefault.xctoolchain/usr/lib /Applications/Xcode.app/Contents/Developer/Platforms/MacOSX.platform/Developer/SDKs/MacOSX10.14.sdk/usr/lib /usr/lib
    libs=-lpthread -lgdbm -ldbm -ldb -ldl -lm -lutil -lc
    perllibs=-lpthread -ldl -lm -lutil -lc
    libc=
    so=dylib
    useshrplib=false
    libperl=libperl.a
    gnulibc_version=''
  Dynamic Linking:
    dlsrc=dl_dlopen.xs
    dlext=bundle
    d_dlsymun=undef
    ccdlflags=' '
    cccdlflags=' '
    lddlflags=' -mmacosx-version-min=10.14 -bundle -undefined dynamic_lookup -L/usr/local/lib -fstack-protector-strong'


Characteristics of this binary (from libperl): 
  Compile-time options:
    HAS_TIMES
    PERLIO_LAYERS
    PERL_COPY_ON_WRITE
    PERL_DONT_CREATE_GVSV
    PERL_MALLOC_WRAP
    PERL_OP_PARENT
    PERL_PRESERVE_IVUV
    PERL_USE_DEVEL
    PERL_USE_SAFE_PUTENV
    USE_64_BIT_ALL
    USE_64_BIT_INT
    USE_LARGE_FILES
    USE_LOCALE
    USE_LOCALE_COLLATE
    USE_LOCALE_CTYPE
    USE_LOCALE_NUMERIC
    USE_LOCALE_TIME
    USE_PERLIO
    USE_PERL_ATOF
  Locally applied patches:
    Devel::PatchPerl 1.52
  Built under darwin
  Compiled at May 22 2019 07:32:37
  %ENV:
    PERL_CPANM_OPT="--skip-installed --prompt"
  @INC:
    /opt/plenv/versions/5.30.0/lib/perl5/site_perl/5.30.0/darwin-2level
    /opt/plenv/versions/5.30.0/lib/perl5/site_perl/5.30.0
    /opt/plenv/versions/5.30.0/lib/perl5/5.30.0/darwin-2level
    /opt/plenv/versions/5.30.0/lib/perl5/5.30.0