Perl-Critic v1.156 Perl 5 v5.41.9 x86_64-linux
- Status
- Pass
- From
- John SJ Anderson
- Dist
-
Perl-Critic v1.156
- Platform
- Perl 5 v5.41.9 x86_64-linux
- Date
- 2025-02-24 21:08:34
- ID
- 81ca91fe-f2f3-11ef-8333-f53d24e043e6
This distribution has been tested as part of the CPAN Testers
project, supporting the Perl programming language. See
http://wiki.cpantesters.org/ for more information or email
questions to cpan-testers-discuss@perl.org
--
Dear PETDANCE,
This is a computer-generated report for Perl-Critic-1.156
on perl 5.41.9, created by App::cpanminus::reporter 0.22 (1.7048).
Thank you for uploading your work to CPAN. Congratulations!
All tests were successful.
Sections of this report:
* Tester comments
* Program output
* Prerequisites
* Environment and other context
------------------------------
TESTER COMMENTS
------------------------------
Additional comments from tester:
none provided
------------------------------
PROGRAM OUTPUT
------------------------------
Output from '':
Building and testing Perl-Critic-1.156
Building Perl-Critic
Generating t/ControlStructures/ProhibitNegativeExpressionsInUnlessAndUntilConditions.run.
Done.
Generating t/NamingConventions/Capitalization.run.
Done.
Generating t/Variables/RequireLocalizedPunctuationVars.run.
Done.
# Testing Perl::Critic 1.156 with PPI 1.281 under Perl 5.041009, /opt/plenv/versions/5.41.9/bin/perl5.41.9
t/00_modules.t ................................ ok
t/00_versions.t ............................... ok
t/01_config.t ................................. ok
t/01_config_bad_perlcriticrc.t ................ ok
t/01_policy_config.t .......................... ok
t/02_policy.t ................................. ok
t/03_annotations.t ............................ ok
t/03_pragmas.t ................................ ok
t/04_options_processor.t ...................... ok
t/05_utils.t .................................. ok
t/05_utils_perl.t ............................. ok
t/05_utils_pod.t .............................. ok
t/05_utils_ppi.t .............................. ok
t/06_violation.t .............................. ok
t/07_command.t ................................ ok
t/07_perlcritic.t ............................. ok
t/08_document.t ............................... ok
t/09_theme.t .................................. ok
t/10_user_profile.t ........................... ok
t/11_policy_factory.t ......................... ok
t/12_policy_listing.t ......................... ok
t/12_theme_listing.t .......................... ok
t/13_bundled_policies.t ....................... ok
t/14_policy_parameter_behavior_boolean.t ...... ok
t/14_policy_parameter_behavior_enumeration.t .. ok
t/14_policy_parameter_behavior_integer.t ...... ok
t/14_policy_parameter_behavior_list_string.t .. ok
t/14_policy_parameter_behavior_string.t ....... ok
t/14_policy_parameters.t ...................... ok
t/15_statistics.t ............................. ok
t/16_roundtrip_defaults.t ..................... ok
t/20_policies.t ............................... skipped: Test::Perl::Critic required to test Perl::Critic itself
t/20_policy_pod_spelling.t .................... ok
t/20_policy_prohibit_evil_modules.t ........... ok
t/20_policy_prohibit_hard_tabs.t .............. ok
t/20_policy_prohibit_trailing_whitespace.t .... ok
t/20_policy_require_consistent_newlines.t ..... ok
t/20_policy_require_tidy_code.t ............... ok
Unhandled type: REGEXP at /opt/plenv/versions/5.41.9/lib/perl5/site_perl/5.41.9/Devel/Cycle.pm line 107.
t/92_memory_leaks.t ........................... ok
t/gh-734.t .................................... ok
All tests successful.
Files=40, Tests=5417, 30 wallclock secs ( 0.48 usr 0.08 sys + 27.22 cusr 3.19 csys = 30.97 CPU)
Result: PASS
------------------------------
PREREQUISITES
------------------------------
Prerequisite modules loaded:
runtime:
Module Need Have
------------------------- -------- --------
B::Keywords 1.23 1.27
Carp 0 1.54
charnames 0 1.50
Config::Tiny 2 2.30
English 0 1.11
Exception::Class 1.23 1.45
Exporter 5.63 5.79
File::Basename 0 2.86
File::Find 0 1.44
File::Path 0 2.18
File::Spec 0 3.93
File::Spec::Unix 0 3.93
File::Temp 0 0.2311
File::Which 0 1.27
Getopt::Long 0 2.58
List::SomeUtils 0.55 0.59
List::Util 0 1.68_01
Module::Pluggable 3.1 6.3
overload 0 1.40
parent 0 0.244
perl 5.010001 5.041009
Perl::Tidy 0 20250214
Pod::PlainText 0 2.07
Pod::Select 0 1.67
Pod::Spell 1 1.27
Pod::Usage 0 2.03
PPI 1.277 1.281
PPI::Document 1.277 1.281
PPI::Document::File 1.277 1.281
PPI::Node 1.277 1.281
PPI::Token::Quote::Single 1.277 1.281
PPI::Token::Whitespace 1.277 1.281
PPIx::QuoteLike 0 0.023
PPIx::Regexp 0.027 0.088
PPIx::Regexp::Util 0.068 0.088
PPIx::Utils::Traversal 0.003 0.003
Readonly 2 2.05
Scalar::Util 0 1.68_01
strict 0 1.13
String::Format 1.18 1.18
Term::ANSIColor 2.02 5.01
Test::Builder 0.92 1.302209
Text::ParseWords 3 3.31
version 0.77 0.9933
warnings 0 1.73
configure:
Module Need Have
------------------------- -------- --------
B::Keywords 1.23 1.27
base 0 2.27
Carp 0 1.54
English 0 1.11
Exporter 5.63 5.79
lib 0 0.65
List::SomeUtils 0.55 0.59
Module::Build 0.4204 0.4234
------------------------------
ENVIRONMENT AND OTHER CONTEXT
------------------------------
Environment variables:
LANG = en_US.UTF-8
LC_ALL = en_US.UTF-8
LC_TERMINAL = iTerm2
LC_TERMINAL_VERSION = 3.5.10
PATH = /opt/plenv/versions/5.41.9/bin:/opt/plenv/libexec:/opt/plenv/plugins/perl-build/bin:/home/genehack/bin:/opt/miniconda3/condabin:/opt/plenv/shims:/opt/plenv/bin:/opt/go/bin:/opt/git/bin:/opt/emacs/bin:/opt/local/bin:/usr/local/bin:/usr/bin:/bin:/usr/games:/opt/rust/cargo/bin
PERL_CPANM_OPT = --skip-installed --prompt
SHELL = /bin/zsh
TERM = screen-256color
Perl special variables (and OS-specific diagnostics, for MSWin32):
EGID = 1001 113 122 1001
EUID = 1001
EXECUTABLE_NAME = /opt/plenv/versions/5.41.9/bin/perl5.41.9
GID = 1001 113 122 1001
UID = 1001
Perl module toolchain versions installed:
Module Have
------------------- --------
CPAN 2.38
CPAN::Meta 2.150010
Cwd 3.92
ExtUtils::CBuilder 0.280240
ExtUtils::Command 7.70
ExtUtils::Install 2.22
ExtUtils::MakeMaker 7.70
ExtUtils::Manifest 1.75
ExtUtils::ParseXS 3.57
File::Spec 3.93
JSON 4.10
JSON::PP 4.16
Module::Build 0.4234
Module::Signature n/a
Parse::CPAN::Meta 2.150010
Test::Harness 3.50
Test::More 1.302209
YAML 1.31
YAML::Syck n/a
version 0.9933
--
Summary of my perl5 (revision 5 version 41 subversion 9) configuration:
Platform:
osname=linux
osvers=5.10.0-20-amd64
archname=x86_64-linux
uname='linux doof 5.10.0-20-amd64 #1 smp debian 5.10.158-2 (2022-12-13) x86_64 gnulinux '
config_args='-Dprefix=/opt/plenv/versions/5.41.9 -de -Dversiononly -Dusedevel -A'eval:scriptdir=/opt/plenv/versions/5.41.9/bin''
hint=recommended
useposix=true
d_sigaction=define
useithreads=undef
usemultiplicity=undef
use64bitint=define
use64bitall=define
uselongdouble=undef
usemymalloc=n
default_inc_excludes_dot=define
Compiler:
cc='cc'
ccflags ='-fwrapv -fno-strict-aliasing -pipe -fstack-protector-strong -I/usr/local/include -D_LARGEFILE_SOURCE -D_FILE_OFFSET_BITS=64 -D_FORTIFY_SOURCE=2'
optimize='-O2'
cppflags='-fwrapv -fno-strict-aliasing -pipe -fstack-protector-strong -I/usr/local/include'
ccversion=''
gccversion='12.2.0'
gccosandvers=''
intsize=4
longsize=8
ptrsize=8
doublesize=8
byteorder=12345678
doublekind=3
d_longlong=define
longlongsize=8
d_longdbl=define
longdblsize=16
longdblkind=3
ivtype='long'
ivsize=8
nvtype='double'
nvsize=8
Off_t='off_t'
lseeksize=8
alignbytes=8
prototype=define
Linker and Libraries:
ld='cc'
ldflags =' -fstack-protector-strong -L/usr/local/lib'
libpth=/usr/local/lib /usr/lib/x86_64-linux-gnu /usr/lib /usr/lib64
libs=-lpthread -lgdbm -ldl -lm -lcrypt -lutil -lc
perllibs=-lpthread -ldl -lm -lcrypt -lutil -lc
libc=/lib/x86_64-linux-gnu/libc.so.6
so=so
useshrplib=false
libperl=libperl.a
gnulibc_version='2.36'
Dynamic Linking:
dlsrc=dl_dlopen.xs
dlext=so
d_dlsymun=undef
ccdlflags='-Wl,-E'
cccdlflags='-fPIC'
lddlflags='-shared -O2 -L/usr/local/lib -fstack-protector-strong'
Characteristics of this binary (from libperl):
Compile-time options:
HAS_LONG_DOUBLE
HAS_STRTOLD
HAS_TIMES
PERLIO_LAYERS
PERL_COPY_ON_WRITE
PERL_DONT_CREATE_GVSV
PERL_HASH_FUNC_SIPHASH13
PERL_HASH_USE_SBOX32
PERL_MALLOC_WRAP
PERL_OP_PARENT
PERL_PRESERVE_IVUV
PERL_USE_DEVEL
PERL_USE_SAFE_PUTENV
USE_64_BIT_ALL
USE_64_BIT_INT
USE_LARGE_FILES
USE_LOCALE
USE_LOCALE_COLLATE
USE_LOCALE_CTYPE
USE_LOCALE_NUMERIC
USE_LOCALE_TIME
USE_PERLIO
USE_PERL_ATOF
Built under linux
Compiled at Feb 24 2025 10:41:35
%ENV:
PERL_CPANM_OPT="--skip-installed --prompt"
@INC:
/opt/plenv/versions/5.41.9/lib/perl5/site_perl/5.41.9/x86_64-linux
/opt/plenv/versions/5.41.9/lib/perl5/site_perl/5.41.9
/opt/plenv/versions/5.41.9/lib/perl5/5.41.9/x86_64-linux
/opt/plenv/versions/5.41.9/lib/perl5/5.41.9