Back
From: metabase:user:31ff2928-2aae-11df-837a-5e0a49663a4f
Subject: PASS XML-FeedPP-0.42 v5.10.1 Mac OS X
Date: 2010-11-08T05:31:58Z
This distribution has been tested as part of the CPAN Testers
project, supporting the Perl programming language. See
http://wiki.cpantesters.org/ for more information or email
questions to cpan-testers-discuss@perl.org
--
Dear Yusuke Kawasaki,
This is a computer-generated report for XML-FeedPP-0.42
on perl 5.10.1, created by CPAN-Reporter-1.1803.
Thank you for uploading your work to CPAN. Congratulations!
All tests were successful.
Sections of this report:
* Tester comments
* Program output
* Prerequisites
* Environment and other context
------------------------------
TESTER COMMENTS
------------------------------
Additional comments from tester:
none provided
------------------------------
PROGRAM OUTPUT
------------------------------
Output from '/usr/bin/make test':
PERL_DL_NONLAZY=1 /opt/local/bin/perl "-MExtUtils::Command::MM" "-e" "test_harness(0, 'blib/lib', 'blib/arch')" t/*.t
t/01_new.t .............. ok
t/02_rss.t .............. ok
t/03_rdf.t .............. ok
t/04_atom.t ............. ok
t/05_round.t ............ ok
t/06_xmlns.t ............ ok
t/07_encoding.t ......... ok
t/08_datetime.t ......... ok
t/09_setget.t ........... ok
t/10_image.t ............ ok
t/11_media.t ............ ok
t/12_sort_item.t ........ ok
t/13_remove_item.t ...... ok
t/14_clear_item.t ....... ok
t/15_clone_item.t ....... ok
t/16_invalid_pubdate.t .. ok
t/17_multi_category.t ... ok
t/18_image_atom.t ....... ok
t/19_invalid_w3cdtf.t ... ok
t/20_limit_item.t ....... ok
t/21_negative_item.t .... ok
t/22_init_elements.t .... ok
t/23_match_item.t ....... ok
t/24_get_epoch.t ........ ok
t/25_sort_timezone.t .... ok
t/26_atom10_parse.t ..... ok
t/27_atom03_parse.t ..... ok
t/28_atom10_write.t ..... ok
t/29_rfc2822.t .......... ok
t/30_invalid_rdfseq.t ... ok
t/31_two_digit_date.t ... ok
t/32_two_titles.t ....... ok
t/33_guid.t ............. ok
t/34_category_type.t .... ok
t/35_no_xml_decl.t ...... ok
t/36_get_multiple.t ..... ok
t/39_load_type.t ........ ok
t/40_xml_deref.t ........ ok
t/41_utf8_flag.t ........ ok
t/42_indent.t ........... ok
t/43_indent_atom.t ...... ok
t/44_cdata.t ............ ok
t/45_cdata_multi.t ...... ok
All tests successful.
Files=43, Tests=1367, 5 wallclock secs ( 0.29 usr 0.17 sys + 2.59 cusr 0.51 csys = 3.56 CPU)
Result: PASS
------------------------------
PREREQUISITES
------------------------------
Prerequisite modules loaded:
requires:
Module Need Have
------------------- ---- ----
Test::More 0 0.96
XML::TreePP 0.39 0.39
configure_requires:
Module Need Have
------------------- ---- ----
ExtUtils::MakeMaker 0 6.56
------------------------------
ENVIRONMENT AND OTHER CONTEXT
------------------------------
Environment variables:
LANG = en_AU.UTF-8
PATH = /Users/robertl/bin:/usr/local/bin:/usr/local/sbin:/opt/local/bin:/opt/local/sbin:/usr/bin:/opt/X11/bin:/usr/X11R6/bin:/usr/sbin:/bin:/sbin
PERL5LIB =
PERL5OPT =
PERL5_CPANPLUS_IS_RUNNING = 28355
PERL5_CPAN_IS_RUNNING = 28355
PERL_CPANM_OPT = --sudo --prompt --mirror file:///Users/robertl/mirrors/minicpan/ --mirror ftp://mirror.as24220.net/cpan/ --mirror http://search.cpan.org/CPAN --interactive --no-uninst-shadows
SHELL = /bin/bash
TERM = xterm-color
TMPDIR = /var/folders/Tk/TkXkPJ8UGGS8HnHTPpzPPk+++TI/-Tmp-/
Perl special variables (and OS-specific diagnostics, for MSWin32):
$^X = /opt/local/bin/perl
$UID/$EUID = 501 / 501
$GID = 501 501 204 100 98 80 61 20 12 401
$EGID = 501 501 204 100 98 80 61 20 12 401
Perl module toolchain versions installed:
Module Have
------------------- -------
CPAN 1.94_58
Cwd 3.33
ExtUtils::CBuilder 0.2703
ExtUtils::Command 1.16
ExtUtils::Install 1.54
ExtUtils::MakeMaker 6.56
ExtUtils::Manifest 1.58
ExtUtils::ParseXS 2.2206
File::Spec 3.33
Module::Build 0.3607
Module::Signature 0.66
Test::Harness 3.22
Test::More 0.96
YAML 0.72
YAML::Syck 1.15
version 0.85
--
Summary of my perl5 (revision 5 version 10 subversion 1) configuration:
Platform:
osname=darwin, osvers=10.0.0, archname=darwin-thread-multi-2level
uname='darwin shiny 10.0.0 darwin kernel version 10.0.0: fri jul 31 22:47:34 pdt 2009; root:xnu-1456.1.25~1release_i386 i386 '
config_args='-Dusethreads -Duseshrplib -des -Dprefix=/opt/local -Dccflags=-I'/opt/local/include' -Dldflags=-L/opt/local/lib -Dvendorprefix=/opt/local -D cc=/usr/bin/gcc-4.2 -D ld=/usr/bin/gcc-4.2 -D inc_version_list=5.10.0/darwin-thread-multi-2level 5.10.0 5.8.9 5.8.8'
hint=recommended, useposix=true, d_sigaction=define
useithreads=define, usemultiplicity=define
useperlio=define, d_sfio=undef, uselargefiles=define, usesocks=undef
use64bitint=define, use64bitall=define, uselongdouble=undef
usemymalloc=n, bincompat5005=undef
Compiler:
cc='/usr/bin/gcc-4.2', ccflags ='-I/opt/local/include -fno-common -DPERL_DARWIN -no-cpp-precomp -fno-strict-aliasing -pipe -fstack-protector -I/usr/local/include -I/opt/local/include',
optimize='-O3',
cppflags='-no-cpp-precomp -I/opt/local/include -fno-common -DPERL_DARWIN -no-cpp-precomp -fno-strict-aliasing -pipe -fstack-protector -I/usr/local/include -I/opt/local/include'
ccversion='', gccversion='4.2.1 (Apple Inc. build 5646)', gccosandvers=''
intsize=4, longsize=8, ptrsize=8, doublesize=8, byteorder=12345678
d_longlong=define, longlongsize=8, d_longdbl=define, longdblsize=16
ivtype='long', ivsize=8, nvtype='double', nvsize=8, Off_t='off_t', lseeksize=8
alignbytes=8, prototype=define
Linker and Libraries:
ld='env MACOSX_DEPLOYMENT_TARGET=10.3 cc', ldflags ='-L/opt/local/lib -fstack-protector -L/usr/local/lib'
libpth=/usr/local/lib /opt/local/lib /usr/lib
libs=-lgdbm -ldbm -ldl -lm -lutil -lc
perllibs=-ldl -lm -lutil -lc
libc=/usr/lib/libc.dylib, so=dylib, useshrplib=true, libperl=libperl.dylib
gnulibc_version=''
Dynamic Linking:
dlsrc=dl_dlopen.xs, dlext=bundle, d_dlsymun=undef, ccdlflags=' '
cccdlflags=' ', lddlflags='-L/opt/local/lib -bundle -undefined dynamic_lookup -L/usr/local/lib -fstack-protector'
Characteristics of this binary (from libperl):
Compile-time options: MULTIPLICITY PERL_DONT_CREATE_GVSV
PERL_IMPLICIT_CONTEXT PERL_MALLOC_WRAP USE_64_BIT_ALL
USE_64_BIT_INT USE_ITHREADS USE_LARGE_FILES
USE_PERLIO USE_REENTRANT_API
Built under darwin
Compiled at Sep 17 2009 16:34:01
%ENV:
PERL5LIB=""
PERL5OPT=""
PERL5_CPANPLUS_IS_RUNNING="28355"
PERL5_CPAN_IS_RUNNING="28355"
PERL_CPANM_OPT="--sudo --prompt --mirror file:///Users/robertl/mirrors/minicpan/ --mirror ftp://mirror.as24220.net/cpan/ --mirror http://search.cpan.org/CPAN --interactive --no-uninst-shadows"
@INC:
/opt/local/lib/perl5/site_perl/5.10.1/darwin-thread-multi-2level
/opt/local/lib/perl5/site_perl/5.10.1
/opt/local/lib/perl5/site_perl
/opt/local/lib/perl5/vendor_perl/5.10.1/darwin-thread-multi-2level
/opt/local/lib/perl5/vendor_perl/5.10.1
/opt/local/lib/perl5/vendor_perl
/opt/local/lib/perl5/5.10.1/darwin-thread-multi-2level
/opt/local/lib/perl5/5.10.1
.