Report for MooseX-Attribute-ValidateWithException-0.3.1

Back
From: metabase:user:838e5b0a-2bb6-1016-a696-43a2537fa0c6
Subject: PASS MooseX-Attribute-ValidateWithException-0.3.1 v5.10.1 Windows (Cygwin)
Date: 2014-01-09T15:57:58Z

This distribution has been tested as part of the CPAN Testers
project, supporting the Perl programming language.  See
http://wiki.cpantesters.org/ for more information or email
questions to cpan-testers-discuss@perl.org


--
Dear Kent Fredric,

This is a computer-generated report for MooseX-Attribute-ValidateWithException-0.3.1
on perl 5.10.1, created by CPAN-Reporter-1.2010.

Thank you for uploading your work to CPAN.  Congratulations!
All tests were successful.

Sections of this report:

    * Tester comments
    * Program output
    * Prerequisites
    * Environment and other context

------------------------------
TESTER COMMENTS
------------------------------

Additional comments from tester:

this report is from an automated smoke testing program
and was not reviewed by a human for accuracy

------------------------------
PROGRAM OUTPUT
------------------------------

Output from './Build test':

t/00-compile/lib_MooseX_Attribute_ValidateWithException_AttributeRole_pm.t .. ok
t/00-compile/lib_MooseX_Attribute_ValidateWithException_Exception_pm.t ...... ok
t/00-compile/lib_MooseX_Attribute_ValidateWithException_pm.t ................ ok
# 
# 
# Generated by Dist::Zilla::Plugin::ReportVersions::Tiny v1.10
# perl: 5.010001 (wanted 5.006) on cygwin from /usr/bin/perl
# 
# Module::Build                                 => 0.4203     (want 0.4203) 
# Moose                                         => 2.1200     (want 2.1200) 
# Moose::Exporter                               => 2.1200     (want any version)
# Moose::Role                                   => 2.1200     (want any version)
# Test::Fatal                                   => 0.010      (want any version)
# Test::More                                    => 1.001002   (want 1.001002)
# Throwable::Error                              => 0.200008   (want any version)
# strict                                        => 1.04       (want any version)
# warnings                                      => 1.06       (want any version)
# 
# Thanks for using my code.  I hope it works for you.
# If not, please try and include this output in the bug report.
# That will help me reproduce the issue and solve your problem.
# 
t/000-report-versions-tiny.t ................................................ ok
t/01-basic.t ................................................................ ok
All tests successful.
Files=5, Tests=5, 10 wallclock secs ( 0.23 usr  0.22 sys +  3.62 cusr  4.66 csys =  8.73 CPU)
Result: PASS

------------------------------
PREREQUISITES
------------------------------

Prerequisite modules loaded:

requires:

    Module           Need     Have    
    ---------------- -------- --------
    Moose            2.1200   2.1200  
    Moose::Exporter  0        2.1200  
    Moose::Role      0        2.1200  
    perl             5.006    5.010001
    strict           0        1.04    
    Throwable::Error 0        0.200008
    warnings         0        1.06    

build_requires:

    Module           Need     Have    
    ---------------- -------- --------
    Module::Build    0.4203   0.4203  
    Test::Fatal      0        0.010   
    Test::More       1.001002 1.001002

configure_requires:

    Module           Need     Have    
    ---------------- -------- --------
    Module::Build    0.4203   0.4203  


------------------------------
ENVIRONMENT AND OTHER CONTEXT
------------------------------

Environment variables:

    AUTOMATED_TESTING = 1
    COMSPEC = C:\Windows\system32\cmd.exe
    LANG = en_US.UTF-8
    NUMBER_OF_PROCESSORS = 8
    PATH = /home/solimanod/perl5/perlbrew/bin:/usr/local/bin:/usr/bin:/cygdrive/c/tt/ttm:/cygdrive/c/tt/bin:/cygdrive/c/Program Files/MiKTeX/2.9/miktex/bin:/cygdrive/c/Windows/system32:/cygdrive/c/Windows:/cygdrive/c/Windows/System32/Wbem:/cygdrive/c/Windows/System32/WindowsPowerShell/v1.0:/cygdrive/c/rv/BIN:/cygdrive/c/Program Files/Microsoft SQL Server/100/Tools/Binn:/cygdrive/c/Program Files/Microsoft SQL Server/100/DTS/Binn:/cygdrive/c/Program Files/Microsoft SQL Server/100/Tools/Binn/VSShell/Common7/IDE:/cygdrive/c/Program Files/Microsoft Visual Studio 9.0/Common7/IDE/PrivateAssemblies:/cygdrive/c/Program Files/Microsoft SQL Server/80/Tools/Binn:/cygdrive/c/Program Files/Microsoft SQL Server/90/Tools/binn:/cygdrive/c/Program Files/Microsoft SQL Server/90/DTS/Binn:/cygdrive/c/Program Files/Microsoft SQL Server/90/Tools/Binn/VSShell/Common7/IDE:/cygdrive/c/Program Files/Microsoft Visual Studio 8/Common7/IDE/PrivateAssemblies:/cygdrive/c/Program Files/TortoiseSVN/bin:/cygdrive/c/Program Files/MIT/Kerberos/bin:/cygdrive/f/strawberry/c/bin:/cygdrive/f/strawberry/perl/site/bin:/cygdrive/f/strawberry/perl/bin:/cygdrive/c/Program Files/Common Files/Citrix/System32:/cygdrive/c/Program Files/Citrix/ICAService:/cygdrive/c/Program Files/Citrix/System32:/cygdrive/c/Program Files/Subversion/bin:/cygdrive/c/Users/DSolimano/AppData/Local/Fidessa/systemfiles:/cygdrive/c/Program Files/WinAnt/bin
    PATH_WITHOUT_PERLBREW = /usr/local/bin:/usr/bin:/cygdrive/c/tt/ttm:/cygdrive/c/tt/bin:/cygdrive/c/Program Files/MiKTeX/2.9/miktex/bin:/cygdrive/c/Windows/system32:/cygdrive/c/Windows:/cygdrive/c/Windows/System32/Wbem:/cygdrive/c/Windows/System32/WindowsPowerShell/v1.0:/cygdrive/c/rv/BIN:/cygdrive/c/Program Files/Microsoft SQL Server/100/Tools/Binn:/cygdrive/c/Program Files/Microsoft SQL Server/100/DTS/Binn:/cygdrive/c/Program Files/Microsoft SQL Server/100/Tools/Binn/VSShell/Common7/IDE:/cygdrive/c/Program Files/Microsoft Visual Studio 9.0/Common7/IDE/PrivateAssemblies:/cygdrive/c/Program Files/Microsoft SQL Server/80/Tools/Binn:/cygdrive/c/Program Files/Microsoft SQL Server/90/Tools/binn:/cygdrive/c/Program Files/Microsoft SQL Server/90/DTS/Binn:/cygdrive/c/Program Files/Microsoft SQL Server/90/Tools/Binn/VSShell/Common7/IDE:/cygdrive/c/Program Files/Microsoft Visual Studio 8/Common7/IDE/PrivateAssemblies:/cygdrive/c/Program Files/TortoiseSVN/bin:/cygdrive/c/Program Files/MIT/Kerberos/bin:/cygdrive/f/strawberry/c/bin:/cygdrive/f/strawberry/perl/site/bin:/cygdrive/f/strawberry/perl/bin:/cygdrive/c/Program Files/Common Files/Citrix/System32:/cygdrive/c/Program Files/Citrix/ICAService:/cygdrive/c/Program Files/Citrix/System32:/cygdrive/c/Program Files/Subversion/bin:/cygdrive/c/Users/DSolimano/AppData/Local/Fidessa/systemfiles:/cygdrive/c/Program Files/WinAnt/bin
    PERL5LIB = /home/solimanod/.cpan/build/Test-Simple-1.001002-X60blT/blib/arch:/home/solimanod/.cpan/build/Test-Simple-1.001002-X60blT/blib/lib:/home/solimanod/.cpan/build/Moose-2.1200-NzJQxn/blib/arch:/home/solimanod/.cpan/build/Moose-2.1200-NzJQxn/blib/lib:/home/solimanod/.cpan/build/Carp-1.32-vkKMVr/blib/arch:/home/solimanod/.cpan/build/Carp-1.32-vkKMVr/blib/lib:/home/solimanod/.cpan/build/Devel-StackTrace-1.30-TLumLm/blib/arch:/home/solimanod/.cpan/build/Devel-StackTrace-1.30-TLumLm/blib/lib:/home/solimanod/.cpan/build/parent-0.228-1mpcLP/blib/arch:/home/solimanod/.cpan/build/parent-0.228-1mpcLP/blib/lib:/home/solimanod/.cpan/build/Module-Build-0.4203-kEyWoo/blib/arch:/home/solimanod/.cpan/build/Module-Build-0.4203-kEyWoo/blib/lib
    PERL5OPT = 
    PERL5_CPANPLUS_IS_RUNNING = 22016
    PERL5_CPAN_IS_RUNNING = 22016
    PERL5_CPAN_IS_RUNNING_IN_RECURSION = 16388,22016
    PERLBREW_BASHRC_VERSION = 0.31
    PERLBREW_HOME = /home/solimanod/.perlbrew
    PERLBREW_PATH = /home/solimanod/perl5/perlbrew/bin
    PERLBREW_ROOT = /home/solimanod/perl5/perlbrew
    PERL_CR_SMOKER_CURRENT = MooseX-Attribute-ValidateWithException-0.3.1
    PERL_EXTUTILS_AUTOINSTALL = --defaultdeps
    PERL_JSON_BACKEND = JSON::XS
    PERL_MM_USE_DEFAULT = 1
    PERL_YAML_BACKEND = YAML
    PROCESSOR_IDENTIFIER = x86 Family 6 Model 23 Stepping 6, GenuineIntel
    SHELL = /bin/bash
    TEMP = /tmp
    TERM = dumb

Perl special variables (and OS-specific diagnostics, for MSWin32):

    $^X = /usr/bin/perl
    $UID/$EUID = 184280 / 184280
    $GID = 10513 0 544 545 1012 15641 15886 25229 184120 192757 237589 237731 251266 194555 76114 192482 10513 71661 61715 184156 184165 184167 237398 192370 184190 184243 77842
    $EGID = 10513 0 544 545 1012 15641 15886 25229 184120 192757 237589 237731 251266 194555 76114 192482 10513 71661 61715 184156 184165 184167 237398 192370 184190 184243 77842

Perl module toolchain versions installed:

    Module              Have    
    ------------------- --------
    CPAN                2.00    
    CPAN::Meta          2.132661
    Cwd                 3.40    
    ExtUtils::CBuilder  0.2702  
    ExtUtils::Command   1.16_01 
    ExtUtils::Install   1.54    
    ExtUtils::MakeMaker 6.72    
    ExtUtils::Manifest  1.60    
    ExtUtils::ParseXS   2.2206  
    File::Spec          3.40    
    JSON                2.53    
    JSON::PP            2.27200 
    Module::Build       0.4203  
    Module::Signature   0.61    
    Parse::CPAN::Meta   1.4409  
    Test::Harness       3.28    
    Test::More          1.001002
    YAML                0.84    
    YAML::Syck          1.20    
    version             0.99    


--

Summary of my perl5 (revision 5 version 10 subversion 1) configuration:
   
  Platform:
    osname=cygwin, osvers=1.7.5(0.22553), archname=i686-cygwin-thread-multi-64int
    uname='cygwin_nt-5.1 reini 1.7.5(0.22553) 2010-04-12 19:07 i686 cygwin '
    config_args='-de -Dlibperl=cygperl5_10.dll -Dcc=gcc-4 -Dld=g++-4 -Dmksymlinks -Dusethreads -Dmad=y -Doptimize=-O3 -Accflags=-g3'
    hint=recommended, useposix=true, d_sigaction=define
    useithreads=define, usemultiplicity=define
    useperlio=define, d_sfio=undef, uselargefiles=define, usesocks=undef
    use64bitint=define, use64bitall=undef, uselongdouble=undef
    usemymalloc=y, bincompat5005=undef
  Compiler:
    cc='gcc-4', ccflags ='-DPERL_USE_SAFE_PUTENV -U__STRICT_ANSI__ -g3 -fno-strict-aliasing -pipe -fstack-protector -I/usr/local/include',
    optimize='-O3',
    cppflags='-DPERL_USE_SAFE_PUTENV -U__STRICT_ANSI__ -g3 -fno-strict-aliasing -pipe -fstack-protector -I/usr/local/include'
    ccversion='', gccversion='4.3.4 20090804 (release) 1', gccosandvers=''
    intsize=4, longsize=4, ptrsize=4, doublesize=8, byteorder=12345678
    d_longlong=define, longlongsize=8, d_longdbl=define, longdblsize=12
    ivtype='long long', ivsize=8, nvtype='double', nvsize=8, Off_t='off_t', lseeksize=8
    alignbytes=8, prototype=define
  Linker and Libraries:
    ld='g++-4', ldflags =' -Wl,--enable-auto-import -Wl,--export-all-symbols -Wl,--stack,8388608 -Wl,--enable-auto-image-base -fstack-protector -L/usr/local/lib'
    libpth=/usr/local/lib /usr/lib /lib
    libs=-lgdbm -ldb -ldl -lcrypt -lgdbm_compat
    perllibs=-ldl -lcrypt
    libc=/usr/lib/libc.a, so=dll, useshrplib=true, libperl=cygperl5_10.dll
    gnulibc_version=''
  Dynamic Linking:
    dlsrc=dl_dlopen.xs, dlext=dll, d_dlsymun=undef, ccdlflags=' '
    cccdlflags=' ', lddlflags=' --shared  -Wl,--enable-auto-import -Wl,--export-all-symbols -Wl,--stack,8388608 -Wl,--enable-auto-image-base -L/usr/local/lib -fstack-protector'


Characteristics of this binary (from libperl): 
  Compile-time options: MULTIPLICITY MYMALLOC PERL_DONT_CREATE_GVSV
                        PERL_IMPLICIT_CONTEXT PERL_MAD PERL_USE_SAFE_PUTENV
                        USE_64_BIT_INT USE_ITHREADS USE_LARGE_FILES
                        USE_PERLIO USE_REENTRANT_API
  Locally applied patches:
	CYG11 no-bs
	CYG12 no archlib in otherlibdirs
	CYG14 Dynaloader
	CYG15 static-Win32CORE
	CYG17 utf8-paths
	CYG21 LibList-Kid.patch
	CYG22 cygwin-1.7 hints
	CYG23 544-stat
	CYG24 build man pages
	CYG25 rebase_privlib
	Module-Build-0.36_13
	Bug#55162 CYG18 File::Spec::case_tolerant performance
	disable ExtUtils::MakeMaker::Coverage in Sys-Syslog
  Built under cygwin
  Compiled at Aug 28 2010 20:17:29
  %ENV:
    PERL5LIB="/home/solimanod/.cpan/build/Test-Simple-1.001002-X60blT/blib/arch:/home/solimanod/.cpan/build/Test-Simple-1.001002-X60blT/blib/lib:/home/solimanod/.cpan/build/Moose-2.1200-NzJQxn/blib/arch:/home/solimanod/.cpan/build/Moose-2.1200-NzJQxn/blib/lib:/home/solimanod/.cpan/build/Carp-1.32-vkKMVr/blib/arch:/home/solimanod/.cpan/build/Carp-1.32-vkKMVr/blib/lib:/home/solimanod/.cpan/build/Devel-StackTrace-1.30-TLumLm/blib/arch:/home/solimanod/.cpan/build/Devel-StackTrace-1.30-TLumLm/blib/lib:/home/solimanod/.cpan/build/parent-0.228-1mpcLP/blib/arch:/home/solimanod/.cpan/build/parent-0.228-1mpcLP/blib/lib:/home/solimanod/.cpan/build/Module-Build-0.4203-kEyWoo/blib/arch:/home/solimanod/.cpan/build/Module-Build-0.4203-kEyWoo/blib/lib"
    PERL5OPT=""
    PERL5_CPANPLUS_IS_RUNNING="22016"
    PERL5_CPAN_IS_RUNNING="22016"
    PERL5_CPAN_IS_RUNNING_IN_RECURSION="16388,22016"
    PERLBREW_BASHRC_VERSION="0.31"
    PERLBREW_HOME="/home/solimanod/.perlbrew"
    PERLBREW_PATH="/home/solimanod/perl5/perlbrew/bin"
    PERLBREW_ROOT="/home/solimanod/perl5/perlbrew"
    PERL_CR_SMOKER_CURRENT="MooseX-Attribute-ValidateWithException-0.3.1"
    PERL_EXTUTILS_AUTOINSTALL="--defaultdeps"
    PERL_JSON_BACKEND="JSON::XS"
    PERL_MM_USE_DEFAULT="1"
    PERL_YAML_BACKEND="YAML"
    CYGWIN=""
  @INC:
    /home/solimanod/.cpan/build/Test-Simple-1.001002-X60blT/blib/arch
    /home/solimanod/.cpan/build/Test-Simple-1.001002-X60blT/blib/lib
    /home/solimanod/.cpan/build/Moose-2.1200-NzJQxn/blib/arch
    /home/solimanod/.cpan/build/Moose-2.1200-NzJQxn/blib/lib
    /home/solimanod/.cpan/build/Carp-1.32-vkKMVr/blib/arch
    /home/solimanod/.cpan/build/Carp-1.32-vkKMVr/blib/lib
    /home/solimanod/.cpan/build/Devel-StackTrace-1.30-TLumLm/blib/arch
    /home/solimanod/.cpan/build/Devel-StackTrace-1.30-TLumLm/blib/lib
    /home/solimanod/.cpan/build/parent-0.228-1mpcLP/blib/arch
    /home/solimanod/.cpan/build/parent-0.228-1mpcLP/blib/lib
    /home/solimanod/.cpan/build/Module-Build-0.4203-kEyWoo/blib/arch
    /home/solimanod/.cpan/build/Module-Build-0.4203-kEyWoo/blib/lib
    /usr/lib/perl5/5.10/i686-cygwin
    /usr/lib/perl5/5.10
    /usr/lib/perl5/site_perl/5.10/i686-cygwin
    /usr/lib/perl5/site_perl/5.10
    /usr/lib/perl5/vendor_perl/5.10/i686-cygwin
    /usr/lib/perl5/vendor_perl/5.10
    /usr/lib/perl5/vendor_perl/5.10
    /usr/lib/perl5/site_perl/5.8
    /usr/lib/perl5/vendor_perl/5.8
    .