String-Errf v0.008 Perl 5 v5.26.1 x86_64-linux-ld
- Status
- Pass
- From
- Martin Becker
- Dist
-
String-Errf v0.008
- Platform
- Perl 5 v5.26.1 x86_64-linux-ld
- Date
- 2017-10-30 14:13:31
- ID
- 81dc62ee-bd7c-11e7-b60c-6c715f38363e
This distribution has been tested as part of the CPAN Testers
project, supporting the Perl programming language. See
http://wiki.cpantesters.org/ for more information or email
questions to cpan-testers-discuss@perl.org
--
Dear Ricardo SIGNES,
This is a computer-generated report for String-Errf-0.008
on perl 5.26.1, created by CPAN-Reporter-1.2018.
Thank you for uploading your work to CPAN. Congratulations!
All tests were successful.
Sections of this report:
* Tester comments
* Program output
* Prerequisites
* Environment and other context
------------------------------
TESTER COMMENTS
------------------------------
Additional comments from tester:
none provided
------------------------------
PROGRAM OUTPUT
------------------------------
Output from '/usr/bin/make test':
PERL_DL_NONLAZY=1 "/opt/perl526/bin/perl" "-MExtUtils::Command::MM" "-MTest::Harness" "-e" "undef *Test::Harness::Switches; test_harness(0, 'blib/lib', 'blib/arch')" t/*.t
#
# Versions for all modules listed in MYMETA.json (including optional ones):
#
# === Configure Requires ===
#
# Module Want Have
# ------------------- ---- ----
# ExtUtils::MakeMaker any 7.24
#
# === Build Requires ===
#
# Module Want Have
# ------------------- ---- ----
# ExtUtils::MakeMaker any 7.24
#
# === Test Requires ===
#
# Module Want Have
# ------------------- ---- --------
# Date::Format any 2.24
# ExtUtils::MakeMaker any 7.24
# File::Spec any 3.67
# JSON::MaybeXS any 1.003009
# Test::More 0.96 1.302073
# autodie any 2.29
#
# === Test Recommends ===
#
# Module Want Have
# ---------- -------- --------
# CPAN::Meta 2.120900 2.150010
#
# === Runtime Requires ===
#
# Module Want Have
# ----------------- -------- --------
# Carp any 1.42
# Params::Util any 1.07
# Scalar::Util any 1.46_02
# String::Formatter 0.102081 0.102084
# Sub::Exporter any 0.987
# Time::Piece any 1.31
# parent any 0.236
# strict any 1.11
# warnings any 1.37
#
t/00-report-prereqs.t .. ok
t/bad.t ................ ok
t/basic.t .............. ok
All tests successful.
Files=3, Tests=6, 0 wallclock secs ( 0.02 usr 0.00 sys + 0.19 cusr 0.03 csys = 0.24 CPU)
Result: PASS
------------------------------
PREREQUISITES
------------------------------
Prerequisite modules loaded:
requires:
Module Need Have
------------------- -------- --------
Carp 0 1.42
Params::Util 0 1.07
parent 0 0.236
Scalar::Util 0 1.46_02
strict 0 1.11
String::Formatter 0.102081 0.102084
Sub::Exporter 0 0.987
Time::Piece 0 1.31
warnings 0 1.37
build_requires:
Module Need Have
------------------- -------- --------
autodie 0 2.29
Date::Format 0 2.24
ExtUtils::MakeMaker 0 7.24
File::Spec 0 3.67
JSON::MaybeXS 0 1.003009
Test::More 0.96 1.302073
configure_requires:
Module Need Have
------------------- -------- --------
ExtUtils::MakeMaker 0 7.24
opt_build_requires:
Module Need Have
------------------- -------- --------
CPAN::Meta 2.120900 2.150010
------------------------------
ENVIRONMENT AND OTHER CONTEXT
------------------------------
Environment variables:
LANG = C
LC_CTYPE = en_US
PATH = /opt/perl526/bin:/home/martin/bin:/usr/local/bin:/usr/bin:/bin:/usr/local/games:/usr/games
PERL5LIB =
PERL5OPT =
PERL5_CPANPLUS_IS_RUNNING = 40102
PERL5_CPAN_IS_RUNNING = 40102
PERL_USE_UNSAFE_INC = 1
SHELL = /bin/bash
TERM = screen
Perl special variables (and OS-specific diagnostics, for MSWin32):
$^X = /opt/perl526/bin/perl
$UID/$EUID = 1000 / 1000
$GID = 1000 24 25 27 29 30 40 44 46 104 109 111 122 124 507 1000 3001 3002
$EGID = 1000 24 25 27 29 30 40 44 46 104 109 111 122 124 507 1000 3001 3002
Perl module toolchain versions installed:
Module Have
------------------- ----------
CPAN 2.18
CPAN::Meta 2.150010
Cwd 3.67
ExtUtils::CBuilder 0.280225
ExtUtils::Command 7.24
ExtUtils::Install 2.04
ExtUtils::MakeMaker 7.24
ExtUtils::Manifest 1.70
ExtUtils::ParseXS 3.34
File::Spec 3.67
JSON 2.94
JSON::PP 2.27400_02
Module::Build 0.4224
Module::Signature 0.81
Parse::CPAN::Meta 2.150010
Test::Harness 3.38
Test::More 1.302073
YAML 1.23
YAML::Syck 1.30
version 0.9917
--
Summary of my perl5 (revision 5 version 26 subversion 1) configuration:
Platform:
osname=linux
osvers=3.2.0-4-amd64
archname=x86_64-linux-ld
uname='linux dewey 3.2.0-4-amd64 #1 smp debian 3.2.86-1 x86_64 gnulinux '
config_args='-Dprefix=/opt/perl526 -Duse64bitint -Duse64bitall -Duselongdouble -Dperladmin=none -Dusevfork=false -de'
hint=previous
useposix=true
d_sigaction=define
useithreads=undef
usemultiplicity=undef
use64bitint=define
use64bitall=define
uselongdouble=define
usemymalloc=n
default_inc_excludes_dot=define
bincompat5005=undef
Compiler:
cc='cc'
ccflags ='-fwrapv -fno-strict-aliasing -pipe -fstack-protector -I/usr/local/include -D_LARGEFILE_SOURCE -D_FILE_OFFSET_BITS=64 -D_FORTIFY_SOURCE=2'
optimize='-O2'
cppflags='-fwrapv -fno-strict-aliasing -pipe -fstack-protector -I/usr/local/include'
ccversion=''
gccversion='4.7.2'
gccosandvers=''
intsize=4
longsize=8
ptrsize=8
doublesize=8
byteorder=12345678
doublekind=3
d_longlong=define
longlongsize=8
d_longdbl=define
longdblsize=16
longdblkind=3
ivtype='long'
ivsize=8
nvtype='long double'
nvsize=16
Off_t='off_t'
lseeksize=8
alignbytes=16
prototype=define
Linker and Libraries:
ld='cc'
ldflags =' -fstack-protector -L/usr/local/lib'
libpth=/usr/local/lib /usr/lib/gcc/x86_64-linux-gnu/4.7/include-fixed /usr/include/x86_64-linux-gnu /usr/lib /lib/x86_64-linux-gnu /lib/../lib /usr/lib/x86_64-linux-gnu /usr/lib/../lib /lib /lib64 /usr/lib64 /usr/local/lib /usr/lib/gcc/x86_64-linux-gnu/4.7/include-fixed /usr/include/x86_64-linux-gnu /usr/lib
libs=-lpthread -lnsl -ldl -lm -lcrypt -lutil -lc
perllibs=-lpthread -lnsl -ldl -lm -lcrypt -lutil -lc
libc=libc-2.13.so
so=so
useshrplib=false
libperl=libperl.a
gnulibc_version='2.13'
Dynamic Linking:
dlsrc=dl_dlopen.xs
dlext=so
d_dlsymun=undef
ccdlflags='-Wl,-E'
cccdlflags='-fPIC'
lddlflags='-shared -O2 -L/usr/local/lib -fstack-protector'
Characteristics of this binary (from libperl):
Compile-time options:
HAS_TIMES
PERLIO_LAYERS
PERL_COPY_ON_WRITE
PERL_DONT_CREATE_GVSV
PERL_MALLOC_WRAP
PERL_OP_PARENT
PERL_PRESERVE_IVUV
USE_64_BIT_ALL
USE_64_BIT_INT
USE_LARGE_FILES
USE_LOCALE
USE_LOCALE_COLLATE
USE_LOCALE_CTYPE
USE_LOCALE_NUMERIC
USE_LOCALE_TIME
USE_LONG_DOUBLE
USE_PERLIO
USE_PERL_ATOF
Built under linux
Compiled at Oct 26 2017 16:15:19
%ENV:
PERL5LIB=""
PERL5OPT=""
PERL5_CPANPLUS_IS_RUNNING="40102"
PERL5_CPAN_IS_RUNNING="40102"
PERL_USE_UNSAFE_INC="1"
@INC:
/opt/perl526/lib/site_perl/5.26.1/x86_64-linux-ld
/opt/perl526/lib/site_perl/5.26.1
/opt/perl526/lib/5.26.1/x86_64-linux-ld
/opt/perl526/lib/5.26.1
/opt/perl526/lib/site_perl/5.26.0/x86_64-linux-ld
/opt/perl526/lib/site_perl/5.26.0
/opt/perl526/lib/site_perl
.