Tree v1.14 Perl 5 v5.8.9 amd64-freebsd

Status
Pass
From
Slaven Rezić (SREZIC)
Dist
Tree v1.14
Platform
Perl 5 v5.8.9 amd64-freebsd
Date
2019-06-03 23:58:39
ID
81dd07e0-865b-11e9-9566-468b1f24ea8f
This distribution has been tested as part of the CPAN Testers
project, supporting the Perl programming language.  See
http://wiki.cpantesters.org/ for more information or email
questions to cpan-testers-discuss@perl.org


--
Dear Ron Savage,

This is a computer-generated report for Tree-1.14
on perl 5.8.9, created by CPAN-Reporter-1.2018.

Thank you for uploading your work to CPAN.  Congratulations!
All tests were successful.

Sections of this report:

    * Tester comments
    * Program output
    * Prerequisites
    * Environment and other context

------------------------------
TESTER COMMENTS
------------------------------

Additional comments from tester:

none provided

------------------------------
PROGRAM OUTPUT
------------------------------

Output from '/usr/bin/make test':

PERL_DL_NONLAZY=1 "/usr/perl5.8.9/bin/perl" "-MExtUtils::Command::MM" "-MTest::Harness" "-e" "undef *Test::Harness::Switches; test_harness(0, 'blib/lib', 'blib/arch')" t/*.t t/Tree_Binary/*.t t/Tree/*.t t/Tree_Fast/*.t
# Testing Tree V 1.14
# Using base V 2.23
# Using constant V 1.33
# Using Data::Dumper V 2.161
# Using Exporter V 5.73
# Using lib V 0.61
# Using overload V 1.06
# Using Scalar::Util V 1.5
# Using strict V 1.03
# Using warnings V 1.05_01
t/00.versions.t ................... ok
t/Tree/000_interface.t ............ ok
t/Tree/001_root_node.t ............ ok
t/Tree/002_null_object.t .......... ok
t/Tree/003_child_node.t ........... ok
t/Tree/004_multiple_children.t .... ok
t/Tree/005_multilevel_tree.t ...... ok
t/Tree/007_add_child.t ............ ok
t/Tree/008_weak_refs.t ............ ok
t/Tree/009_error_handling.t ....... ok
t/Tree/010_errors_addchild.t ...... ok
t/Tree/011_errors_removechild.t ... ok
t/Tree/012_height.t ............... ok
t/Tree/013_width.t ................ ok
t/Tree/014_clone.t ................ ok
t/Tree/015_traverse.t ............. ok
t/Tree/016_events.t ............... ok
t/Tree/017_traverse_scalar.t ...... ok
t/Tree/018_no_fatal_warnings.t .... ok
t/Tree_Binary/000_binary_trees.t .. ok
t/Tree_Binary/001_mirror.t ........ ok
t/Tree_Binary/002_clone.t ......... ok
t/Tree_Fast/001_clone.t ........... ok
All tests successful.
Files=23, Tests=877,  2 wallclock secs ( 0.05 usr  0.11 sys +  1.16 cusr  0.26 csys =  1.57 CPU)
Result: PASS

------------------------------
PREREQUISITES
------------------------------

Prerequisite modules loaded:

requires:

    Module              Need     Have    
    ------------------- -------- --------
    base                0        2.23    
    constant            0        1.33    
    Data::Dumper        2.161    2.161   
    Exporter            5.71     5.73    
    lib                 0        0.61    
    overload            0        1.06    
    perl                5.006    5.008009
    Scalar::Util        1.45     1.50    
    strict              0        1.03    
    warnings            0        1.05_01 

build_requires:

    Module              Need     Have    
    ------------------- -------- --------
    ExtUtils::MakeMaker 0        7.36    
    Test::Deep          1.123    1.128   
    Test::Exception     0.43     0.43    
    Test::More          1.001002 1.302164
    Test::Pod           1.51     1.52    
    Test::Pod::Coverage 1.1      1.10    
    Test::Warn          0.3      0.36    

configure_requires:

    Module              Need     Have    
    ------------------- -------- --------
    ExtUtils::MakeMaker 0        7.36    


------------------------------
ENVIRONMENT AND OTHER CONTEXT
------------------------------

Environment variables:

    LC_ALL = de_DE.ISO8859-1
    PATH = /usr/local/bin:/usr/bin:/bin:/usr/local/sbin:/usr/sbin:/sbin:/home/cpansand/bin/freebsd9.3:/home/cpansand/bin/sh:/home/cpansand/bin:/usr/games:/home/cpansand/devel:/usr/home/eserte/src/srezic-misc/scripts
    PERL5LIB = 
    PERL5OPT = 
    PERL5_CPANPLUS_IS_RUNNING = 98057
    PERL5_CPAN_IS_RUNNING = 98057
    PERL5_CPAN_IS_RUNNING_IN_RECURSION = 97372,98057
    PERLDOC = -MPod::Perldoc::ToTextOverstrike
    PERL_BATCH = yes
    PERL_CANARY_STABILITY_NOPROMPT = 1
    PERL_CPAN_REPORTER_CONFIG = /var/tmp/cpansmoker-1023/2019060401/cpanreporter_000_config.ini
    PERL_EXTUTILS_AUTOINSTALL = --defaultdeps
    PERL_USE_UNSAFE_INC = 1
    SHELL = /usr/local/bin/zsh
    TERM = screen
    TMPDIR = /var/tmp/cpansmoker-1023/2019060401

Perl special variables (and OS-specific diagnostics, for MSWin32):

    $^X = /usr/perl5.8.9/bin/perl
    $UID/$EUID = 1023 / 1023
    $GID = 1023 1023
    $EGID = 1023 1023

Perl module toolchain versions installed:

    Module              Have    
    ------------------- --------
    CPAN                2.22    
    CPAN::Meta          2.150010
    Cwd                 3.75    
    ExtUtils::CBuilder  0.280231
    ExtUtils::Command   7.36    
    ExtUtils::Install   2.14    
    ExtUtils::MakeMaker 7.36    
    ExtUtils::Manifest  1.72    
    ExtUtils::ParseXS   3.35    
    File::Spec          3.75    
    JSON                4.02    
    JSON::PP            4.02    
    Module::Build       0.4224  
    Module::Signature   0.81    
    Parse::CPAN::Meta   2.150010
    Test::Harness       3.41    
    Test::More          1.302164
    YAML                1.29    
    YAML::Syck          1.31    
    version             0.9924  


--

Summary of my perl5 (revision 5 version 8 subversion 9) configuration:
  Platform:
    osname=freebsd, osvers=9.2-release-p4, archname=amd64-freebsd
    uname='freebsd cvrsnica-freebsd-92 9.2-release-p4 freebsd 9.2-release-p4 #0: tue apr 8 18:08:22 utc 2014 root@amd64-builder.daemonology.net:usrobjusrsrcsysgeneric amd64 '
    config_args='-ds -e -Dprefix=/usr/perl5.8.9'
    hint=recommended, useposix=true, d_sigaction=define
    usethreads=undef use5005threads=undef useithreads=undef usemultiplicity=undef
    useperlio=define d_sfio=undef uselargefiles=define usesocks=undef
    use64bitint=define use64bitall=define uselongdouble=undef
    usemymalloc=n, bincompat5005=undef
  Compiler:
    cc='cc', ccflags ='-DHAS_FPSETMASK -DHAS_FLOATINGPOINT_H -fno-strict-aliasing -pipe -I/usr/local/include',
    optimize='-O',
    cppflags='-DHAS_FPSETMASK -DHAS_FLOATINGPOINT_H -fno-strict-aliasing -pipe -I/usr/local/include'
    ccversion='', gccversion='4.2.1 20070831 patched [FreeBSD]', gccosandvers=''
    intsize=4, longsize=8, ptrsize=8, doublesize=8, byteorder=12345678
    d_longlong=define, longlongsize=8, d_longdbl=define, longdblsize=16
    ivtype='long', ivsize=8, nvtype='double', nvsize=8, Off_t='off_t', lseeksize=8
    alignbytes=8, prototype=define
  Linker and Libraries:
    ld='cc', ldflags ='-Wl,-E  -L/usr/local/lib'
    libpth=/usr/lib /usr/local/lib
    libs=-lgdbm -lm -lcrypt -lutil -lc
    perllibs=-lm -lcrypt -lutil -lc
    libc=, so=so, useshrplib=false, libperl=libperl.a
    gnulibc_version=''
  Dynamic Linking:
    dlsrc=dl_dlopen.xs, dlext=so, d_dlsymun=undef, ccdlflags=' '
    cccdlflags='-DPIC -fPIC', lddlflags='-shared  -L/usr/local/lib'


Characteristics of this binary (from libperl): 
  Compile-time options: PERL_MALLOC_WRAP USE_64_BIT_ALL USE_64_BIT_INT
                        USE_FAST_STDIO USE_LARGE_FILES USE_PERLIO
  Built under freebsd
  Compiled at May 15 2014 22:27:57
  %ENV:
    PERL5LIB=""
    PERL5OPT=""
    PERL5_CPANPLUS_IS_RUNNING="98057"
    PERL5_CPAN_IS_RUNNING="98057"
    PERL5_CPAN_IS_RUNNING_IN_RECURSION="97372,98057"
    PERLDOC="-MPod::Perldoc::ToTextOverstrike"
    PERL_BATCH="yes"
    PERL_CANARY_STABILITY_NOPROMPT="1"
    PERL_CPAN_REPORTER_CONFIG="/var/tmp/cpansmoker-1023/2019060401/cpanreporter_000_config.ini"
    PERL_EXTUTILS_AUTOINSTALL="--defaultdeps"
    PERL_USE_UNSAFE_INC="1"
  @INC:
    /usr/perl5.8.9/lib/5.8.9/amd64-freebsd
    /usr/perl5.8.9/lib/5.8.9
    /usr/perl5.8.9/lib/site_perl/5.8.9/amd64-freebsd
    /usr/perl5.8.9/lib/site_perl/5.8.9
    .