Back
From: metabase:user:31d414ea-2aae-11df-837a-5e0a49663a4f
Subject: PASS Catalyst-Plugin-Log4perl-Simple-0.005 v5.10.1 Mac OS X
Date: 2011-11-16T12:42:56Z
This distribution has been tested as part of the CPAN Testers
project, supporting the Perl programming language. See
http://wiki.cpantesters.org/ for more information or email
questions to cpan-testers-discuss@perl.org
--
Dear Peter Corlett,
This is a computer-generated report for Catalyst-Plugin-Log4perl-Simple-0.005
on perl 5.10.1, created by CPAN-Reporter-1.1902.
Thank you for uploading your work to CPAN. Congratulations!
All tests were successful.
Sections of this report:
* Tester comments
* Program output
* Prerequisites
* Environment and other context
------------------------------
TESTER COMMENTS
------------------------------
Additional comments from tester:
this report is from an automated smoke testing program
and was not reviewed by a human for accuracy
------------------------------
PROGRAM OUTPUT
------------------------------
Output from 'make test':
PERL_DL_NONLAZY=1 /Users/david/cpantesting/perl-5.10.1/bin/perl "-MExtUtils::Command::MM" "-e" "test_harness(0, 'blib/lib', 'blib/arch')" t/*.t
t/00-compile.t .................. ok
t/author-critic.t ............... skipped: these tests are for testing by the author
t/release-consistent-version.t .. skipped: these tests are for release candidate testing
t/release-cpan-changes.t ........ skipped: these tests are for release candidate testing
t/release-distmeta.t ............ skipped: these tests are for release candidate testing
t/release-eol.t ................. skipped: these tests are for release candidate testing
t/release-has-version.t ......... skipped: these tests are for release candidate testing
t/release-kwalitee.t ............ skipped: these tests are for release candidate testing
t/release-minimum-version.t ..... skipped: these tests are for release candidate testing
t/release-no-tabs.t ............. skipped: these tests are for release candidate testing
t/release-pod-coverage.t ........ skipped: these tests are for release candidate testing
t/release-pod-syntax.t .......... skipped: these tests are for release candidate testing
t/release-portability.t ......... skipped: these tests are for release candidate testing
t/release-synopsis.t ............ skipped: these tests are for release candidate testing
t/release-unused-vars.t ......... skipped: these tests are for release candidate testing
All tests successful.
Files=15, Tests=1, 3 wallclock secs ( 0.09 usr 0.06 sys + 0.96 cusr 0.16 csys = 1.27 CPU)
Result: PASS
------------------------------
PREREQUISITES
------------------------------
Prerequisite modules loaded:
requires:
Module Need Have
----------------------- ---- ------
List::Util 0 1.21
Log::Log4perl::Catalyst 0 0
Moose 0 2.0400
namespace::autoclean 0 0.13
build_requires:
Module Need Have
----------------------- ---- ------
English 0 1.04
File::Find 0 1.14
File::Temp 0 0.22
strict 0 1.04
Test::More 0 0.98
warnings 0 1.06
configure_requires:
Module Need Have
----------------------- ---- ------
ExtUtils::MakeMaker 6.30 6.62
------------------------------
ENVIRONMENT AND OTHER CONTEXT
------------------------------
Environment variables:
AUTOMATED_TESTING = 1
PATH = /usr/bin:/bin:/usr/sbin:/sbin
PERL5LIB =
PERL5OPT =
PERL5_CPANPLUS_IS_RUNNING = 53521
PERL5_CPAN_IS_RUNNING = 53521
PERLVER = 5.10.1
SHELL = /bin/bash
TERM = screen
Perl special variables (and OS-specific diagnostics, for MSWin32):
$^X = /Users/david/cpantesting/perl-5.10.1/bin/perl
$UID/$EUID = 501 / 501
$GID = 20 20 204 100 98 81 80 79 61 12 402 401
$EGID = 20 20 204 100 98 81 80 79 61 12 402 401
Perl module toolchain versions installed:
Module Have
------------------- --------
CPAN 1.9600
Cwd 3.30
ExtUtils::CBuilder 0.280202
ExtUtils::Command 1.16
ExtUtils::Install 1.54
ExtUtils::MakeMaker 6.62
ExtUtils::Manifest 1.58
ExtUtils::ParseXS 3.05
File::Spec 3.30
Module::Build 0.3800
Module::Signature n/a
Test::Harness 3.23
Test::More 0.98
YAML 0.77
YAML::Syck n/a
version 0.95
--
Summary of my perl5 (revision 5 version 10 subversion 1) configuration:
Platform:
osname=darwin, osvers=10.6.0, archname=darwin-thread-multi-2level
uname='darwin cowshed-door.barnyard.co.uk 10.6.0 darwin kernel version 10.6.0: wed nov 10 18:13:17 pst 2010; root:xnu-1504.9.26~3release_i386 i386 '
config_args='-de -Dprefix=/Users/david/cpantesting/perl-5.10.1 -Dusethreads'
hint=recommended, useposix=true, d_sigaction=define
useithreads=define, usemultiplicity=define
useperlio=define, d_sfio=undef, uselargefiles=define, usesocks=undef
use64bitint=undef, use64bitall=undef, uselongdouble=undef
usemymalloc=n, bincompat5005=undef
Compiler:
cc='cc', ccflags ='-fno-common -DPERL_DARWIN -no-cpp-precomp -fno-strict-aliasing -pipe -fstack-protector',
optimize='-O3',
cppflags='-no-cpp-precomp -fno-common -DPERL_DARWIN -no-cpp-precomp -fno-strict-aliasing -pipe -fstack-protector'
ccversion='', gccversion='4.2.1 (Apple Inc. build 5646)', gccosandvers=''
intsize=4, longsize=4, ptrsize=4, doublesize=8, byteorder=1234
d_longlong=define, longlongsize=8, d_longdbl=define, longdblsize=16
ivtype='long', ivsize=4, nvtype='double', nvsize=8, Off_t='off_t', lseeksize=8
alignbytes=8, prototype=define
Linker and Libraries:
ld='env MACOSX_DEPLOYMENT_TARGET=10.3 cc', ldflags =' -fstack-protector'
libpth=/usr/lib
libs=-ldbm -ldl -lm -lutil -lc
perllibs=-ldl -lm -lutil -lc
libc=/usr/lib/libc.dylib, so=dylib, useshrplib=false, libperl=libperl.a
gnulibc_version=''
Dynamic Linking:
dlsrc=dl_dlopen.xs, dlext=bundle, d_dlsymun=undef, ccdlflags=' '
cccdlflags=' ', lddlflags=' -bundle -undefined dynamic_lookup -fstack-protector'
Characteristics of this binary (from libperl):
Compile-time options: MULTIPLICITY PERL_DONT_CREATE_GVSV
PERL_IMPLICIT_CONTEXT PERL_MALLOC_WRAP USE_ITHREADS
USE_LARGE_FILES USE_PERLIO USE_REENTRANT_API
Built under darwin
Compiled at Apr 27 2011 13:16:11
%ENV:
PERL5LIB=""
PERL5OPT=""
PERL5_CPANPLUS_IS_RUNNING="53521"
PERL5_CPAN_IS_RUNNING="53521"
PERLVER="5.10.1"
@INC:
/Users/david/cpantesting/perl-5.10.1/lib/5.10.1/darwin-thread-multi-2level
/Users/david/cpantesting/perl-5.10.1/lib/5.10.1
/Users/david/cpantesting/perl-5.10.1/lib/site_perl/5.10.1/darwin-thread-multi-2level
/Users/david/cpantesting/perl-5.10.1/lib/site_perl/5.10.1
.