Back
From: metabase:user:314402c4-2aae-11df-837a-5e0a49663a4f
Subject: PASS Net-Social-Mapper-0.5 v5.8.1 GNU/Linux
Date: 2017-07-29T19:17:05Z
This distribution has been tested as part of the CPAN Testers
project, supporting the Perl programming language. See
http://wiki.cpantesters.org/ for more information or email
questions to cpan-testers-discuss@perl.org
--
Dear Simon Wistow,
This is a computer-generated report for Net-Social-Mapper-0.5
on perl 5.8.1, created by CPAN-Reporter-1.2018.
Thank you for uploading your work to CPAN. Congratulations!
All tests were successful.
Sections of this report:
* Tester comments
* Program output
* Prerequisites
* Environment and other context
------------------------------
TESTER COMMENTS
------------------------------
Additional comments from tester:
none provided
------------------------------
PROGRAM OUTPUT
------------------------------
Output from './Build test':
t/00use.t ............. ok
Useless use of a constant in void context at /opt/perl-5.8.1/lib/site_perl/5.8.1/Net/DNS/Domain.pm line 264.
Useless use of a constant in void context at /opt/perl-5.8.1/lib/site_perl/5.8.1/Net/DNS/Domain.pm line 286.
t/01website.t ......... ok
Useless use of a constant in void context at /opt/perl-5.8.1/lib/site_perl/5.8.1/Net/DNS/Domain.pm line 264.
Useless use of a constant in void context at /opt/perl-5.8.1/lib/site_perl/5.8.1/Net/DNS/Domain.pm line 286.
t/01website_feed.t .... ok
t/02sitemap.t ......... ok
Useless use of a constant in void context at /opt/perl-5.8.1/lib/site_perl/5.8.1/Net/DNS/Domain.pm line 264.
Useless use of a constant in void context at /opt/perl-5.8.1/lib/site_perl/5.8.1/Net/DNS/Domain.pm line 286.
t/03generic.t ......... ok
t/04flickr.t .......... ok
Useless use of a constant in void context at /opt/perl-5.8.1/lib/site_perl/5.8.1/Net/DNS/Domain.pm line 264.
Useless use of a constant in void context at /opt/perl-5.8.1/lib/site_perl/5.8.1/Net/DNS/Domain.pm line 286.
t/05email.t ........... ok
Useless use of a constant in void context at /opt/perl-5.8.1/lib/site_perl/5.8.1/Net/DNS/Domain.pm line 264.
Useless use of a constant in void context at /opt/perl-5.8.1/lib/site_perl/5.8.1/Net/DNS/Domain.pm line 286.
t/06url_to_service.t .. ok
Useless use of a constant in void context at /opt/perl-5.8.1/lib/site_perl/5.8.1/Net/DNS/Domain.pm line 264.
Useless use of a constant in void context at /opt/perl-5.8.1/lib/site_perl/5.8.1/Net/DNS/Domain.pm line 286.
t/07url_to_persona.t .. ok
Useless use of a constant in void context at /opt/perl-5.8.1/lib/site_perl/5.8.1/Net/DNS/Domain.pm line 264.
Useless use of a constant in void context at /opt/perl-5.8.1/lib/site_perl/5.8.1/Net/DNS/Domain.pm line 286.
t/08elsewhere.t ....... ok
Useless use of a constant in void context at /opt/perl-5.8.1/lib/site_perl/5.8.1/Net/DNS/Domain.pm line 264.
Useless use of a constant in void context at /opt/perl-5.8.1/lib/site_perl/5.8.1/Net/DNS/Domain.pm line 286.
t/09aliases.t ......... ok
Useless use of a constant in void context at /opt/perl-5.8.1/lib/site_perl/5.8.1/Net/DNS/Domain.pm line 264.
Useless use of a constant in void context at /opt/perl-5.8.1/lib/site_perl/5.8.1/Net/DNS/Domain.pm line 286.
t/10find_feeds.t ...... ok
Useless use of a constant in void context at /opt/perl-5.8.1/lib/site_perl/5.8.1/Net/DNS/Domain.pm line 264.
Useless use of a constant in void context at /opt/perl-5.8.1/lib/site_perl/5.8.1/Net/DNS/Domain.pm line 286.
t/11expand.t .......... ok
t/12myspace.t ......... ok
t/pod-coverage.t ...... skipped: Test::Pod::Coverage 1.04 required for testing POD coverage
t/pod.t ............... skipped: Test::Pod 1.14 required for testing POD
All tests successful.
Files=16, Tests=155, 12 wallclock secs ( 0.04 usr 0.10 sys + 1.26 cusr 0.48 csys = 1.88 CPU)
Result: PASS
------------------------------
PREREQUISITES
------------------------------
Prerequisite modules loaded:
requires:
Module Need Have
-------------- ---- --------
Email::Address 0 1.908
Email::Valid 0 1.202
Feed::Find 0 0.07
JSON::Any 0 1.39
LWP::UserAgent 0 6.15
Test::More 0 1.302056
URI 0 1.71
configure_requires:
Module Need Have
-------------- ---- --------
Module::Build 0.36 0.4218
------------------------------
ENVIRONMENT AND OTHER CONTEXT
------------------------------
Environment variables:
LANG = C
PATH = /usr/local/bin:/usr/bin:/bin:/usr/local/sbin:/usr/sbin:/sbin:/home/cpansand/bin/linux-gnu:/home/cpansand/bin/sh:/home/cpansand/bin:/usr/games:/home/cpansand/devel:/home/eserte/src/srezic-misc/scripts
PERL5LIB = /home/cpansand/.cpan/build/2017072918/JSON-Any-1.39-YdlD2R/blib/arch:/home/cpansand/.cpan/build/2017072918/JSON-Any-1.39-YdlD2R/blib/lib:/home/cpansand/.cpan/build/2017072918/Feed-Find-0.07-tpubQF/blib/arch:/home/cpansand/.cpan/build/2017072918/Feed-Find-0.07-tpubQF/blib/lib:/home/cpansand/.cpan/build/2017072918/Class-ErrorHandler-0.04-tsIymK/blib/arch:/home/cpansand/.cpan/build/2017072918/Class-ErrorHandler-0.04-tsIymK/blib/lib:/home/cpansand/.cpan/build/2017072918/Email-Valid-1.202-QN67W4/blib/arch:/home/cpansand/.cpan/build/2017072918/Email-Valid-1.202-QN67W4/blib/lib:/home/cpansand/.cpan/build/2017072918/Email-Address-1.908-okSb9y/blib/arch:/home/cpansand/.cpan/build/2017072918/Email-Address-1.908-okSb9y/blib/lib
PERL5OPT =
PERL5_CPANPLUS_IS_RUNNING = 18132
PERL5_CPAN_IS_RUNNING = 18132
PERL5_CPAN_IS_RUNNING_IN_RECURSION = 18108,18132
PERLDOC = -MPod::Perldoc::ToTextOverstrike
PERL_BATCH = yes
PERL_CANARY_STABILITY_NOPROMPT = 1
PERL_CPAN_REPORTER_CONFIG = /var/tmp/cpansmoker-1023/2017072918/cpanreporter_002_config.ini
PERL_EXTUTILS_AUTOINSTALL = --defaultdeps
SHELL = /bin/zsh
TERM = screen
TMPDIR = /var/tmp/cpansmoker-1023/2017072918
Perl special variables (and OS-specific diagnostics, for MSWin32):
$^X = /bbbike/perl-5.8.1/bin/perl
$UID/$EUID = 1023 / 1023
$GID = 1023 1023
$EGID = 1023 1023
Perl module toolchain versions installed:
Module Have
------------------- --------
CPAN 2.10
CPAN::Meta 2.143240
Cwd 3.62
ExtUtils::CBuilder 0.280224
ExtUtils::Command 7.16
ExtUtils::Install 1.54
ExtUtils::MakeMaker 7.16
ExtUtils::Manifest 1.70
ExtUtils::ParseXS 3.30
File::Spec 3.62
JSON 2.90
JSON::PP 2.27400
Module::Build 0.4218
Module::Signature n/a
Parse::CPAN::Meta 1.4422
Test::Harness 3.36
Test::More 1.302056
YAML 1.15
YAML::Syck 1.29
version 0.9916
--
Summary of my perl5 (revision 5.0 version 8 subversion 1) configuration:
Platform:
osname=linux, osvers=3.16.0-4-amd64, archname=x86_64-linux
uname='linux eserte 3.16.0-4-amd64 #1 smp debian 3.16.7-ckt25-2 (2016-04-08) x86_64 gnulinux '
config_args='-ds -e -Dprefix=/opt/perl-5.8.1 -Dcf_email=srezic@cpan.org'
hint=recommended, useposix=true, d_sigaction=define
usethreads=undef use5005threads=undef useithreads=undef usemultiplicity=undef
useperlio=define d_sfio=undef uselargefiles=define usesocks=undef
use64bitint=define use64bitall=define uselongdouble=undef
usemymalloc=n, bincompat5005=undef
Compiler:
cc='cc', ccflags ='-fno-strict-aliasing -I/usr/local/include -D_LARGEFILE_SOURCE -D_FILE_OFFSET_BITS=64',
optimize='-O2',
cppflags='-fno-strict-aliasing -I/usr/local/include'
ccversion='', gccversion='4.9.2', gccosandvers=''
intsize=4, longsize=8, ptrsize=8, doublesize=8, byteorder=12345678
d_longlong=define, longlongsize=8, d_longdbl=define, longdblsize=16
ivtype='long', ivsize=8, nvtype='double', nvsize=8, Off_t='off_t', lseeksize=8
alignbytes=8, prototype=define
Linker and Libraries:
ld='cc', ldflags =' -L/usr/local/lib'
libpth=/usr/local/lib /lib/x86_64-linux-gnu /lib/../lib /usr/lib/x86_64-linux-gnu /usr/lib/../lib /lib /usr/lib
libs=-lnsl -lgdbm -ldb -ldl -lm -lcrypt -lutil -lc -lgdbm_compat
perllibs=-lnsl -ldl -lm -lcrypt -lutil -lc -lgdbm_compat
libc=libc-2.19.so, so=so, useshrplib=false, libperl=libperl.a
gnulibc_version='2.19'
Dynamic Linking:
dlsrc=dl_dlopen.xs, dlext=so, d_dlsymun=undef, ccdlflags='-rdynamic'
cccdlflags='-fpic', lddlflags='-shared -L/usr/local/lib'
Characteristics of this binary (from libperl):
Compile-time options: USE_64_BIT_INT USE_64_BIT_ALL USE_LARGE_FILES
Locally applied patches:
Devel::PatchPerl 1.42
Built under linux
Compiled at May 8 2016 18:17:48
%ENV:
PERL5LIB="/home/cpansand/.cpan/build/2017072918/JSON-Any-1.39-YdlD2R/blib/arch:/home/cpansand/.cpan/build/2017072918/JSON-Any-1.39-YdlD2R/blib/lib:/home/cpansand/.cpan/build/2017072918/Feed-Find-0.07-tpubQF/blib/arch:/home/cpansand/.cpan/build/2017072918/Feed-Find-0.07-tpubQF/blib/lib:/home/cpansand/.cpan/build/2017072918/Class-ErrorHandler-0.04-tsIymK/blib/arch:/home/cpansand/.cpan/build/2017072918/Class-ErrorHandler-0.04-tsIymK/blib/lib:/home/cpansand/.cpan/build/2017072918/Email-Valid-1.202-QN67W4/blib/arch:/home/cpansand/.cpan/build/2017072918/Email-Valid-1.202-QN67W4/blib/lib:/home/cpansand/.cpan/build/2017072918/Email-Address-1.908-okSb9y/blib/arch:/home/cpansand/.cpan/build/2017072918/Email-Address-1.908-okSb9y/blib/lib"
PERL5OPT=""
PERL5_CPANPLUS_IS_RUNNING="18132"
PERL5_CPAN_IS_RUNNING="18132"
PERL5_CPAN_IS_RUNNING_IN_RECURSION="18108,18132"
PERLDOC="-MPod::Perldoc::ToTextOverstrike"
PERL_BATCH="yes"
PERL_CANARY_STABILITY_NOPROMPT="1"
PERL_CPAN_REPORTER_CONFIG="/var/tmp/cpansmoker-1023/2017072918/cpanreporter_002_config.ini"
PERL_EXTUTILS_AUTOINSTALL="--defaultdeps"
@INC:
/home/cpansand/.cpan/build/2017072918/JSON-Any-1.39-YdlD2R/blib/arch
/home/cpansand/.cpan/build/2017072918/JSON-Any-1.39-YdlD2R/blib/lib
/home/cpansand/.cpan/build/2017072918/Feed-Find-0.07-tpubQF/blib/arch
/home/cpansand/.cpan/build/2017072918/Feed-Find-0.07-tpubQF/blib/lib
/home/cpansand/.cpan/build/2017072918/Class-ErrorHandler-0.04-tsIymK/blib/arch
/home/cpansand/.cpan/build/2017072918/Class-ErrorHandler-0.04-tsIymK/blib/lib
/home/cpansand/.cpan/build/2017072918/Email-Valid-1.202-QN67W4/blib/arch
/home/cpansand/.cpan/build/2017072918/Email-Valid-1.202-QN67W4/blib/lib
/home/cpansand/.cpan/build/2017072918/Email-Address-1.908-okSb9y/blib/arch
/home/cpansand/.cpan/build/2017072918/Email-Address-1.908-okSb9y/blib/lib
/opt/perl-5.8.1/lib/5.8.1/x86_64-linux
/opt/perl-5.8.1/lib/5.8.1
/opt/perl-5.8.1/lib/site_perl/5.8.1/x86_64-linux
/opt/perl-5.8.1/lib/site_perl/5.8.1
/opt/perl-5.8.1/lib/site_perl
.