Report for Dist-Zilla-Plugin-Version-Git-Flowish-0.09

Back
From: metabase:user:323dcade-2aae-11df-837a-5e0a49663a4f
Subject: PASS Dist-Zilla-Plugin-Version-Git-Flowish-0.09 v5.19.2 GNU/Linux
Date: 2013-07-25T03:37:18Z

This distribution has been tested as part of the CPAN Testers
project, supporting the Perl programming language.  See
http://wiki.cpantesters.org/ for more information or email
questions to cpan-testers-discuss@perl.org


--
Dear Cory G Watson,

This is a computer-generated report for Dist-Zilla-Plugin-Version-Git-Flowish-0.09
on perl 5.19.2, created by CPAN-Reporter-1.2010.

Thank you for uploading your work to CPAN.  Congratulations!
All tests were successful.

Sections of this report:

    * Tester comments
    * Program output
    * Prerequisites
    * Environment and other context

------------------------------
TESTER COMMENTS
------------------------------

Additional comments from tester:

this report is from an automated smoke testing program
and was not reviewed by a human for accuracy

------------------------------
PROGRAM OUTPUT
------------------------------

Output from '/usr/bin/make test':

PERL_DL_NONLAZY=1 /usr/local/bin/perl5.19.2d-nt@04227691 "-MExtUtils::Command::MM" "-e" "test_harness(0, 'blib/lib', 'blib/arch')" t/*.t
t/release-pod-syntax.t .. skipped: these tests are for release candidate testing
t/release-synopsis.t .... skipped: these tests are for release candidate testing
given is experimental at /home/rurban/.cpan/build/Dist-Zilla-Plugin-Version-Git-Flowish-0.09-p11_mP/blib/lib/Dist/Zilla/Plugin/Version/Git/Flowish.pm line 59.
when is experimental at /home/rurban/.cpan/build/Dist-Zilla-Plugin-Version-Git-Flowish-0.09-p11_mP/blib/lib/Dist/Zilla/Plugin/Version/Git/Flowish.pm line 61.
when is experimental at /home/rurban/.cpan/build/Dist-Zilla-Plugin-Version-Git-Flowish-0.09-p11_mP/blib/lib/Dist/Zilla/Plugin/Version/Git/Flowish.pm line 69.
Smartmatch is experimental at (eval 253) line 7.
Smartmatch is experimental at (eval 253) line 14.
Smartmatch is experimental at (eval 255) line 7.
Smartmatch is experimental at (eval 255) line 14.
Smartmatch is experimental at (eval 257) line 7.
Smartmatch is experimental at (eval 257) line 14.
Smartmatch is experimental at (eval 259) line 10.
Smartmatch is experimental at (eval 259) line 20.
t/simple.t .............. ok
All tests successful.
Files=3, Tests=1,  0 wallclock secs ( 0.04 usr  0.00 sys +  0.61 cusr  0.01 csys =  0.66 CPU)
Result: PASS

------------------------------
PREREQUISITES
------------------------------

Prerequisite modules loaded:

requires:

    Module                             Need Have    
    ---------------------------------- ---- --------
    Dist::Zilla::Role::VersionProvider 0    4.300035
    Moose                              0    2.0802  

build_requires:

    Module                             Need Have    
    ---------------------------------- ---- --------
    strict                             0    1.08    
    Test::More                         0    0.98    
    warnings                           0    1.18    

configure_requires:

    Module                             Need Have    
    ---------------------------------- ---- --------
    ExtUtils::MakeMaker                6.30 6.68    


------------------------------
ENVIRONMENT AND OTHER CONTEXT
------------------------------

Environment variables:

    AUTOMATED_TESTING = 1
    LANG = en_US.UTF-8
    PATH = /usr/local/cpanel/3rdparty/perl/514/bin:/usr/local/cpanel/3rdparty/bin:/usr/local/cpanel/3rdparty/perl/514/bin:/usr/local/cpanel/3rdparty/bin:/usr/kerberos/bin:/usr/local/bin:/bin:/usr/bin:/home/rurban/bin
    PERL5LIB = 
    PERL5OPT = 
    PERL5_CPANPLUS_IS_RUNNING = 13332
    PERL5_CPAN_IS_RUNNING = 13332
    PERL_EXTUTILS_AUTOINSTALL = --defaultdeps
    PERL_MM_USE_DEFAULT = 1
    SHELL = /bin/bash
    TERM = screen

Perl special variables (and OS-specific diagnostics, for MSWin32):

    $^X = /usr/local/bin/perl5.19.2d-nt@04227691
    $UID/$EUID = 32010 / 32010
    $GID = 32011 10 32011
    $EGID = 32011 10 32011

Perl module toolchain versions installed:

    Module              Have    
    ------------------- --------
    CPAN                2.00    
    CPAN::Meta          2.131560
    Cwd                 3.41    
    ExtUtils::CBuilder  0.280210
    ExtUtils::Command   1.17    
    ExtUtils::Install   1.60    
    ExtUtils::MakeMaker 6.68    
    ExtUtils::Manifest  1.63    
    ExtUtils::ParseXS   3.21    
    File::Spec          3.41    
    JSON                2.59    
    JSON::PP            2.27202 
    Module::Build       0.4007  
    Module::Signature   0.70    
    Parse::CPAN::Meta   1.4405  
    Test::Harness       3.28    
    Test::More          0.98    
    YAML                0.84    
    YAML::Syck          1.27    
    version             0.9902  


--

Summary of my perl5 (revision 5 version 19 subversion 2) configuration:
  Commit id: 0422769178bf93e09b8acd634c901450bc9eac02
  Platform:
    osname=linux, osvers=2.6.18-348.4.1.el5pae, archname=i686-linux-debug@04227691
    uname='linux rurban.dev.cpanel.net 2.6.18-348.4.1.el5pae #1 smp tue apr 16 16:45:40 edt 2013 i686 i686 i386 gnulinux '
    config_args='-de -Dusedevel -Uversiononly -Dinstallman1dir=none -Dinstallman3dir=none -Dinstallsiteman1dir=none -Dinstallsiteman3dir=none -DEBUGGING -Doptimize=-g3 -Uuseithreads -Dcc='gcc' -Dpager='/usr/bin/less\ -isr' -Dperladmin='root@localhost' -Duseshrplib'
    hint=recommended, useposix=true, d_sigaction=define
    useithreads=undef, usemultiplicity=undef
    useperlio=define, d_sfio=undef, uselargefiles=define, usesocks=undef
    use64bitint=undef, use64bitall=undef, uselongdouble=undef
    usemymalloc=n, bincompat5005=undef
  Compiler:
    cc='gcc', ccflags ='-DDEBUGGING -fno-strict-aliasing -pipe -fstack-protector -I/usr/local/include -D_LARGEFILE_SOURCE -D_FILE_OFFSET_BITS=64',
    optimize='-g3',
    cppflags='-DDEBUGGING -fno-strict-aliasing -pipe -fstack-protector -I/usr/local/include'
    ccversion='', gccversion='4.1.2 20080704 (Red Hat 4.1.2-54)', gccosandvers=''
    intsize=4, longsize=4, ptrsize=4, doublesize=8, byteorder=1234
    d_longlong=define, longlongsize=8, d_longdbl=define, longdblsize=12
    ivtype='long', ivsize=4, nvtype='double', nvsize=8, Off_t='off_t', lseeksize=8
    alignbytes=4, prototype=define
  Linker and Libraries:
    ld='gcc', ldflags =' -fstack-protector -L/usr/local/lib'
    libpth=/usr/local/lib /lib /usr/lib
    libs=-lnsl -lgdbm -ldb -ldl -lm -lcrypt -lutil -lc
    perllibs=-lnsl -ldl -lm -lcrypt -lutil -lc
    libc=/lib/libc-2.5.so, so=so, useshrplib=true, libperl=libperl.so
    gnulibc_version='2.5'
  Dynamic Linking:
    dlsrc=dl_dlopen.xs, dlext=so, d_dlsymun=undef, ccdlflags='-Wl,-E -Wl,-rpath,/usr/local/lib/perl5/5.19.2/i686-linux-debug@04227691/CORE'
    cccdlflags='-fPIC', lddlflags='-shared -g3 -L/usr/local/lib -fstack-protector'


Characteristics of this binary (from libperl): 
  Compile-time options: DEBUGGING HAS_TIMES PERLIO_LAYERS
                        PERL_DONT_CREATE_GVSV
                        PERL_HASH_FUNC_ONE_AT_A_TIME_HARD PERL_MALLOC_WRAP
                        PERL_NEW_COPY_ON_WRITE PERL_PRESERVE_IVUV
                        PERL_USE_DEVEL USE_LARGE_FILES USE_LOCALE
                        USE_LOCALE_COLLATE USE_LOCALE_CTYPE
                        USE_LOCALE_NUMERIC USE_PERLIO USE_PERL_ATOF
  Built under linux
  Compiled at Jul 23 2013 17:10:42
  %ENV:
    PERL5LIB=""
    PERL5OPT=""
    PERL5_CPANPLUS_IS_RUNNING="13332"
    PERL5_CPAN_IS_RUNNING="13332"
    PERL_EXTUTILS_AUTOINSTALL="--defaultdeps"
    PERL_MM_USE_DEFAULT="1"
  @INC:
    /usr/local/lib/perl5/site_perl/5.19.2/i686-linux-debug@04227691
    /usr/local/lib/perl5/site_perl/5.19.2
    /usr/local/lib/perl5/5.19.2/i686-linux-debug@04227691
    /usr/local/lib/perl5/5.19.2
    /usr/local/lib/perl5/site_perl/5.14.3
    /usr/local/lib/perl5/site_perl/5.6.2
    /usr/local/lib/perl5/site_perl
    .