Back
From: metabase:user:68a9c4ac-1ec7-11e0-bf29-9c4bfeb2ac3f
Subject: PASS Test-Ika-0.03 v5.10.1 Windows (Cygwin)
Date: 2012-11-22T19:47:54Z
This distribution has been tested as part of the CPAN Testers
project, supporting the Perl programming language. See
http://wiki.cpantesters.org/ for more information or email
questions to cpan-testers-discuss@perl.org
--
Dear Tokuhiro Matsuno,
This is a computer-generated report for Test-Ika-0.03
on perl 5.10.1, created by CPAN-Reporter-1.2006.
Thank you for uploading your work to CPAN. Congratulations!
All tests were successful.
Sections of this report:
* Tester comments
* Program output
* Prerequisites
* Environment and other context
------------------------------
TESTER COMMENTS
------------------------------
Additional comments from tester:
this report is from an automated smoke testing program
and was not reviewed by a human for accuracy
------------------------------
PROGRAM OUTPUT
------------------------------
Output from './Build test':
t/00_compile.t ..................... ok
t/01_reporters.t ................... ok
t/02_hooks.t ....................... ok
t/03_Reporter-Test.t ............... ok
t/04_hooks2.t ...................... ok
t/05_suite_hooks.t ................. ok
t/06_suite_hooks_at_last.t ......... ok
t/07_suite_hooks_inner_describe.t .. ok
t/08_xit.t ......................... ok
All tests successful.
Files=9, Tests=19, 8 wallclock secs ( 0.05 usr 0.04 sys + 1.13 cusr 0.74 csys = 1.96 CPU)
Result: PASS
------------------------------
PREREQUISITES
------------------------------
Prerequisite modules loaded:
requires:
Module Need Have
-------------------- -------- --------
Exporter 0 5.63
Module::Load 0 0.16
parent 0 0.221
perl 5.010001 5.010001
Scope::Guard 0 0.20
Term::Encoding 0 0.02
Test::More 0.98 0.98
Test::Name::FromLine 0.06 0.08
Try::Tiny 0 0.11
build_requires:
Module Need Have
-------------------- -------- --------
Test::More 0.98 0.98
Test::Requires 0 0.06
configure_requires:
Module Need Have
-------------------- -------- --------
Module::Build 0.38 0.4003
------------------------------
ENVIRONMENT AND OTHER CONTEXT
------------------------------
Environment variables:
AUTOMATED_TESTING = 1
COMSPEC = C:\WINDOWS\system32\cmd.exe
LANG = en_US.UTF-8
NUMBER_OF_PROCESSORS = 1
PATH = /usr/local/bin:/usr/bin:/cygdrive/c/Program Files/ImageMagick-6.8.0-Q16:/cygdrive/c/WINDOWS/system32:/cygdrive/c/WINDOWS:/cygdrive/c/WINDOWS/System32/Wbem:/cygdrive/c/strawberry/c/bin:/cygdrive/c/strawberry/perl/site/bin:/cygdrive/c/strawberry/perl/bin:/cygdrive/c/WINDOWS/system32/WindowsPowerShell/v1.0:/cygdrive/c/progra~1/notepa~1
PERL5LIB = /home/Archibald/.cpan/build/Term-Encoding-0.02-ILf6PQ/blib/arch:/home/Archibald/.cpan/build/Term-Encoding-0.02-ILf6PQ/blib/lib:/home/Archibald/.cpan/build/Test-Name-FromLine-0.08-LZAEmL/blib/arch:/home/Archibald/.cpan/build/Test-Name-FromLine-0.08-LZAEmL/blib/lib
PERL5OPT =
PERL5_CPANPLUS_IS_RUNNING = 1912
PERL5_CPAN_IS_RUNNING = 1912
PERL5_CPAN_IS_RUNNING_IN_RECURSION = 4084,1912
PERL_CR_SMOKER_CURRENT = Test-Ika-0.03
PERL_EXTUTILS_AUTOINSTALL = --defaultdeps
PERL_JSON_BACKEND = JSON::XS
PERL_MM_USE_DEFAULT = 1
PERL_YAML_BACKEND = YAML
PROCESSOR_IDENTIFIER = x86 Family 6 Model 42 Stepping 7, GenuineIntel
SHELL = /bin/bash
TEMP = /tmp
TERM = xterm
Perl special variables (and OS-specific diagnostics, for MSWin32):
$^X = /usr/bin/perl
$UID/$EUID = 1007 / 1007
$GID = 513 544 545 513
$EGID = 513 544 545 513
Perl module toolchain versions installed:
Module Have
------------------- --------
CPAN 1.9800
CPAN::Meta 2.120351
Cwd 3.30
ExtUtils::CBuilder 0.2702
ExtUtils::Command 1.16_01
ExtUtils::Install 1.54
ExtUtils::MakeMaker 6.62
ExtUtils::Manifest 1.58
ExtUtils::ParseXS 2.2206
File::Spec 3.3001
JSON 2.53
JSON::PP 2.27200
Module::Build 0.4003
Module::Signature 0.61
Parse::CPAN::Meta 1.4402
Test::Harness 3.23
Test::More 0.98
YAML 0.80
YAML::Syck 1.19
version 0.96
--
Summary of my perl5 (revision 5 version 10 subversion 1) configuration:
Platform:
osname=cygwin, osvers=1.7.5(0.22553), archname=i686-cygwin-thread-multi-64int
uname='cygwin_nt-5.1 reini 1.7.5(0.22553) 2010-04-12 19:07 i686 cygwin '
config_args='-de -Dlibperl=cygperl5_10.dll -Dcc=gcc-4 -Dld=g++-4 -Dmksymlinks -Dusethreads -Dmad=y -Doptimize=-O3 -Accflags=-g3'
hint=recommended, useposix=true, d_sigaction=define
useithreads=define, usemultiplicity=define
useperlio=define, d_sfio=undef, uselargefiles=define, usesocks=undef
use64bitint=define, use64bitall=undef, uselongdouble=undef
usemymalloc=y, bincompat5005=undef
Compiler:
cc='gcc-4', ccflags ='-DPERL_USE_SAFE_PUTENV -U__STRICT_ANSI__ -g3 -fno-strict-aliasing -pipe -fstack-protector -I/usr/local/include',
optimize='-O3',
cppflags='-DPERL_USE_SAFE_PUTENV -U__STRICT_ANSI__ -g3 -fno-strict-aliasing -pipe -fstack-protector -I/usr/local/include'
ccversion='', gccversion='4.3.4 20090804 (release) 1', gccosandvers=''
intsize=4, longsize=4, ptrsize=4, doublesize=8, byteorder=12345678
d_longlong=define, longlongsize=8, d_longdbl=define, longdblsize=12
ivtype='long long', ivsize=8, nvtype='double', nvsize=8, Off_t='off_t', lseeksize=8
alignbytes=8, prototype=define
Linker and Libraries:
ld='g++-4', ldflags =' -Wl,--enable-auto-import -Wl,--export-all-symbols -Wl,--stack,8388608 -Wl,--enable-auto-image-base -fstack-protector -L/usr/local/lib'
libpth=/usr/local/lib /usr/lib /lib
libs=-lgdbm -ldb -ldl -lcrypt -lgdbm_compat
perllibs=-ldl -lcrypt
libc=/usr/lib/libc.a, so=dll, useshrplib=true, libperl=cygperl5_10.dll
gnulibc_version=''
Dynamic Linking:
dlsrc=dl_dlopen.xs, dlext=dll, d_dlsymun=undef, ccdlflags=' '
cccdlflags=' ', lddlflags=' --shared -Wl,--enable-auto-import -Wl,--export-all-symbols -Wl,--stack,8388608 -Wl,--enable-auto-image-base -L/usr/local/lib -fstack-protector'
Characteristics of this binary (from libperl):
Compile-time options: MULTIPLICITY MYMALLOC PERL_DONT_CREATE_GVSV
PERL_IMPLICIT_CONTEXT PERL_MAD PERL_USE_SAFE_PUTENV
USE_64_BIT_INT USE_ITHREADS USE_LARGE_FILES
USE_PERLIO USE_REENTRANT_API
Locally applied patches:
CYG11 no-bs
CYG12 no archlib in otherlibdirs
CYG14 Dynaloader
CYG15 static-Win32CORE
CYG17 utf8-paths
CYG21 LibList-Kid.patch
CYG22 cygwin-1.7 hints
CYG23 544-stat
CYG24 build man pages
CYG25 rebase_privlib
Module-Build-0.36_13
Bug#55162 CYG18 File::Spec::case_tolerant performance
disable ExtUtils::MakeMaker::Coverage in Sys-Syslog
Built under cygwin
Compiled at Aug 28 2010 20:17:29
%ENV:
PERL5LIB="/home/Archibald/.cpan/build/Term-Encoding-0.02-ILf6PQ/blib/arch:/home/Archibald/.cpan/build/Term-Encoding-0.02-ILf6PQ/blib/lib:/home/Archibald/.cpan/build/Test-Name-FromLine-0.08-LZAEmL/blib/arch:/home/Archibald/.cpan/build/Test-Name-FromLine-0.08-LZAEmL/blib/lib"
PERL5OPT=""
PERL5_CPANPLUS_IS_RUNNING="1912"
PERL5_CPAN_IS_RUNNING="1912"
PERL5_CPAN_IS_RUNNING_IN_RECURSION="4084,1912"
PERL_CR_SMOKER_CURRENT="Test-Ika-0.03"
PERL_EXTUTILS_AUTOINSTALL="--defaultdeps"
PERL_JSON_BACKEND="JSON::XS"
PERL_MM_USE_DEFAULT="1"
PERL_YAML_BACKEND="YAML"
CYGWIN=""
@INC:
/home/Archibald/.cpan/build/Term-Encoding-0.02-ILf6PQ/blib/arch
/home/Archibald/.cpan/build/Term-Encoding-0.02-ILf6PQ/blib/lib
/home/Archibald/.cpan/build/Test-Name-FromLine-0.08-LZAEmL/blib/arch
/home/Archibald/.cpan/build/Test-Name-FromLine-0.08-LZAEmL/blib/lib
/usr/lib/perl5/5.10/i686-cygwin
/usr/lib/perl5/5.10
/usr/lib/perl5/site_perl/5.10/i686-cygwin
/usr/lib/perl5/site_perl/5.10
/usr/lib/perl5/vendor_perl/5.10/i686-cygwin
/usr/lib/perl5/vendor_perl/5.10
/usr/lib/perl5/vendor_perl/5.10
/usr/lib/perl5/site_perl/5.8
/usr/lib/perl5/vendor_perl/5.8
.