Crypt-OpenSSL-RSA v0.30 Perl 5 v5.20.3 OpenBSD.amd64-openbsd-thread-multi-ld
- Status
- Pass
- From
- Nigel Horne
- Dist
-
Crypt-OpenSSL-RSA v0.30
- Platform
- Perl 5 v5.20.3 OpenBSD.amd64-openbsd-thread-multi-ld
- Date
- 2018-05-26 00:34:10
- ID
- 8213498c-607c-11e8-8fb1-ef5133556b3f
This distribution has been tested as part of the CPAN Testers
project, supporting the Perl programming language. See
http://wiki.cpantesters.org/ for more information or email
questions to cpan-testers-discuss@perl.org
--
Dear Todd Rinaldo,
This is a computer-generated report for Crypt-OpenSSL-RSA-0.30
on perl 5.20.3, created by CPAN-Reporter-1.2018.
Thank you for uploading your work to CPAN. Congratulations!
All tests were successful.
Sections of this report:
* Tester comments
* Program output
* Prerequisites
* Environment and other context
------------------------------
TESTER COMMENTS
------------------------------
Additional comments from tester:
this report is from an automated smoke testing program
and was not reviewed by a human for accuracy
------------------------------
PROGRAM OUTPUT
------------------------------
Output from '/usr/bin/make test':
Running Mkbootstrap for Crypt::OpenSSL::RSA ()
chmod 644 RSA.bs
PERL_DL_NONLAZY=1 /home/njh/perl5/perlbrew/perls/perl-5.20.3-thread-multi-ld/bin/perl5.20.3 "-MExtUtils::Command::MM" "-MTest::Harness" "-e" "undef *Test::Harness::Switches; test_harness(0, 'blib/lib', 'blib/arch')" t/*.t
t/bignum.t .................. skipped: Crypt::OpenSSL::Bignum required for bignum tests
t/format.t .................. ok
t/rsa.t ..................... ok
t/z_kwalitee.t .............. skipped: This test is only run for the module author
t/z_meta.t .................. skipped: This test is only run for the module author
t/z_perl_minimum_version.t .. skipped: Author tests not required for installation
t/z_pod-coverage.t .......... skipped: This test is only run for the module author
t/z_pod.t ................... skipped: This test is only run for the module author
All tests successful.
Files=8, Tests=73, 6 wallclock secs ( 0.19 usr 0.16 sys + 2.84 cusr 0.84 csys = 4.03 CPU)
Result: PASS
------------------------------
PREREQUISITES
------------------------------
Prerequisite modules loaded:
requires:
Module Need Have
---------------------- ----- --------
Crypt::OpenSSL::Random 0 0.15
perl 5.006 5.020003
Test::More 0 1.302130
build_requires:
Module Need Have
---------------------- ----- --------
ExtUtils::MakeMaker 0 6.98
configure_requires:
Module Need Have
---------------------- ----- --------
Crypt::OpenSSL::Guess 0.11 0.11
ExtUtils::MakeMaker 0 6.98
------------------------------
ENVIRONMENT AND OTHER CONTEXT
------------------------------
Environment variables:
AUTOMATED_TESTING = 1
PATH = /home/njh/perl5/perlbrew/bin:/home/njh/perl5/perlbrew/perls/perl-5.20.3-thread-multi-ld/bin:src/njh/smoker/bin:/usr/bin:/bin:/usr/sbin:/sbin:/usr/X11R6/bin:/usr/local/bin:/usr/local/sbin
PERL5LIB = /tmp/build/Crypt-OpenSSL-Random-0.15-0/blib/arch:/tmp/build/Crypt-OpenSSL-Random-0.15-0/blib/lib:/tmp/build/Crypt-OpenSSL-Guess-0.11-0/blib/arch:/tmp/build/Crypt-OpenSSL-Guess-0.11-0/blib/lib
PERL5OPT =
PERL5_CPANPLUS_IS_RUNNING = 97703
PERL5_CPAN_IS_RUNNING = 97703
PERLBREW_HOME = /home/njh/.perlbrew
PERLBREW_MANPATH = /home/njh/perl5/perlbrew/perls/perl-5.20.3-thread-multi-ld/man
PERLBREW_PATH = /home/njh/perl5/perlbrew/bin:/home/njh/perl5/perlbrew/perls/perl-5.20.3-thread-multi-ld/bin
PERLBREW_PERL = perl-5.20.3-thread-multi-ld
PERLBREW_ROOT = /home/njh/perl5/perlbrew
PERLBREW_SHELLRC_VERSION = 0.82
PERLBREW_VERSION = 0.82
SHELL = /bin/sh
TMPDIR = /tmp/testwrapper.90085
Perl special variables (and OS-specific diagnostics, for MSWin32):
$^X = /home/njh/perl5/perlbrew/perls/perl-5.20.3-thread-multi-ld/bin/perl5.20.3
$UID/$EUID = 1000 / 1000
$GID = 1000 1000 0
$EGID = 1000 1000 0
Perl module toolchain versions installed:
Module Have
------------------- --------
CPAN 2.16
CPAN::Meta 2.150010
Cwd 3.62
ExtUtils::CBuilder 0.280217
ExtUtils::Command 1.18
ExtUtils::Install 1.67
ExtUtils::MakeMaker 6.98
ExtUtils::Manifest 1.63
ExtUtils::ParseXS 3.24
File::Spec 3.62
JSON 2.97001
JSON::PP 2.97001
Module::Build 0.4224
Module::Signature n/a
Parse::CPAN::Meta 2.150010
Test::Harness 3.39
Test::More 1.302130
YAML 1.24
YAML::Syck 1.30
version 0.9909
--
Summary of my perl5 (revision 5 version 20 subversion 3) configuration:
Platform:
osname=openbsd, osvers=6.2, archname=OpenBSD.amd64-openbsd-thread-multi-ld
uname='openbsd netgate1.bandsman.co.uk 6.2 generic.mp#2 amd64 '
config_args='-de -Dprefix=/home/njh/perl5/perlbrew/perls/perl-5.20.3-thread-multi-ld -Dusedevel -Dusemultiplicity -Dusethreads -Duselongdouble -Accflags= -Aeval:scriptdir=/home/njh/perl5/perlbrew/perls/perl-5.20.3-thread-multi-ld/bin'
hint=recommended, useposix=true, d_sigaction=define
useithreads=define, usemultiplicity=define
use64bitint=define, use64bitall=define, uselongdouble=define
usemymalloc=n, bincompat5005=undef
Compiler:
cc='cc', ccflags ='-pthread -fno-strict-aliasing -pipe -fstack-protector -I/usr/local/include',
optimize='-O2',
cppflags='-pthread -fno-strict-aliasing -pipe -fstack-protector -I/usr/local/include'
ccversion='', gccversion='4.2.1 Compatible OpenBSD Clang 4.0.0 (tags/RELEASE_400/final)', gccosandvers=''
intsize=4, longsize=8, ptrsize=8, doublesize=8, byteorder=12345678
d_longlong=define, longlongsize=8, d_longdbl=define, longdblsize=16
ivtype='long', ivsize=8, nvtype='long double', nvsize=16, Off_t='off_t', lseeksize=8
alignbytes=16, prototype=define
Linker and Libraries:
ld='cc', ldflags ='-pthread -Wl,-E -fstack-protector -L/usr/local/lib'
libpth=/usr/lib /usr/local/lib
libs=-lpthread -lm -lutil -lc
perllibs=-lpthread -lm -lutil -lc
libc=/usr/lib/libc.so.90.0, so=so, useshrplib=false, libperl=libperl.a
gnulibc_version=''
Dynamic Linking:
dlsrc=dl_dlopen.xs, dlext=so, d_dlsymun=undef, ccdlflags=' '
cccdlflags='-DPIC -fPIC ', lddlflags='-shared -fPIC -L/usr/local/lib -fstack-protector'
Characteristics of this binary (from libperl):
Compile-time options: HAS_TIMES MULTIPLICITY PERLIO_LAYERS
PERL_DONT_CREATE_GVSV
PERL_HASH_FUNC_ONE_AT_A_TIME_HARD
PERL_IMPLICIT_CONTEXT PERL_MALLOC_WRAP
PERL_NEW_COPY_ON_WRITE PERL_PRESERVE_IVUV
PERL_USE_DEVEL USE_64_BIT_ALL USE_64_BIT_INT
USE_ITHREADS USE_LARGE_FILES USE_LOCALE
USE_LOCALE_COLLATE USE_LOCALE_CTYPE
USE_LOCALE_NUMERIC USE_LONG_DOUBLE USE_PERLIO
USE_PERL_ATOF USE_REENTRANT_API
Locally applied patches:
Devel::PatchPerl 1.48
Built under openbsd
Compiled at Jan 21 2018 06:38:21
%ENV:
PERL5LIB="/tmp/build/Crypt-OpenSSL-Random-0.15-0/blib/arch:/tmp/build/Crypt-OpenSSL-Random-0.15-0/blib/lib:/tmp/build/Crypt-OpenSSL-Guess-0.11-0/blib/arch:/tmp/build/Crypt-OpenSSL-Guess-0.11-0/blib/lib"
PERL5OPT=""
PERL5_CPANPLUS_IS_RUNNING="97703"
PERL5_CPAN_IS_RUNNING="97703"
PERLBREW_HOME="/home/njh/.perlbrew"
PERLBREW_MANPATH="/home/njh/perl5/perlbrew/perls/perl-5.20.3-thread-multi-ld/man"
PERLBREW_PATH="/home/njh/perl5/perlbrew/bin:/home/njh/perl5/perlbrew/perls/perl-5.20.3-thread-multi-ld/bin"
PERLBREW_PERL="perl-5.20.3-thread-multi-ld"
PERLBREW_ROOT="/home/njh/perl5/perlbrew"
PERLBREW_SHELLRC_VERSION="0.82"
PERLBREW_VERSION="0.82"
@INC:
/tmp/build/Crypt-OpenSSL-Random-0.15-0/blib/arch
/tmp/build/Crypt-OpenSSL-Random-0.15-0/blib/lib
/tmp/build/Crypt-OpenSSL-Guess-0.11-0/blib/arch
/tmp/build/Crypt-OpenSSL-Guess-0.11-0/blib/lib
/home/njh/perl5/perlbrew/perls/perl-5.20.3-thread-multi-ld/lib/site_perl/5.20.3/OpenBSD.amd64-openbsd-thread-multi-ld
/home/njh/perl5/perlbrew/perls/perl-5.20.3-thread-multi-ld/lib/site_perl/5.20.3
/home/njh/perl5/perlbrew/perls/perl-5.20.3-thread-multi-ld/lib/5.20.3/OpenBSD.amd64-openbsd-thread-multi-ld
/home/njh/perl5/perlbrew/perls/perl-5.20.3-thread-multi-ld/lib/5.20.3
.