Report for REST-Cypher-0.0.4

Back
From: metabase:user:30f4dfbe-2aae-11df-837a-5e0a49663a4f
Subject: PASS REST-Cypher-0.0.4 v5.12.5 Mac OS X
Date: 2015-10-30T06:29:01Z

This distribution has been tested as part of the CPAN Testers
project, supporting the Perl programming language.  See
http://wiki.cpantesters.org/ for more information or email
questions to cpan-testers-discuss@perl.org


--
Dear Chisel,

This is a computer-generated report for REST-Cypher-0.0.4
on perl 5.12.5, created by CPAN-Reporter-1.2015.

Thank you for uploading your work to CPAN.  Congratulations!
All tests were successful.

Sections of this report:

    * Tester comments
    * Program output
    * Prerequisites
    * Environment and other context

------------------------------
TESTER COMMENTS
------------------------------

Additional comments from tester:

this report is from an automated smoke testing program
and was not reviewed by a human for accuracy

------------------------------
PROGRAM OUTPUT
------------------------------

Output from '/sw/bin/make test':

PERL_DL_NONLAZY=1 "/Users/hornenj/perl5/perlbrew/perls/perl-5.12.5/bin/perl" "-MExtUtils::Command::MM" "-MTest::Harness" "-e" "undef *Test::Harness::Switches; test_harness(0, 'blib/lib', 'blib/arch')" t/*.t
t/00-load.t ................ ok
t/00.agent.t ............... skipped: PERL_CYPHER_NEO4J_ADDRESS needs a value
caught error: bless({
  error => {
    as_string => "500 Can't connect to some.other.server:7474\nContent-Type: text/plain\nClient-Date: Fri, 30 Oct 2015 06:29:00 GMT\nClient-Warning: Internal response\n\nCan't connect to some.other.server:7474\n\nnodename nor servname provided, or not known at /Users/hornenj/perl5/perlbrew/perls/perl-5.12.5/lib/site_perl/5.12.5/LWP/Protocol/http.pm line 47.\n",
    code => 500,
    message => "Can't connect to some.other.server:7474",
  },
  previous_exception => "Can't connect to some.other.server:7474\n\nnodename nor servname provided, or not known at /Users/hornenj/perl5/perlbrew/perls/perl-5.12.5/lib/site_perl/5.12.5/LWP/Protocol/http.pm line 47.\n",
  response => bless({
    _content => "Can't connect to some.other.server:7474\n\nnodename nor servname provided, or not known at /Users/hornenj/perl5/perlbrew/perls/perl-5.12.5/lib/site_perl/5.12.5/LWP/Protocol/http.pm line 47.\n",
    _headers => bless({
      "::std_case"     => {
                            "client-date"    => "Client-Date",
                            "client-warning" => "Client-Warning",
                          },
      "client-date"    => "Fri, 30 Oct 2015 06:29:00 GMT",
      "client-warning" => "Internal response",
      "content-type"   => "text/plain",
    }, "HTTP::Headers"),
    _msg => "Can't connect to some.other.server:7474",
    _rc => 500,
    _request => bless({
      _content => "{\"params\":null,\"query\":\"MATCH (n:Foo) RETURN count(n)\"}",
      _headers => bless({
                    "authorization"  => "Basic bmVvNGo6bmVvNGo=",
                    "content-length" => 55,
                    "content-type"   => "application/json",
                    "user-agent"     => "REST::Cypher::Agent/0.0.0",
                  }, "HTTP::Headers"),
      _method  => "POST",
      _uri     => bless(do{\(my $o = "http://some.other.server:7474/db/data/cypher")}, "URI::http"),
    }, "HTTP::Request"),
  }, "HTTP::Response"),
}, "REST::Cypher::Exception::Response") at t/00.cypher.t line 75.
t/00.cypher.t .............. ok
t/author-no-breakpoints.t .. skipped: these tests are for testing by the author
t/author-no-tabs.t ......... skipped: these tests are for testing by the author
t/release-kwalitee.t ....... skipped: these tests are for release candidate testing
t/release-pod-coverage.t ... skipped: these tests are for release candidate testing
t/release-pod-syntax.t ..... skipped: these tests are for release candidate testing
All tests successful.
Files=8, Tests=12,  1 wallclock secs ( 0.02 usr  0.01 sys +  0.55 cusr  0.17 csys =  0.75 CPU)
Result: PASS

------------------------------
PREREQUISITES
------------------------------

Prerequisite modules loaded:

requires:

    Module                       Need Have    
    ---------------------------- ---- --------
    JSON::Any                    0    1.39    
    LWP::UserAgent               0    6.13    
    Moo                          0    2.000002
    MooseX::Params::Validate     0    0.21    
    MooX::Types::MooseLike::Base 0    0.29    
    overload                     0    1.10    
    strict                       0    1.04    
    Throwable                    0    0.200013
    warnings                     0    1.09    

build_requires:

    Module                       Need Have    
    ---------------------------- ---- --------
    Data::Dump                   0    1.23    
    ExtUtils::MakeMaker          0    7.10    
    FindBin::libs                0    1.62    
    HTTP::Status                 0    6.11    
    Pod::Coverage::TrustPod      0    0.100003
    Test::Kwalitee               0    1.22    
    Test::Most                   0    0.34    
    Test::NoTabs                 0    1.4     
    Test::Pod                    0    1.51    
    Test::Pod::Coverage          0    1.10    
    Test::UseAllModules          0    0.17    
    Try::Tiny                    0    0.22    

configure_requires:

    Module                       Need Have    
    ---------------------------- ---- --------
    ExtUtils::MakeMaker          0    7.10    


------------------------------
ENVIRONMENT AND OTHER CONTEXT
------------------------------

Environment variables:

    AUTOMATED_TESTING = 1
    LANG = en_US.UTF-8
    LC_ALL = POSIX
    LD_LIBRARY_PATH = :/net/traces01.be-md.ncbi.nlm.nih.gov/trace_software/vdb/mac/release/x86_64/lib
    NO_NETWORK_TESTING = 1
    PATH = /Users/hornenj/perl5/perlbrew/bin:/Users/hornenj/perl5/perlbrew/perls/perl-5.12.5/bin:/Users/hornenj/perl5/perlbrew/bin:/Users/hornenj/bin:/sw/lib/perl5/ExtUtils:/sw/bin:/am/ncbiapdata/bin:/usr/bin:/bin:/usr/X11R6/bin:/netopt/ncbi_tools/bin:/usr/local/ncbi/blast/bin:/net/traces01.be-md.ncbi.nlm.nih.gov/trace_software/vdb/mac/release/x86_64/bin
    PERL5LIB = /Users/hornenj/.cpan/build/MooseX-Params-Validate-0.21-HTB4EL/blib/arch:/Users/hornenj/.cpan/build/MooseX-Params-Validate-0.21-HTB4EL/blib/lib:/Users/hornenj/.cpan/build/Devel-Caller-2.06-VeqORK/blib/arch:/Users/hornenj/.cpan/build/Devel-Caller-2.06-VeqORK/blib/lib:/Users/hornenj/.cpan/build/FindBin-libs-2.15-5_8kUk/blib/arch:/Users/hornenj/.cpan/build/FindBin-libs-2.15-5_8kUk/blib/lib
    PERL5OPT = 
    PERL5_CPANPLUS_IS_RUNNING = 31596
    PERL5_CPAN_IS_RUNNING = 31596
    PERL5_MINISMOKEBOX = 0.58
    PERLBREW_BASHRC_VERSION = 0.73
    PERLBREW_HOME = /Users/hornenj/.perlbrew
    PERLBREW_LIB = 
    PERLBREW_MANPATH = /Users/hornenj/perl5/perlbrew/perls/perl-5.12.5/man
    PERLBREW_PATH = /Users/hornenj/perl5/perlbrew/bin:/Users/hornenj/perl5/perlbrew/perls/perl-5.12.5/bin
    PERLBREW_PERL = perl-5.12.5
    PERLBREW_ROOT = /Users/hornenj/perl5/perlbrew
    PERLBREW_VERSION = 0.73
    PERL_EXTUTILS_AUTOINSTALL = --defaultdeps
    PERL_LOCAL_LIB_ROOT = 
    PERL_MM_USE_DEFAULT = 1
    SHELL = /bin/bash
    TERM = xterm-256color
    TMPDIR = /var/folders/pz/pd7y1qjs6s3cbk170cw50fjc000c61/T/
    VERSIONER_PERL_PREFER_32_BIT = no
    VERSIONER_PERL_VERSION = 5.18
    ac_cv_path_INTLTOOL_PERL = /usr/bin/perl

Perl special variables (and OS-specific diagnostics, for MSWin32):

    $^X = /Users/hornenj/perl5/perlbrew/perls/perl-5.12.5/bin/perl
    $UID/$EUID = 12481 / 12481
    $GID = 14 14 5344 37191 527 241
    $EGID = 14 14 5344 37191 527 241

Perl module toolchain versions installed:

    Module              Have    
    ------------------- --------
    CPAN                2.10    
    CPAN::Meta          2.150005
    Cwd                 3.47    
    ExtUtils::CBuilder  0.280224
    ExtUtils::Command   7.10    
    ExtUtils::Install   2.04    
    ExtUtils::MakeMaker 7.10    
    ExtUtils::Manifest  1.70    
    ExtUtils::ParseXS   3.30    
    File::Spec          3.47    
    JSON                2.90    
    JSON::PP            2.27300 
    Module::Build       0.4214  
    Module::Signature   n/a     
    Parse::CPAN::Meta   1.4417  
    Test::Harness       3.35    
    Test::More          1.001014
    YAML                1.15    
    YAML::Syck          1.29    
    version             0.9912  


--

Summary of my perl5 (revision 5 version 12 subversion 5) configuration:
   
  Platform:
    osname=darwin, osvers=12.2.1, archname=darwin-2level
    uname='darwin ncbimac2008.ncbi.nlm.nih.gov 12.2.1 darwin kernel version 12.2.1: thu oct 18 12:13:47 pdt 2012; root:xnu-2050.20.9~1release_x86_64 x86_64 '
    config_args='-de -Dprefix=/Users/hornenj/perl5/perlbrew/perls/perl-5.12.5'
    hint=recommended, useposix=true, d_sigaction=define
    useithreads=undef, usemultiplicity=undef
    useperlio=define, d_sfio=undef, uselargefiles=define, usesocks=undef
    use64bitint=define, use64bitall=define, uselongdouble=undef
    usemymalloc=n, bincompat5005=undef
  Compiler:
    cc='cc', ccflags ='-fno-common -DPERL_DARWIN -no-cpp-precomp -fno-strict-aliasing -pipe -fstack-protector',
    optimize='-O3',
    cppflags='-no-cpp-precomp -fno-common -DPERL_DARWIN -no-cpp-precomp -fno-strict-aliasing -pipe -fstack-protector'
    ccversion='', gccversion='4.2.1 Compatible Apple LLVM 4.2 (clang-425.0.24)', gccosandvers=''
    intsize=4, longsize=8, ptrsize=8, doublesize=8, byteorder=12345678
    d_longlong=define, longlongsize=8, d_longdbl=define, longdblsize=16
    ivtype='long', ivsize=8, nvtype='double', nvsize=8, Off_t='off_t', lseeksize=8
    alignbytes=8, prototype=define
  Linker and Libraries:
    ld='env MACOSX_DEPLOYMENT_TARGET=10.3 cc', ldflags =' -fstack-protector'
    libpth=/usr/lib
    libs=-ldbm -ldl -lm -lutil -lc
    perllibs=-ldl -lm -lutil -lc
    libc=, so=dylib, useshrplib=false, libperl=libperl.a
    gnulibc_version=''
  Dynamic Linking:
    dlsrc=dl_dlopen.xs, dlext=bundle, d_dlsymun=undef, ccdlflags=' '
    cccdlflags=' ', lddlflags=' -bundle -undefined dynamic_lookup -fstack-protector'


Characteristics of this binary (from libperl): 
  Compile-time options: PERL_DONT_CREATE_GVSV PERL_MALLOC_WRAP USE_64_BIT_ALL
                        USE_64_BIT_INT USE_LARGE_FILES USE_PERLIO
                        USE_PERL_ATOF
  Built under darwin
  Compiled at Mar  5 2013 11:08:14
  %ENV:
    PERL5LIB="/Users/hornenj/.cpan/build/MooseX-Params-Validate-0.21-HTB4EL/blib/arch:/Users/hornenj/.cpan/build/MooseX-Params-Validate-0.21-HTB4EL/blib/lib:/Users/hornenj/.cpan/build/Devel-Caller-2.06-VeqORK/blib/arch:/Users/hornenj/.cpan/build/Devel-Caller-2.06-VeqORK/blib/lib:/Users/hornenj/.cpan/build/FindBin-libs-2.15-5_8kUk/blib/arch:/Users/hornenj/.cpan/build/FindBin-libs-2.15-5_8kUk/blib/lib"
    PERL5OPT=""
    PERL5_CPANPLUS_IS_RUNNING="31596"
    PERL5_CPAN_IS_RUNNING="31596"
    PERL5_MINISMOKEBOX="0.58"
    PERLBREW_BASHRC_VERSION="0.73"
    PERLBREW_HOME="/Users/hornenj/.perlbrew"
    PERLBREW_LIB=""
    PERLBREW_MANPATH="/Users/hornenj/perl5/perlbrew/perls/perl-5.12.5/man"
    PERLBREW_PATH="/Users/hornenj/perl5/perlbrew/bin:/Users/hornenj/perl5/perlbrew/perls/perl-5.12.5/bin"
    PERLBREW_PERL="perl-5.12.5"
    PERLBREW_ROOT="/Users/hornenj/perl5/perlbrew"
    PERLBREW_VERSION="0.73"
    PERL_EXTUTILS_AUTOINSTALL="--defaultdeps"
    PERL_LOCAL_LIB_ROOT=""
    PERL_MM_USE_DEFAULT="1"
  @INC:
    /Users/hornenj/.cpan/build/MooseX-Params-Validate-0.21-HTB4EL/blib/arch
    /Users/hornenj/.cpan/build/MooseX-Params-Validate-0.21-HTB4EL/blib/lib
    /Users/hornenj/.cpan/build/Devel-Caller-2.06-VeqORK/blib/arch
    /Users/hornenj/.cpan/build/Devel-Caller-2.06-VeqORK/blib/lib
    /Users/hornenj/.cpan/build/FindBin-libs-2.15-5_8kUk/blib/arch
    /Users/hornenj/.cpan/build/FindBin-libs-2.15-5_8kUk/blib/lib
    /Users/hornenj/perl5/perlbrew/perls/perl-5.12.5/lib/site_perl/5.12.5/darwin-2level
    /Users/hornenj/perl5/perlbrew/perls/perl-5.12.5/lib/site_perl/5.12.5
    /Users/hornenj/perl5/perlbrew/perls/perl-5.12.5/lib/5.12.5/darwin-2level
    /Users/hornenj/perl5/perlbrew/perls/perl-5.12.5/lib/5.12.5
    .