Dancer v1.3521 Perl 5 v5.28.3 x86_64-linux-thread-multi
- Status
- Pass
- From
- Nigel Horne
- Dist
-
Dancer v1.3521
- Platform
- Perl 5 v5.28.3 x86_64-linux-thread-multi
- Date
- 2023-04-29 06:38:53
- ID
- 823c43e8-e658-11ed-9a69-f4e4ac3d812b
This distribution has been tested as part of the CPAN Testers
project, supporting the Perl programming language. See
http://wiki.cpantesters.org/ for more information or email
questions to cpan-testers-discuss@perl.org
--
Dear Yanick Champoux,
This is a computer-generated report for Dancer-1.3521
on perl 5.28.3, created by CPAN-Reporter-1.2018.
Thank you for uploading your work to CPAN. Congratulations!
All tests were successful.
Sections of this report:
* Tester comments
* Program output
* Prerequisites
* Environment and other context
------------------------------
TESTER COMMENTS
------------------------------
Additional comments from tester:
this report is from an automated smoke testing program
and was not reviewed by a human for accuracy
------------------------------
PROGRAM OUTPUT
------------------------------
Output from '/usr/bin/make test':
PERL_DL_NONLAZY=1 "/home/smoker/perl5/perlbrew/perls/perl-5.28.3-thread/bin/perl5.28.3" "-MExtUtils::Command::MM" "-MTest::Harness" "-e" "undef *Test::Harness::Switches; test_harness(0, 'blib/lib', 'blib/arch')" t/*.t t/00_base/*.t t/01_config/*.t t/02_request/*.t t/03_route_handler/*.t t/04_static_file/*.t t/05_views/*.t t/06_helpers/*.t t/07_apphandlers/*.t t/08_session/*.t t/09_cookies/*.t t/10_template/*.t t/11_logger/*.t t/12_response/*.t t/13_engines/*.t t/14_serializer/*.t t/15_plugins/*.t t/16_timer/*.t t/17_apps/*.t t/19_dancer/*.t t/20_deprecation/*.t t/21_dependents/*.t t/22_hooks/*.t t/23_dancer_tests/*.t t/24_deployment/*.t t/25_exceptions/*.t
#
# Versions for all modules listed in MYMETA.json (including optional ones):
#
# === Configure Requires ===
#
# Module Want Have
# ------------------- ---- ----
# ExtUtils::MakeMaker any 7.44
#
# === Configure Suggests ===
#
# Module Want Have
# -------- ------- -------
# JSON::PP 2.27300 2.97001
#
# === Build Requires ===
#
# Module Want Have
# ------------------- ---- ----
# ExtUtils::MakeMaker any 7.44
#
# === Test Requires ===
#
# Module Want Have
# ------------------- ----- --------
# Data::Dump any 1.23
# Devel::Hide any 0.0013
# Digest::MD5 any 2.55
# ExtUtils::MakeMaker any 7.44
# File::Spec any 3.75
# HTTP::CookieJar 0.008 0.014
# HTTP::Request any 6.24
# HTTP::Tiny 0.014 0.070
# IO::Handle any 1.39
# IO::Socket::INET any 1.39
# IPC::Open3 any 1.20
# JSON 2.90 4.02
# Plack::Builder any undef
# Test::LongString any 0.17
# Test::More any 1.302175
# Test::NoWarnings any 1.04
# utf8 any 1.21
#
# === Test Recommends ===
#
# Module Want Have
# ---------- -------- --------
# CPAN::Meta 2.120900 2.150010
#
# === Runtime Requires ===
#
# Module Want Have
# -------------------------- ----- --------
# Carp any 1.50
# Cwd any 3.75
# Data::Dumper any 2.173
# Encode any 3.06
# Exporter any 5.73
# Fcntl any 1.13
# File::Basename any 2.85
# File::Copy any 2.33
# File::Path any 2.15
# File::Spec any 3.75
# File::Spec::Functions any 3.75
# File::Temp any 0.2309
# File::stat any 1.08
# FindBin any 1.51
# Getopt::Long any 2.51
# HTTP::Body any 1.22
# HTTP::Date any 6.05
# HTTP::Headers any 6.24
# HTTP::Server::Simple::PSGI any 0.16
# HTTP::Tiny 0.014 0.070
# Hash::Merge::Simple any 0.051
# IO::File any 1.39
# MIME::Types any 2.24
# Module::Runtime any 0.016
# POSIX any 1.84
# Pod::Usage any 1.69
# Scalar::Util any 1.50
# Test::Builder any 1.302175
# Test::LongString any 0.17
# Test::More any 1.302175
# Time::HiRes any 1.9759
# Try::Tiny any 0.30
# URI any 1.76
# URI::Escape any 3.31
# base any 2.27
# bytes any 1.06
# constant any 1.33
# lib any 0.64
# overload any 1.30
# parent any 0.236
# strict any 1.11
# vars any 1.04
# warnings any 1.42
#
# === Runtime Recommends ===
#
# Module Want Have
# ----------- ---- ----
# MIME::Types 2.17 2.24
# YAML any 1.30
# YAML::XS any 0.82
#
t/00-report-prereqs.t ............................... ok
t/00_base/000_create_fake_env.t ..................... ok
# Testing Dancer 1.3521, Perl 5.028003, /home/smoker/perl5/perlbrew/perls/perl-5.28.3-thread/bin/perl5.28.3
t/00_base/001_load.t ................................ ok
t/00_base/002_strict_and_warnings.t ................. ok
t/00_base/003_syntax.t .............................. ok
t/00_base/004_args.t ................................ ok
t/00_base/005_module_loader.t ....................... ok
t/00_base/007_load_syntax.t ......................... ok
t/00_base/008_export.t .............................. ok
t/00_base/009_syntax_export.t ....................... ok
t/00_base/010_export_script.t ....................... ok
t/00_base/06_dancer_object.t ........................ ok
t/00_base/08_pod_coverage_dancer.t .................. ok
t/00_base/09_load_app.t ............................. ok
t/00_base/11_file_utils.t ........................... ok
t/00_base/12_utf8_charset.t ......................... ok
t/00_base/13_dancer_singleton.t ..................... ok
t/00_base/15_dependent_modules.t .................... skipped: Author tests not required for installation
t/00_base/17_globalwarnings_config_on.t ............. ok
t/00_base/config.t .................................. ok
t/00_base/easymocker.t .............................. ok
t/00_base/normalize_path.t .......................... ok
# Test::TCP 2.22 loaded successfully
# Test::More 1.302175 loaded successfully
# JSON 4.02 loaded successfully
# YAML 1.30 loaded successfully
# Clone 0.45 loaded successfully
# Plack 1.0050 loaded successfully
# XML::Simple is not available
# HTTP::Parser::XS is not available
t/00_base/optional-module-versions.t ................ ok
t/00_base/uri_for.t ................................. ok
t/01_config/01_settings.t ........................... ok
t/00-compile.t ...................................... ok
t/01_config/02_mime_type.t .......................... ok
t/01_config/03_logger.t ............................. ok
t/01_config/04_config_file.t ........................ ok
t/01_config/05_serializers.t ........................ ok
# Testing YAML parsing with YAML::XS version 0.82
# Testing YAML parsing with YAML version 1.30
t/01_config/06_config_api.t ......................... ok
t/01_config/06_stack_trace.t ........................ ok
t/01_config/07_strict_config.t ...................... ok
t/01_config/08_environments.t ....................... ok
t/02_request/000_create_fake_env.t .................. ok
t/01_config/yaml_dependency.t ....................... ok
t/02_request/01_load.t .............................. ok
t/02_request/04_custom.t ............................ ok
t/02_request/04_forward.t ........................... ok
t/02_request/05_cgi_pm_compat.t ..................... ok
t/02_request/06_init_env.t .......................... ok
# OK
t/02_request/07_raw_data.t .......................... ok
t/02_request/08_param_array.t ....................... ok
t/02_request/08_params.t ............................ ok
t/02_request/10_mixed_params.t ...................... ok
t/02_request/11_accessors.t ......................... ok
t/02_request/12_base.t .............................. ok
t/02_request/13_ajax.t .............................. ok
t/02_request/14_uploads.t ........................... ok
t/02_request/16_delete.t ............................ ok
t/02_request/15_headers.t ........................... ok
t/02_request/17_uri_base.t .......................... ok
t/02_request/18_param_accessor.t .................... ok
t/02_request/19_json_body.t ......................... ok
t/02_request/20_body.t .............................. ok
t/02_request/21_dancer_response_multiple_params.t ... ok
t/03_route_handler/01_http_methods.t ................ ok
t/03_route_handler/02_params.t ...................... ok
t/03_route_handler/04_routes_matching.t ............. ok
t/03_route_handler/04_wildcards_megasplat.t ......... ok
t/03_route_handler/05_filter.t ...................... ok
t/03_route_handler/05_unicode.t ..................... ok
t/03_route_handler/06_redirect.t .................... ok
t/03_route_handler/03_routes_api.t .................. ok
t/03_route_handler/07_compilation_warning.t ......... ok
t/03_route_handler/12_response.t .................... ok
t/03_route_handler/12_response_halt.t ............... ok
t/03_route_handler/14_options.t ..................... ok
t/03_route_handler/15_prefix.t ...................... ok
t/03_route_handler/16_caching.t ..................... ok
t/03_route_handler/16_embedded_prefixes.t ........... ok
t/03_route_handler/18_auto_page.t ................... ok
t/03_route_handler/21_ajax.t ........................ ok
t/03_route_handler/23_filter_error_catching.t ....... ok
t/03_route_handler/24_multiple_params.t ............. ok
t/03_route_handler/24_named_captures.t .............. ok
t/03_route_handler/28_plack_mount.t ................. ok
t/03_route_handler/29_forward.t ..................... ok
t/03_route_handler/29_redirect_immediately.t ........ ok
t/03_route_handler/30_forward_session.t ............. ok
t/03_route_handler/31_infinite_loop.t ............... ok
t/03_route_handler/33_vars.t ........................ ok
t/03_route_handler/34_forward_body_post.t ........... ok
t/03_route_handler/35_no_further_routes.t ........... ok
t/03_route_handler/36_false_routes.t ................ ok
t/03_route_handler/99_bugs.t ........................ ok
t/03_route_handler/08_errors.t ...................... ok
t/04_static_file/001_base.t ......................... ok
t/04_static_file/003_mime_types_reinit.t ............ ok
t/04_static_file/01_mime_types.t .................... ok
t/04_static_file/02_dir_traversal.t ................. ok
t/05_views/002_view_rendering.t ..................... ok
t/06_helpers/000_create_fake_env.t .................. ok
t/05_views/03_layout.t .............................. ok
t/06_helpers/02_http_status.t ....................... ok
t/06_helpers/03_content_type.t ...................... ok
t/06_helpers/04_status.t ............................ ok
t/06_helpers/01_send_file.t ......................... ok
t/06_helpers/06_load.t .............................. ok
t/06_helpers/07_send_error.t ........................ ok
t/07_apphandlers/000_create_fake_env.t .............. ok
t/07_apphandlers/01_base.t .......................... ok
t/07_apphandlers/02_apache2_plack.t ................. ok
t/07_apphandlers/03_psgi_app.t ...................... ok
t/06_helpers/05_send_error.t ........................ ok
t/07_apphandlers/04_standalone_app.t ................ ok
t/07_apphandlers/05_psgi_api.t ...................... ok
t/07_apphandlers/05_middlewares.t ................... ok
t/07_apphandlers/06_debug.t ......................... ok
t/07_apphandlers/07_middleware_map.t ................ ok
t/07_apphandlers/08_is_text.t ....................... ok
t/08_session/000_create_fake_env.t .................. ok
t/08_session/01_load.t .............................. ok
Use of uninitialized value in subroutine entry at /home/smoker/.cpan/build/Dancer-1.3521-0/blib/lib/Dancer/FileUtils.pm line 32.
t/08_session/02_dependency_check.t .................. ok
t/08_session/04_api.t ............................... ok
t/08_session/03_http_requests.t ..................... ok
t/08_session/05_yaml.t .............................. ok
t/08_session/06_abstract.t .......................... ok
t/08_session/08_simple.t ............................ ok
t/08_session/07_session_expires.t ................... ok
t/08_session/09_session.t ........................... ok
t/08_session/10_filter.t ............................ ok
t/08_session/11_session_secure.t .................... ok
t/08_session/12_session_name.t ...................... ok
t/08_session/14_session_domain.t .................... ok
t/08_session/13_session_httponly.t .................. ok
t/09_cookies/000_create_fake_env.t .................. ok
t/09_cookies/01_use.t ............................... ok
# 200
# Cookie: dancer.session=89982225878150620131098993595891882; path=/; SameSite=Strict; HttpOnly
# 200
# Cookie: dancer.session=89982225879150620131099993595891883; path=/; SameSite=Lax; HttpOnly
t/09_cookies/02_cookie_object.t ..................... ok
# 200
# Cookie: dancer.session=89982225880150620131100993595891884; path=/; SameSite=Strict; HttpOnly
# 200
# Cookie: dancer.session=89982225882150620131102993595891886; path=/; SameSite=None; HttpOnly
# 200
# Cookie: dancer.session=89982225884150620131104993595891888; path=/; SameSite=None; HttpOnly
# 200
# Cookie: dancer.session=89982225885150620131105993595891889; path=/; SameSite=None; HttpOnly
t/08_session/15_session_samesite.t .................. ok
t/09_cookies/03_persistence.t ....................... ok
t/09_cookies/04_secure.t ............................ ok
t/09_cookies/06_expires.t ........................... ok
t/10_template/000_create_fake_env.t ................. ok
t/09_cookies/05_api.t ............................... ok
t/10_template/02_abstract_class.t ................... ok
t/10_template/01_factory.t .......................... ok
t/10_template/03_simple.t ........................... ok
t/10_template/05_template_toolkit_fromdata.t ........ skipped: module Template::Provider::FromDATA required
t/10_template/05_template_toolkit.t ................. ok
t/10_template/extension.t ........................... ok
t/11_logger/000_create_fake_env.t ................... ok
t/11_logger/01_abstract.t ........................... ok
t/11_logger/02_factory.t ............................ ok
t/11_logger/03_file.t ............................... ok
t/11_logger/04_console.t ............................ ok
t/11_logger/05_format.t ............................. ok
t/11_logger/06_null.t ............................... ok
t/11_logger/07_diag.t ............................... ok
t/10_template/template.t ............................ ok
t/11_logger/08_serialize.t .......................... ok
t/11_logger/10_note.t ............................... ok
t/11_logger/09_capture.t ............................ ok
t/11_logger/unicode.t ............................... ok
t/12_response/000_create_fake_env.t ................. ok
t/12_response/01_CRLF_injection.t ................... ok
t/12_response/02_headers.t .......................... ok
t/11_logger/11_runtime_file.t ....................... ok
t/12_response/03_charset.t .......................... ok
t/12_response/05_api.t .............................. ok
Wide character in print at /home/smoker/.cpan/build/HTTP-Server-Simple-PSGI-0.16-0/blib/lib/HTTP/Server/Simple/PSGI.pm line 132, <DATA> line 16.
Wide character in print at /home/smoker/.cpan/build/HTTP-Server-Simple-PSGI-0.16-0/blib/lib/HTTP/Server/Simple/PSGI.pm line 132, <DATA> line 16.
t/12_response/04_charset_server.t ................... ok
t/12_response/06_filter_halt_status.t ............... ok
t/12_response/07_cookies.t .......................... ok
t/12_response/08_drop_content.t ..................... ok
t/12_response/09_headers_to_array.t ................. ok
Devel::Hide: Too late to hide Clone.pm
Data exceeding 100 levels, truncating
t/12_response/10_error_dumper.t ..................... ok
t/12_response/10_error_dumper_without_clone.t ....... ok
t/13_engines/00_load.t .............................. ok
t/12_response/11_CVE-2012-5572.t .................... ok
t/13_engines/02_template_init.t ..................... ok
t/14_serializer/02_request_json.t ................... ok
t/14_serializer/01_helpers.t ........................ ok
t/14_serializer/03_request_yaml.t ................... ok
t/14_serializer/04_request_xml.t .................... ok
t/14_serializer/05_request_mutable.t ................ ok
t/14_serializer/06_api.t ............................ ok
t/14_serializer/07_request_jsonp.t .................. ok
t/14_serializer/17_clear_serializer.t ............... ok
t/14_serializer/18_mutable_template_or_serialize.t .. ok
t/15_plugins/000_create_fake_env.t .................. ok
t/14_serializer/99_bugs.t ........................... ok
t/15_plugins/01_register.t .......................... ok
t/15_plugins/02_config.t ............................ ok
t/15_plugins/03_namespace.t ......................... ok
t/15_plugins/04_apps_and_plugins.t .................. ok
t/15_plugins/05_keywords.t .......................... ok
t/15_plugins/05_plugins_and_OO.t .................... ok
t/15_plugins/05b_plugins_and_c3.t ................... ok
t/15_plugins/06_hook.t .............................. ok
t/15_plugins/07_ajax_plack_builder.t ................ ok
t/17_apps/000_create_fake_env.t ..................... ok
t/17_apps/00_base.t ................................. ok
t/16_timer/00_base.t ................................ ok
t/17_apps/01_settings.t ............................. ok
t/17_apps/02_load_app.t ............................. ok
t/17_apps/03_prefix.t ............................... ok
t/17_apps/05_api.t .................................. ok
t/19_dancer/02_script_version_from.t ................ ok
t/20_deprecation/01_api.t ........................... ok
t/21_dependents/Dancer-Session-Cookie.t ............. skipped: Dancer::Session::Cookie 0.14 required
t/22_hooks/00_syntax.t .............................. ok
t/22_hooks/01_api.t ................................. ok
t/22_hooks/02_before.t .............................. ok
t/19_dancer/01_script.t ............................. ok
t/22_hooks/03_after.t ............................... ok
t/22_hooks/04_template.t ............................ ok
t/22_hooks/05_layout.t .............................. ok
t/22_hooks/06_serializer.t .......................... ok
t/22_hooks/07_file.t ................................ ok
t/22_hooks/08_error.t ............................... ok
t/22_hooks/10_error_in_hook.t ....................... ok
t/22_hooks/09_before_error_init.t ................... ok
t/23_dancer_tests/01_basic.t ........................ ok
t/23_dancer_tests/02_tests_functions.t .............. ok
t/23_dancer_tests/03_uris.t ......................... ok
t/24_deployment/01_multi_webapp.t ................... ok
t/22_hooks/11_error_in_hook.t ....................... ok
t/25_exceptions/02_exceptions.t ..................... ok
t/25_exceptions/03_exceptions.t ..................... ok
t/25_exceptions/04_exceptions_warn.t ................ ok
t/author-distmeta.t ................................. skipped: these tests are for testing by the author
t/author-pod-syntax.t ............................... skipped: these tests are for testing by the author
t/pod.t ............................................. skipped: Author tests not required for installation
t/25_exceptions/01_exceptions.t ..................... ok
All tests successful.
Files=224, Tests=2216, 372 wallclock secs ( 3.12 usr 1.30 sys + 463.35 cusr 86.09 csys = 553.86 CPU)
Result: PASS
------------------------------
PREREQUISITES
------------------------------
Prerequisite modules loaded:
requires:
Module Need Have
-------------------------- -------- --------
base 0 2.27
bytes 0 1.06
Carp 0 1.50
constant 0 1.33
Cwd 0 3.75
Data::Dumper 0 2.173
Encode 0 3.06
Exporter 0 5.73
Fcntl 0 1.13
File::Basename 0 2.85
File::Copy 0 2.33
File::Path 0 2.15
File::Spec 0 3.75
File::Spec::Functions 0 3.75
File::stat 0 1.08
File::Temp 0 0.2309
FindBin 0 1.51
Getopt::Long 0 2.51
Hash::Merge::Simple 0 0.051
HTTP::Body 0 1.22
HTTP::Date 0 6.05
HTTP::Headers 0 6.24
HTTP::Server::Simple::PSGI 0 0.16
HTTP::Tiny 0.014 0.070
IO::File 0 1.39
lib 0 0.64
MIME::Types 0 2.24
Module::Runtime 0 0.016
overload 0 1.30
parent 0 0.236
perl 5.006 5.028003
Pod::Usage 0 1.69
POSIX 0 1.84
Scalar::Util 0 1.50
strict 0 1.11
Test::Builder 0 1.302175
Test::LongString 0 0.17
Test::More 0 1.302175
Time::HiRes 0 1.9759
Try::Tiny 0 0.30
URI 0 1.76
URI::Escape 0 3.31
vars 0 1.04
warnings 0 1.42
build_requires:
Module Need Have
-------------------------- -------- --------
Data::Dump 0 1.23
Devel::Hide 0 0.0013
Digest::MD5 0 2.55
ExtUtils::MakeMaker 0 7.44
File::Spec 0 3.75
HTTP::CookieJar 0.008 0.014
HTTP::Request 0 6.24
HTTP::Tiny 0.014 0.070
IO::Handle 0 1.39
IO::Socket::INET 0 1.39
IPC::Open3 0 1.20
JSON 2.90 4.02
Plack::Builder 0 0
Test::LongString 0 0.17
Test::More 0 1.302175
Test::NoWarnings 0 1.04
utf8 0 1.21
configure_requires:
Module Need Have
-------------------------- -------- --------
ExtUtils::MakeMaker 0 7.44
opt_requires:
Module Need Have
-------------------------- -------- --------
MIME::Types 2.17 2.24
YAML 0 1.30
YAML::XS 0 0.82
opt_build_requires:
Module Need Have
-------------------------- -------- --------
CPAN::Meta 2.120900 2.150010
------------------------------
ENVIRONMENT AND OTHER CONTEXT
------------------------------
Environment variables:
AUTOMATED_TESTING = 1
HARNESS_OPTIONS = c:j2
PATH = /home/smoker/perl5/perlbrew/bin:/home/smoker/perl5/perlbrew/perls/perl-5.28.3-thread/bin:/usr/local/sbin:/usr/local/bin:/usr/sbin:/usr/bin:/sbin:/bin:
PERL5LIB = /home/smoker/.cpan/build/Plack-1.0050-0/blib/arch:/home/smoker/.cpan/build/Plack-1.0050-0/blib/lib:/home/smoker/.cpan/build/Test-TCP-2.22-0/blib/arch:/home/smoker/.cpan/build/Test-TCP-2.22-0/blib/lib:/home/smoker/.cpan/build/HTTP-Headers-Fast-0.22-0/blib/arch:/home/smoker/.cpan/build/HTTP-Headers-Fast-0.22-0/blib/lib:/home/smoker/.cpan/build/HTTP-Entity-Parser-0.25-0/blib/arch:/home/smoker/.cpan/build/HTTP-Entity-Parser-0.25-0/blib/lib:/home/smoker/.cpan/build/WWW-Form-UrlEncoded-0.26-0/blib/arch:/home/smoker/.cpan/build/WWW-Form-UrlEncoded-0.26-0/blib/lib:/home/smoker/.cpan/build/Stream-Buffered-0.03-0/blib/arch:/home/smoker/.cpan/build/Stream-Buffered-0.03-0/blib/lib:/home/smoker/.cpan/build/Hash-MultiValue-0.16-0/blib/arch:/home/smoker/.cpan/build/Hash-MultiValue-0.16-0/blib/lib:/home/smoker/.cpan/build/HTTP-MultiPartParser-0.02-0/blib/arch:/home/smoker/.cpan/build/HTTP-MultiPartParser-0.02-0/blib/lib:/home/smoker/.cpan/build/Filesys-Notify-Simple-0.14-0/blib/arch:/home/smoker/.cpan/build/Filesys-Notify-Simple-0.14-0/blib/lib:/home/smoker/.cpan/build/Test-SharedFork-0.35-0/blib/arch:/home/smoker/.cpan/build/Test-SharedFork-0.35-0/blib/lib:/home/smoker/.cpan/build/Devel-StackTrace-AsHTML-0.15-0/blib/arch:/home/smoker/.cpan/build/Devel-StackTrace-AsHTML-0.15-0/blib/lib:/home/smoker/.cpan/build/Cookie-Baker-0.11-0/blib/arch:/home/smoker/.cpan/build/Cookie-Baker-0.11-0/blib/lib:/home/smoker/.cpan/build/Test-Time-0.092-0/blib/arch:/home/smoker/.cpan/build/Test-Time-0.092-0/blib/lib:/home/smoker/.cpan/build/Apache-LogFormat-Compiler-0.36-0/blib/arch:/home/smoker/.cpan/build/Apache-LogFormat-Compiler-0.36-0/blib/lib:/home/smoker/.cpan/build/POSIX-strftime-Compiler-0.44-0/blib/arch:/home/smoker/.cpan/build/POSIX-strftime-Compiler-0.44-0/blib/lib:/home/smoker/.cpan/build/MIME-Types-2.24-0/blib/arch:/home/smoker/.cpan/build/MIME-Types-2.24-0/blib/lib:/home/smoker/.cpan/build/Hash-Merge-Simple-0.051-0/blib/arch:/home/smoker/.cpan/build/Hash-Merge-Simple-0.051-0/blib/lib:/home/smoker/.cpan/build/HTTP-Server-Simple-PSGI-0.16-0/blib/arch:/home/smoker/.cpan/build/HTTP-Server-Simple-PSGI-0.16-0/blib/lib:/home/smoker/.cpan/build/HTTP-Server-Simple-0.52-0/blib/arch:/home/smoker/.cpan/build/HTTP-Server-Simple-0.52-0/blib/lib:/home/smoker/.cpan/build/Mozilla-PublicSuffix-v1.0.6-0/blib/arch:/home/smoker/.cpan/build/Mozilla-PublicSuffix-v1.0.6-0/blib/lib:/home/smoker/.cpan/build/HTTP-CookieJar-0.014-0/blib/arch:/home/smoker/.cpan/build/HTTP-CookieJar-0.014-0/blib/lib:/home/smoker/.cpan/build/HTTP-Body-1.22-0/blib/arch:/home/smoker/.cpan/build/HTTP-Body-1.22-0/blib/lib:/home/smoker/.cpan/build/Algorithm-Graphs-Reachable-Tiny-0.04-0/blib/arch:/home/smoker/.cpan/build/Algorithm-Graphs-Reachable-Tiny-0.04-0/blib/lib
PERL5OPT =
PERL5_CPANPLUS_IS_RUNNING = 31
PERL5_CPAN_IS_RUNNING = 31
PERL5_CPAN_IS_RUNNING_IN_RECURSION = 1,31
PERLBREW_HOME = /home/smoker/.perlbrew
PERLBREW_MANPATH = /home/smoker/perl5/perlbrew/perls/perl-5.28.3-thread/man
PERLBREW_PATH = /home/smoker/perl5/perlbrew/bin:/home/smoker/perl5/perlbrew/perls/perl-5.28.3-thread/bin
PERLBREW_PERL = perl-5.28.3-thread
PERLBREW_ROOT = /home/smoker/perl5/perlbrew
PERLBREW_SHELLRC_VERSION = 0.88
PERLBREW_VERSION = 0.88
PERL_USE_UNSAFE_INC = 1
SHELL = /bin/bash
TERM = xterm
TMPDIR = /tmp/testwrapper.18
Perl special variables (and OS-specific diagnostics, for MSWin32):
$^X = /home/smoker/perl5/perlbrew/perls/perl-5.28.3-thread/bin/perl5.28.3
$UID/$EUID = 1000 / 1000
$GID = 1000 1000
$EGID = 1000 1000
Perl module toolchain versions installed:
Module Have
------------------- --------
CPAN 2.20
CPAN::Meta 2.150010
Cwd 3.75
ExtUtils::CBuilder 0.280230
ExtUtils::Command 7.44
ExtUtils::Install 2.14
ExtUtils::MakeMaker 7.44
ExtUtils::Manifest 1.70
ExtUtils::ParseXS 3.39
File::Spec 3.75
JSON 4.02
JSON::PP 2.97001
Module::Build 0.4231
Module::Signature n/a
Parse::CPAN::Meta 2.150010
Test::Harness 3.42
Test::More 1.302175
YAML 1.30
YAML::Syck 1.32
version 0.9923
--
Summary of my perl5 (revision 5 version 28 subversion 3) configuration:
Platform:
osname=linux
osvers=5.3.0-1024-oracle
archname=x86_64-linux-thread-multi
uname='linux 3b45f4f551e0 5.3.0-1024-oracle #26~18.04.1-ubuntu smp sat jun 6 00:41:22 utc 2020 x86_64 gnulinux '
config_args='-de -Dprefix=/home/smoker/perl5/perlbrew/perls/perl-5.28.3-thread -Dusedevel -Dusethreads -Accflags=-O2 -pipe -Wall -Wextra -mtune=native -march=native -Aeval:scriptdir=/home/smoker/perl5/perlbrew/perls/perl-5.28.3-thread/bin'
hint=recommended
useposix=true
d_sigaction=define
useithreads=define
usemultiplicity=define
use64bitint=define
use64bitall=define
uselongdouble=undef
usemymalloc=n
default_inc_excludes_dot=define
bincompat5005=undef
Compiler:
cc='cc'
ccflags ='-D_REENTRANT -D_GNU_SOURCE -O2 -pipe -Wall -Wextra -mtune=native -march=native -fwrapv -fno-strict-aliasing -fstack-protector-strong -I/usr/local/include -D_LARGEFILE_SOURCE -D_FILE_OFFSET_BITS=64 -D_FORTIFY_SOURCE=2'
optimize='-O2'
cppflags='-D_REENTRANT -D_GNU_SOURCE -O2 -pipe -Wall -Wextra -mtune=native -march=native -fwrapv -fno-strict-aliasing -fstack-protector-strong -I/usr/local/include'
ccversion=''
gccversion='8.3.0'
gccosandvers=''
intsize=4
longsize=8
ptrsize=8
doublesize=8
byteorder=12345678
doublekind=3
d_longlong=define
longlongsize=8
d_longdbl=define
longdblsize=16
longdblkind=3
ivtype='long'
ivsize=8
nvtype='double'
nvsize=8
Off_t='off_t'
lseeksize=8
alignbytes=8
prototype=define
Linker and Libraries:
ld='cc'
ldflags =' -fstack-protector-strong -L/usr/local/lib'
libpth=/usr/local/lib /usr/lib/gcc/x86_64-linux-gnu/8/include-fixed /usr/include/x86_64-linux-gnu /usr/lib /lib/x86_64-linux-gnu /lib/../lib /usr/lib/x86_64-linux-gnu /usr/lib/../lib /lib
libs=-lpthread -lnsl -ldl -lm -lcrypt -lutil -lc
perllibs=-lpthread -lnsl -ldl -lm -lcrypt -lutil -lc
libc=libc-2.28.so
so=so
useshrplib=false
libperl=libperl.a
gnulibc_version='2.28'
Dynamic Linking:
dlsrc=dl_dlopen.xs
dlext=so
d_dlsymun=undef
ccdlflags='-Wl,-E'
cccdlflags='-fPIC'
lddlflags='-shared -O2 -L/usr/local/lib -fstack-protector-strong'
Characteristics of this binary (from libperl):
Compile-time options:
HAS_TIMES
MULTIPLICITY
PERLIO_LAYERS
PERL_COPY_ON_WRITE
PERL_DONT_CREATE_GVSV
PERL_IMPLICIT_CONTEXT
PERL_MALLOC_WRAP
PERL_OP_PARENT
PERL_PRESERVE_IVUV
PERL_USE_DEVEL
USE_64_BIT_ALL
USE_64_BIT_INT
USE_ITHREADS
USE_LARGE_FILES
USE_LOCALE
USE_LOCALE_COLLATE
USE_LOCALE_CTYPE
USE_LOCALE_NUMERIC
USE_LOCALE_TIME
USE_PERLIO
USE_PERL_ATOF
USE_REENTRANT_API
Locally applied patches:
Devel::PatchPerl 2.00
Built under linux
Compiled at Jun 11 2020 17:46:52
%ENV:
PERL5LIB="/home/smoker/.cpan/build/Plack-1.0050-0/blib/arch:/home/smoker/.cpan/build/Plack-1.0050-0/blib/lib:/home/smoker/.cpan/build/Test-TCP-2.22-0/blib/arch:/home/smoker/.cpan/build/Test-TCP-2.22-0/blib/lib:/home/smoker/.cpan/build/HTTP-Headers-Fast-0.22-0/blib/arch:/home/smoker/.cpan/build/HTTP-Headers-Fast-0.22-0/blib/lib:/home/smoker/.cpan/build/HTTP-Entity-Parser-0.25-0/blib/arch:/home/smoker/.cpan/build/HTTP-Entity-Parser-0.25-0/blib/lib:/home/smoker/.cpan/build/WWW-Form-UrlEncoded-0.26-0/blib/arch:/home/smoker/.cpan/build/WWW-Form-UrlEncoded-0.26-0/blib/lib:/home/smoker/.cpan/build/Stream-Buffered-0.03-0/blib/arch:/home/smoker/.cpan/build/Stream-Buffered-0.03-0/blib/lib:/home/smoker/.cpan/build/Hash-MultiValue-0.16-0/blib/arch:/home/smoker/.cpan/build/Hash-MultiValue-0.16-0/blib/lib:/home/smoker/.cpan/build/HTTP-MultiPartParser-0.02-0/blib/arch:/home/smoker/.cpan/build/HTTP-MultiPartParser-0.02-0/blib/lib:/home/smoker/.cpan/build/Filesys-Notify-Simple-0.14-0/blib/arch:/home/smoker/.cpan/build/Filesys-Notify-Simple-0.14-0/blib/lib:/home/smoker/.cpan/build/Test-SharedFork-0.35-0/blib/arch:/home/smoker/.cpan/build/Test-SharedFork-0.35-0/blib/lib:/home/smoker/.cpan/build/Devel-StackTrace-AsHTML-0.15-0/blib/arch:/home/smoker/.cpan/build/Devel-StackTrace-AsHTML-0.15-0/blib/lib:/home/smoker/.cpan/build/Cookie-Baker-0.11-0/blib/arch:/home/smoker/.cpan/build/Cookie-Baker-0.11-0/blib/lib:/home/smoker/.cpan/build/Test-Time-0.092-0/blib/arch:/home/smoker/.cpan/build/Test-Time-0.092-0/blib/lib:/home/smoker/.cpan/build/Apache-LogFormat-Compiler-0.36-0/blib/arch:/home/smoker/.cpan/build/Apache-LogFormat-Compiler-0.36-0/blib/lib:/home/smoker/.cpan/build/POSIX-strftime-Compiler-0.44-0/blib/arch:/home/smoker/.cpan/build/POSIX-strftime-Compiler-0.44-0/blib/lib:/home/smoker/.cpan/build/MIME-Types-2.24-0/blib/arch:/home/smoker/.cpan/build/MIME-Types-2.24-0/blib/lib:/home/smoker/.cpan/build/Hash-Merge-Simple-0.051-0/blib/arch:/home/smoker/.cpan/build/Hash-Merge-Simple-0.051-0/blib/lib:/home/smoker/.cpan/build/HTTP-Server-Simple-PSGI-0.16-0/blib/arch:/home/smoker/.cpan/build/HTTP-Server-Simple-PSGI-0.16-0/blib/lib:/home/smoker/.cpan/build/HTTP-Server-Simple-0.52-0/blib/arch:/home/smoker/.cpan/build/HTTP-Server-Simple-0.52-0/blib/lib:/home/smoker/.cpan/build/Mozilla-PublicSuffix-v1.0.6-0/blib/arch:/home/smoker/.cpan/build/Mozilla-PublicSuffix-v1.0.6-0/blib/lib:/home/smoker/.cpan/build/HTTP-CookieJar-0.014-0/blib/arch:/home/smoker/.cpan/build/HTTP-CookieJar-0.014-0/blib/lib:/home/smoker/.cpan/build/HTTP-Body-1.22-0/blib/arch:/home/smoker/.cpan/build/HTTP-Body-1.22-0/blib/lib:/home/smoker/.cpan/build/Algorithm-Graphs-Reachable-Tiny-0.04-0/blib/arch:/home/smoker/.cpan/build/Algorithm-Graphs-Reachable-Tiny-0.04-0/blib/lib"
PERL5OPT=""
PERL5_CPANPLUS_IS_RUNNING="31"
PERL5_CPAN_IS_RUNNING="31"
PERL5_CPAN_IS_RUNNING_IN_RECURSION="1,31"
PERLBREW_HOME="/home/smoker/.perlbrew"
PERLBREW_MANPATH="/home/smoker/perl5/perlbrew/perls/perl-5.28.3-thread/man"
PERLBREW_PATH="/home/smoker/perl5/perlbrew/bin:/home/smoker/perl5/perlbrew/perls/perl-5.28.3-thread/bin"
PERLBREW_PERL="perl-5.28.3-thread"
PERLBREW_ROOT="/home/smoker/perl5/perlbrew"
PERLBREW_SHELLRC_VERSION="0.88"
PERLBREW_VERSION="0.88"
PERL_USE_UNSAFE_INC="1"
@INC:
/home/smoker/.cpan/build/Plack-1.0050-0/blib/arch
/home/smoker/.cpan/build/Plack-1.0050-0/blib/lib
/home/smoker/.cpan/build/Test-TCP-2.22-0/blib/arch
/home/smoker/.cpan/build/Test-TCP-2.22-0/blib/lib
/home/smoker/.cpan/build/HTTP-Headers-Fast-0.22-0/blib/arch
/home/smoker/.cpan/build/HTTP-Headers-Fast-0.22-0/blib/lib
/home/smoker/.cpan/build/HTTP-Entity-Parser-0.25-0/blib/arch
/home/smoker/.cpan/build/HTTP-Entity-Parser-0.25-0/blib/lib
/home/smoker/.cpan/build/WWW-Form-UrlEncoded-0.26-0/blib/arch
/home/smoker/.cpan/build/WWW-Form-UrlEncoded-0.26-0/blib/lib
/home/smoker/.cpan/build/Stream-Buffered-0.03-0/blib/arch
/home/smoker/.cpan/build/Stream-Buffered-0.03-0/blib/lib
/home/smoker/.cpan/build/Hash-MultiValue-0.16-0/blib/arch
/home/smoker/.cpan/build/Hash-MultiValue-0.16-0/blib/lib
/home/smoker/.cpan/build/HTTP-MultiPartParser-0.02-0/blib/arch
/home/smoker/.cpan/build/HTTP-MultiPartParser-0.02-0/blib/lib
/home/smoker/.cpan/build/Filesys-Notify-Simple-0.14-0/blib/arch
/home/smoker/.cpan/build/Filesys-Notify-Simple-0.14-0/blib/lib
/home/smoker/.cpan/build/Test-SharedFork-0.35-0/blib/arch
/home/smoker/.cpan/build/Test-SharedFork-0.35-0/blib/lib
/home/smoker/.cpan/build/Devel-StackTrace-AsHTML-0.15-0/blib/arch
/home/smoker/.cpan/build/Devel-StackTrace-AsHTML-0.15-0/blib/lib
/home/smoker/.cpan/build/Cookie-Baker-0.11-0/blib/arch
/home/smoker/.cpan/build/Cookie-Baker-0.11-0/blib/lib
/home/smoker/.cpan/build/Test-Time-0.092-0/blib/arch
/home/smoker/.cpan/build/Test-Time-0.092-0/blib/lib
/home/smoker/.cpan/build/Apache-LogFormat-Compiler-0.36-0/blib/arch
/home/smoker/.cpan/build/Apache-LogFormat-Compiler-0.36-0/blib/lib
/home/smoker/.cpan/build/POSIX-strftime-Compiler-0.44-0/blib/arch
/home/smoker/.cpan/build/POSIX-strftime-Compiler-0.44-0/blib/lib
/home/smoker/.cpan/build/MIME-Types-2.24-0/blib/arch
/home/smoker/.cpan/build/MIME-Types-2.24-0/blib/lib
/home/smoker/.cpan/build/Hash-Merge-Simple-0.051-0/blib/arch
/home/smoker/.cpan/build/Hash-Merge-Simple-0.051-0/blib/lib
/home/smoker/.cpan/build/HTTP-Server-Simple-PSGI-0.16-0/blib/arch
/home/smoker/.cpan/build/HTTP-Server-Simple-PSGI-0.16-0/blib/lib
/home/smoker/.cpan/build/HTTP-Server-Simple-0.52-0/blib/arch
/home/smoker/.cpan/build/HTTP-Server-Simple-0.52-0/blib/lib
/home/smoker/.cpan/build/Mozilla-PublicSuffix-v1.0.6-0/blib/arch
/home/smoker/.cpan/build/Mozilla-PublicSuffix-v1.0.6-0/blib/lib
/home/smoker/.cpan/build/HTTP-CookieJar-0.014-0/blib/arch
/home/smoker/.cpan/build/HTTP-CookieJar-0.014-0/blib/lib
/home/smoker/.cpan/build/HTTP-Body-1.22-0/blib/arch
/home/smoker/.cpan/build/HTTP-Body-1.22-0/blib/lib
/home/smoker/.cpan/build/Algorithm-Graphs-Reachable-Tiny-0.04-0/blib/arch
/home/smoker/.cpan/build/Algorithm-Graphs-Reachable-Tiny-0.04-0/blib/lib
/home/smoker/perl5/perlbrew/perls/perl-5.28.3-thread/lib/site_perl/5.28.3/x86_64-linux-thread-multi
/home/smoker/perl5/perlbrew/perls/perl-5.28.3-thread/lib/site_perl/5.28.3
/home/smoker/perl5/perlbrew/perls/perl-5.28.3-thread/lib/5.28.3/x86_64-linux-thread-multi
/home/smoker/perl5/perlbrew/perls/perl-5.28.3-thread/lib/5.28.3
.