Mojolicious-Plugin-Export-Git v0.003 Perl 5 v5.32.0 amd64-freebsd
- Status
- Pass
- From
- Slaven Rezić
- Dist
-
Mojolicious-Plugin-Export-Git v0.003
- Platform
- Perl 5 v5.32.0 amd64-freebsd
- Date
- 2021-05-09 02:16:05
- ID
- 82a2ad8c-b06c-11eb-a7af-b7181f24ea8f
This distribution has been tested as part of the CPAN Testers
project, supporting the Perl programming language. See
http://wiki.cpantesters.org/ for more information or email
questions to cpan-testers-discuss@perl.org
--
Dear Doug Bell,
This is a computer-generated report for Mojolicious-Plugin-Export-Git-0.003
on perl 5.32.0, created by CPAN-Reporter-1.2018.
Thank you for uploading your work to CPAN. Congratulations!
All tests were successful.
Sections of this report:
* Tester comments
* Program output
* Prerequisites
* Environment and other context
------------------------------
TESTER COMMENTS
------------------------------
Additional comments from tester:
none provided
------------------------------
PROGRAM OUTPUT
------------------------------
Output from '/usr/bin/make test':
PERL_DL_NONLAZY=1 "/usr/perl5.32.0p/bin/perl5.32.0" "-MExtUtils::Command::MM" "-MTest::Harness" "-e" "undef *Test::Harness::Switches; test_harness(0, 'blib/lib', 'blib/arch')" t/*.t
t/00-compile.t ......... ok
#
# Versions for all modules listed in MYMETA.json (including optional ones):
#
# === Configure Requires ===
#
# Module Want Have
# ------------------- ---- ----
# ExtUtils::MakeMaker any 7.58
#
# === Build Requires ===
#
# Module Want Have
# ------------------- ---- ----
# ExtUtils::MakeMaker any 7.58
#
# === Test Requires ===
#
# Module Want Have
# ------------------- ---- --------
# ExtUtils::MakeMaker any 7.58
# File::Spec any 3.78
# IO::Handle any 1.42
# IPC::Open3 any 1.21
# Test::More any 1.302183
#
# === Test Recommends ===
#
# Module Want Have
# ---------- -------- --------
# CPAN::Meta 2.120900 2.150010
#
# === Runtime Requires ===
#
# Module Want Have
# --------------------------- ----- -----
# Git::Repository 1.322 1.324
# Mojolicious 8 9.15
# Mojolicious::Plugin::Export 0.008 0.008
#
t/00-report-prereqs.t .. ok
# Git version: 2.025001
[2021-05-09 02:14:03.39843] [98797] [debug] [U60IIV-URNB8] GET "/"
[2021-05-09 02:14:03.40179] [98797] [debug] [U60IIV-URNB8] Rendering template "index.html.ep" from DATA section
[2021-05-09 02:14:03.40360] [98797] [debug] [U60IIV-URNB8] 200 OK (0.005183s, 192.938/s)
[2021-05-09 02:14:04.54163] [98797] [debug] [bINl3uVBXawE] GET "/"
[2021-05-09 02:14:04.54534] [98797] [debug] [bINl3uVBXawE] Rendering template "index.html.ep" from DATA section
[2021-05-09 02:14:04.54707] [98797] [debug] [bINl3uVBXawE] 200 OK (0.005418s, 184.570/s)
[2021-05-09 02:14:05.18777] [98797] [debug] [ROXF79jyE495] GET "/"
[2021-05-09 02:14:05.18855] [98797] [debug] [ROXF79jyE495] Rendering cached template "index.html.ep" from DATA section
[2021-05-09 02:14:05.18901] [98797] [debug] [ROXF79jyE495] 200 OK (0.001248s, 801.282/s)
[2021-05-09 02:14:05.79576] [98797] [debug] [dT9pAUkae8DA] GET "/"
[2021-05-09 02:14:05.79705] [98797] [debug] [dT9pAUkae8DA] Rendering cached template "index.html.ep" from DATA section
[2021-05-09 02:14:05.79766] [98797] [debug] [dT9pAUkae8DA] 200 OK (0.001876s, 533.049/s)
[2021-05-09 02:14:06.95689] [98797] [debug] [SMxlnoRkcumS] GET "/"
[2021-05-09 02:14:06.96017] [98797] [debug] [SMxlnoRkcumS] Rendering template "index.html.ep" from DATA section
[2021-05-09 02:14:06.96181] [98797] [debug] [SMxlnoRkcumS] 200 OK (0.004935s, 202.634/s)
[2021-05-09 02:14:08.57679] [98797] [debug] [Tpf10h62zBNa] GET "/"
[2021-05-09 02:14:08.58242] [98797] [debug] [Tpf10h62zBNa] Rendering template "index.html.ep" from DATA section
[2021-05-09 02:14:08.58541] [98797] [debug] [Tpf10h62zBNa] 200 OK (0.008558s, 116.850/s)
[2021-05-09 02:14:09.17853] [98797] [debug] [4OHiB9hRJBCw] GET "/"
[2021-05-09 02:14:09.17964] [98797] [debug] [4OHiB9hRJBCw] Rendering cached template "index.html.ep" from DATA section
[2021-05-09 02:14:09.18021] [98797] [debug] [4OHiB9hRJBCw] 200 OK (0.001692s, 591.017/s)
t/git.t ................ ok
All tests successful.
Files=3, Tests=7, 9 wallclock secs ( 0.06 usr 0.00 sys + 2.55 cusr 6.72 csys = 9.33 CPU)
Result: PASS
------------------------------
PREREQUISITES
------------------------------
Prerequisite modules loaded:
requires:
Module Need Have
--------------------------- ----- --------
Git::Repository 1.322 1.324
Mojolicious 8 9.15
Mojolicious::Plugin::Export 0.008 0.008
perl 5.014 5.032000
build_requires:
Module Need Have
--------------------------- ----- --------
ExtUtils::MakeMaker 0 7.58
File::Spec 0 3.78
IO::Handle 0 1.42
IPC::Open3 0 1.21
Test::More 0 1.302183
configure_requires:
Module Need Have
--------------------------- ----- --------
ExtUtils::MakeMaker 0 7.58
------------------------------
ENVIRONMENT AND OTHER CONTEXT
------------------------------
Environment variables:
PATH = /usr/local/bin:/usr/bin:/bin:/usr/local/sbin:/usr/sbin:/sbin:/home/cpansand/bin/sh:/home/cpansand/bin:/usr/games:/home/cpansand/devel:/usr/home/eserte/src/srezic-misc/scripts
PERL5LIB =
PERL5OPT =
PERL5_CPANPLUS_IS_RUNNING = 98709
PERL5_CPAN_IS_RUNNING = 98709
PERL5_CPAN_IS_RUNNING_IN_RECURSION = 94044,98709
PERL_BATCH = yes
PERL_CANARY_STABILITY_NOPROMPT = 1
PERL_CPAN_REPORTER_CONFIG = /var/tmp/cpansmoker-1023/2021050902/cpanreporter_000_config.ini
PERL_EXTUTILS_AUTOINSTALL = --defaultdeps
PERL_USE_UNSAFE_INC = 1
SHELL = /bin/sh
TMPDIR = /var/tmp/cpansmoker-1023/2021050902
Perl special variables (and OS-specific diagnostics, for MSWin32):
$^X = /usr/perl5.32.0p/bin/perl5.32.0
$UID/$EUID = 1023 / 1023
$GID = 1023 1023
$EGID = 1023 1023
Perl module toolchain versions installed:
Module Have
------------------- --------
CPAN 2.28
CPAN::Meta 2.150010
Cwd 3.78
ExtUtils::CBuilder 0.280235
ExtUtils::Command 7.58
ExtUtils::Install 2.20
ExtUtils::MakeMaker 7.58
ExtUtils::Manifest 1.72
ExtUtils::ParseXS 3.40
File::Spec 3.78
JSON 4.03
JSON::PP 4.06
Module::Build 0.4231
Module::Signature 0.87
Parse::CPAN::Meta 2.150010
Test::Harness 3.42
Test::More 1.302183
YAML 1.30
YAML::Syck 1.34
version 0.9924
--
Summary of my perl5 (revision 5 version 32 subversion 0) configuration:
Platform:
osname=freebsd
osvers=12.1-stable
archname=amd64-freebsd
uname='freebsd cloud1.bbbike.org 12.1-stable freebsd 12.1-stable b7dfc76ba0b(stable12) generic amd64 '
config_args='-ds -e -Dprefix=/usr/perl5.32.0p -Dcf_email=srezic@cpan.org -Doptimize=-O2 -pipe'
hint=recommended
useposix=true
d_sigaction=define
useithreads=undef
usemultiplicity=undef
use64bitint=define
use64bitall=define
uselongdouble=undef
usemymalloc=n
default_inc_excludes_dot=define
bincompat5005=undef
Compiler:
cc='cc'
ccflags ='-DHAS_FPSETMASK -DHAS_FLOATINGPOINT_H -fno-strict-aliasing -pipe -fstack-protector-strong -I/usr/local/include'
optimize='-O2 -pipe'
cppflags='-DHAS_FPSETMASK -DHAS_FLOATINGPOINT_H -fno-strict-aliasing -pipe -fstack-protector-strong -I/usr/local/include'
ccversion=''
gccversion='FreeBSD Clang 10.0.0 (git@github.com:llvm/llvm-project.git llvmorg-10.0.0-0-gd32170dbd5b)'
gccosandvers=''
intsize=4
longsize=8
ptrsize=8
doublesize=8
byteorder=12345678
doublekind=3
d_longlong=define
longlongsize=8
d_longdbl=define
longdblsize=16
longdblkind=3
ivtype='long'
ivsize=8
nvtype='double'
nvsize=8
Off_t='off_t'
lseeksize=8
alignbytes=8
prototype=define
Linker and Libraries:
ld='cc'
ldflags ='-pthread -Wl,-E -fstack-protector-strong -L/usr/local/lib'
libpth=/usr/lib /usr/local/lib /usr/lib/clang/10.0.0/lib /usr/lib
libs=-lpthread -lgdbm -ldl -lm -lcrypt -lutil -lc
perllibs=-lpthread -ldl -lm -lcrypt -lutil -lc
libc=
so=so
useshrplib=false
libperl=libperl.a
gnulibc_version=''
Dynamic Linking:
dlsrc=dl_dlopen.xs
dlext=so
d_dlsymun=undef
ccdlflags=' '
cccdlflags='-DPIC -fPIC'
lddlflags='-shared -L/usr/local/lib -fstack-protector-strong'
Characteristics of this binary (from libperl):
Compile-time options:
HAS_TIMES
PERLIO_LAYERS
PERL_COPY_ON_WRITE
PERL_DONT_CREATE_GVSV
PERL_MALLOC_WRAP
PERL_OP_PARENT
PERL_PRESERVE_IVUV
USE_64_BIT_ALL
USE_64_BIT_INT
USE_LARGE_FILES
USE_LOCALE
USE_LOCALE_COLLATE
USE_LOCALE_CTYPE
USE_LOCALE_NUMERIC
USE_LOCALE_TIME
USE_PERLIO
USE_PERL_ATOF
Built under freebsd
Compiled at Jun 21 2020 07:16:14
%ENV:
PERL5LIB=""
PERL5OPT=""
PERL5_CPANPLUS_IS_RUNNING="98709"
PERL5_CPAN_IS_RUNNING="98709"
PERL5_CPAN_IS_RUNNING_IN_RECURSION="94044,98709"
PERL_BATCH="yes"
PERL_CANARY_STABILITY_NOPROMPT="1"
PERL_CPAN_REPORTER_CONFIG="/var/tmp/cpansmoker-1023/2021050902/cpanreporter_000_config.ini"
PERL_EXTUTILS_AUTOINSTALL="--defaultdeps"
PERL_USE_UNSAFE_INC="1"
@INC:
/usr/perl5.32.0p/lib/site_perl/5.32.0/amd64-freebsd
/usr/perl5.32.0p/lib/site_perl/5.32.0
/usr/perl5.32.0p/lib/5.32.0/amd64-freebsd
/usr/perl5.32.0p/lib/5.32.0
.