Web-Scraper v0.38 Perl 5 v5.24.4 x86_64-linux
- Status
- Pass
- From
- Slaven Rezić (SREZIC)
- Dist
-
Web-Scraper v0.38
- Platform
- Perl 5 v5.24.4 x86_64-linux
- Date
- 2019-04-12 04:29:07
- ID
- 82b0ae28-5cdb-11e9-8c2e-d53f1f24ea8f
This distribution has been tested as part of the CPAN Testers
project, supporting the Perl programming language. See
http://wiki.cpantesters.org/ for more information or email
questions to cpan-testers-discuss@perl.org
--
Dear Tatsuhiko Miyagawa,
This is a computer-generated report for Web-Scraper-0.38
on perl 5.24.4, created by CPAN-Reporter-1.2018.
Thank you for uploading your work to CPAN. Congratulations!
All tests were successful.
Sections of this report:
* Tester comments
* Program output
* Prerequisites
* Environment and other context
------------------------------
TESTER COMMENTS
------------------------------
Additional comments from tester:
none provided
------------------------------
PROGRAM OUTPUT
------------------------------
Output from './Build test':
t/00_compile.t .......... ok
t/01_process.t .......... ok
t/02_process_multi.t .... ok
t/03_scraper_nest.t ..... ok
t/04_callback.t ......... ok
t/05_process_first.t .... ok
t/06_define.t ........... ok
t/07-live.t ............. skipped: LIVE_TEST not enabled
t/08-leak.t ............. skipped: LEAK_TEST is not defined
t/09-process_hash.t ..... ok
t/11_absolute.t ......... ok
t/12_html.t ............. ok
t/13_textnode.t ......... ok
t/14_absolute_nested.t .. ok
t/15_absolute_hash.t .... ok
t/16_filter.t ........... ok
t/17_filter_loop.t ...... ok
t/18_http_response.t .... skipped: LIVE_TEST not enabled
t/19_decode_content.t ... skipped: LIVE_TEST not enabled
t/20_comment_nodes.t .... skipped: Please upgrade HTML::TreeBuilder::XPath and HTML::TreeBuilder::LibXML modules for comment nodes supporting
t/21_html5.t ............ ok
t/22_filter_regex.t ..... ok
t/redefine.t ............ ok
t/release-pod-syntax.t .. skipped: these tests are for release candidate testing
t/xml-simple.t .......... skipped: Test requires module 'HTML::TreeBuilder::LibXML' but it's not found
All tests successful.
Files=25, Tests=42, 4 wallclock secs ( 0.08 usr 0.16 sys + 2.98 cusr 0.66 csys = 3.88 CPU)
Result: PASS
------------------------------
PREREQUISITES
------------------------------
Prerequisite modules loaded:
requires:
Module Need Have
------------------------ -------- --------
HTML::Entities 0 3.69
HTML::Selector::XPath 0.03 0.25
HTML::Tagset 0 3.20
HTML::TreeBuilder 3.23 5.07
HTML::TreeBuilder::XPath 0.08 0.14
LWP 5.827 6.37
perl 5.008001 5.024004
Scalar::Util 0 1.50
UNIVERSAL::require 0 0.18
URI 0 1.76
XML::XPathEngine 0.08 0.14
YAML 0 1.27
build_requires:
Module Need Have
------------------------ -------- --------
ExtUtils::MakeMaker 6.59 7.34
Test::Base 0 0.89
Test::More 0 1.302162
Test::Requires 0 0.10
configure_requires:
Module Need Have
------------------------ -------- --------
Module::Build::Tiny 0.039 0.039
------------------------------
ENVIRONMENT AND OTHER CONTEXT
------------------------------
Environment variables:
LANG = en_US.UTF-8
LC_ALL = de_DE.UTF-8
PATH = /usr/local/bin:/usr/bin:/bin:/usr/local/sbin:/usr/sbin:/sbin:/home/cpansand/bin/linux-gnu:/home/cpansand/bin/sh:/home/cpansand/bin:/usr/games:/home/cpansand/devel:/home/eserte/src/srezic-misc/scripts
PERL5LIB = /home/cpansand/.cpan/build/2019041204/HTML-TreeBuilder-XPath-0.14-LDIWjH/blib/arch:/home/cpansand/.cpan/build/2019041204/HTML-TreeBuilder-XPath-0.14-LDIWjH/blib/lib:/home/cpansand/.cpan/build/2019041204/Gtk2-1.24992-8kiMt1/blib/arch:/home/cpansand/.cpan/build/2019041204/Gtk2-1.24992-8kiMt1/blib/lib:/home/cpansand/.cpan/build/2019041204/Pango-1.227-lS6C6U/blib/arch:/home/cpansand/.cpan/build/2019041204/Pango-1.227-lS6C6U/blib/lib:/home/cpansand/.cpan/build/2019041204/Cairo-1.106-bp3Bvr/blib/arch:/home/cpansand/.cpan/build/2019041204/Cairo-1.106-bp3Bvr/blib/lib:/home/cpansand/.cpan/build/2019041204/Glib-1.329-ADlsxf/blib/arch:/home/cpansand/.cpan/build/2019041204/Glib-1.329-ADlsxf/blib/lib:/home/cpansand/.cpan/build/2019041204/Alien-Gimp-0.08-FDy8CS/blib/arch:/home/cpansand/.cpan/build/2019041204/Alien-Gimp-0.08-FDy8CS/blib/lib
PERL5OPT =
PERL5_CPANPLUS_IS_RUNNING = 25594
PERL5_CPAN_IS_RUNNING = 25594
PERL5_CPAN_IS_RUNNING_IN_RECURSION = 29137,25594
PERLDOC = -MPod::Perldoc::ToTextOverstrike
PERL_BATCH = yes
PERL_CANARY_STABILITY_NOPROMPT = 1
PERL_CPAN_REPORTER_CONFIG = /var/tmp/cpansmoker-1023/2019041201/cpanreporter_000_config.ini
PERL_EXTUTILS_AUTOINSTALL = --defaultdeps
SHELL = /usr/bin/zsh
TERM = screen
TMPDIR = /var/tmp/cpansmoker-1023/2019041201
Perl special variables (and OS-specific diagnostics, for MSWin32):
$^X = /opt/perl-5.24.4/bin/perl
$UID/$EUID = 1023 / 1023
$GID = 1023 1023
$EGID = 1023 1023
Perl module toolchain versions installed:
Module Have
------------------- --------
CPAN 2.11_01
CPAN::Meta 2.150010
Cwd 3.75
ExtUtils::CBuilder 0.280225
ExtUtils::Command 7.34
ExtUtils::Install 2.06
ExtUtils::MakeMaker 7.34
ExtUtils::Manifest 1.72
ExtUtils::ParseXS 3.31
File::Spec 3.75
JSON 4.02
JSON::PP 4.02
Module::Build 0.4224
Module::Signature n/a
Parse::CPAN::Meta 2.150010
Test::Harness 3.36_01
Test::More 1.302162
YAML 1.27
YAML::Syck 1.31
version 0.9924
--
Summary of my perl5 (revision 5 version 24 subversion 4) configuration:
Platform:
osname=linux, osvers=4.4.0-140-generic, archname=x86_64-linux
uname='linux ubuntu16 4.4.0-140-generic #166-ubuntu smp wed nov 14 20:09:47 utc 2018 x86_64 x86_64 x86_64 gnulinux '
config_args='-ds -e -Dprefix=/opt/perl-5.24.4 -Dcf_email=srezic@cpan.org'
hint=recommended, useposix=true, d_sigaction=define
useithreads=undef, usemultiplicity=undef
use64bitint=define, use64bitall=define, uselongdouble=undef
usemymalloc=n, bincompat5005=undef
Compiler:
cc='cc', ccflags ='-fwrapv -fno-strict-aliasing -pipe -fstack-protector-strong -I/usr/local/include -D_LARGEFILE_SOURCE -D_FILE_OFFSET_BITS=64',
optimize='-O2',
cppflags='-fwrapv -fno-strict-aliasing -pipe -fstack-protector-strong -I/usr/local/include'
ccversion='', gccversion='5.4.0 20160609', gccosandvers=''
intsize=4, longsize=8, ptrsize=8, doublesize=8, byteorder=12345678, doublekind=3
d_longlong=define, longlongsize=8, d_longdbl=define, longdblsize=16, longdblkind=3
ivtype='long', ivsize=8, nvtype='double', nvsize=8, Off_t='off_t', lseeksize=8
alignbytes=8, prototype=define
Linker and Libraries:
ld='cc', ldflags =' -fstack-protector-strong -L/usr/local/lib'
libpth=/usr/local/lib /usr/lib/gcc/x86_64-linux-gnu/5/include-fixed /usr/include/x86_64-linux-gnu /usr/lib /lib/x86_64-linux-gnu /lib/../lib /usr/lib/x86_64-linux-gnu /usr/lib/../lib /lib
libs=-lpthread -lnsl -lgdbm -ldb -ldl -lm -lcrypt -lutil -lc -lgdbm_compat
perllibs=-lpthread -lnsl -ldl -lm -lcrypt -lutil -lc
libc=libc-2.23.so, so=so, useshrplib=false, libperl=libperl.a
gnulibc_version='2.23'
Dynamic Linking:
dlsrc=dl_dlopen.xs, dlext=so, d_dlsymun=undef, ccdlflags='-Wl,-E'
cccdlflags='-fPIC', lddlflags='-shared -O2 -L/usr/local/lib -fstack-protector-strong'
Characteristics of this binary (from libperl):
Compile-time options: HAS_TIMES PERLIO_LAYERS PERL_COPY_ON_WRITE
PERL_DONT_CREATE_GVSV
PERL_HASH_FUNC_ONE_AT_A_TIME_HARD PERL_MALLOC_WRAP
PERL_PRESERVE_IVUV USE_64_BIT_ALL USE_64_BIT_INT
USE_LARGE_FILES USE_LOCALE USE_LOCALE_COLLATE
USE_LOCALE_CTYPE USE_LOCALE_NUMERIC USE_LOCALE_TIME
USE_PERLIO USE_PERL_ATOF
Built under linux
Compiled at Dec 11 2018 22:51:22
%ENV:
PERL5LIB="/home/cpansand/.cpan/build/2019041204/HTML-TreeBuilder-XPath-0.14-LDIWjH/blib/arch:/home/cpansand/.cpan/build/2019041204/HTML-TreeBuilder-XPath-0.14-LDIWjH/blib/lib:/home/cpansand/.cpan/build/2019041204/Gtk2-1.24992-8kiMt1/blib/arch:/home/cpansand/.cpan/build/2019041204/Gtk2-1.24992-8kiMt1/blib/lib:/home/cpansand/.cpan/build/2019041204/Pango-1.227-lS6C6U/blib/arch:/home/cpansand/.cpan/build/2019041204/Pango-1.227-lS6C6U/blib/lib:/home/cpansand/.cpan/build/2019041204/Cairo-1.106-bp3Bvr/blib/arch:/home/cpansand/.cpan/build/2019041204/Cairo-1.106-bp3Bvr/blib/lib:/home/cpansand/.cpan/build/2019041204/Glib-1.329-ADlsxf/blib/arch:/home/cpansand/.cpan/build/2019041204/Glib-1.329-ADlsxf/blib/lib:/home/cpansand/.cpan/build/2019041204/Alien-Gimp-0.08-FDy8CS/blib/arch:/home/cpansand/.cpan/build/2019041204/Alien-Gimp-0.08-FDy8CS/blib/lib"
PERL5OPT=""
PERL5_CPANPLUS_IS_RUNNING="25594"
PERL5_CPAN_IS_RUNNING="25594"
PERL5_CPAN_IS_RUNNING_IN_RECURSION="29137,25594"
PERLDOC="-MPod::Perldoc::ToTextOverstrike"
PERL_BATCH="yes"
PERL_CANARY_STABILITY_NOPROMPT="1"
PERL_CPAN_REPORTER_CONFIG="/var/tmp/cpansmoker-1023/2019041201/cpanreporter_000_config.ini"
PERL_EXTUTILS_AUTOINSTALL="--defaultdeps"
@INC:
/home/cpansand/.cpan/build/2019041204/HTML-TreeBuilder-XPath-0.14-LDIWjH/blib/arch
/home/cpansand/.cpan/build/2019041204/HTML-TreeBuilder-XPath-0.14-LDIWjH/blib/lib
/home/cpansand/.cpan/build/2019041204/Gtk2-1.24992-8kiMt1/blib/arch
/home/cpansand/.cpan/build/2019041204/Gtk2-1.24992-8kiMt1/blib/lib
/home/cpansand/.cpan/build/2019041204/Pango-1.227-lS6C6U/blib/arch
/home/cpansand/.cpan/build/2019041204/Pango-1.227-lS6C6U/blib/lib
/home/cpansand/.cpan/build/2019041204/Cairo-1.106-bp3Bvr/blib/arch
/home/cpansand/.cpan/build/2019041204/Cairo-1.106-bp3Bvr/blib/lib
/home/cpansand/.cpan/build/2019041204/Glib-1.329-ADlsxf/blib/arch
/home/cpansand/.cpan/build/2019041204/Glib-1.329-ADlsxf/blib/lib
/home/cpansand/.cpan/build/2019041204/Alien-Gimp-0.08-FDy8CS/blib/arch
/home/cpansand/.cpan/build/2019041204/Alien-Gimp-0.08-FDy8CS/blib/lib
/opt/perl-5.24.4/lib/site_perl/5.24.4/x86_64-linux
/opt/perl-5.24.4/lib/site_perl/5.24.4
/opt/perl-5.24.4/lib/5.24.4/x86_64-linux
/opt/perl-5.24.4/lib/5.24.4
.