Back
From: metabase:user:30f0bd62-2aae-11df-837a-5e0a49663a4f
Subject: PASS Log-Dispatch-Screen-Color-0.04 v5.13.4 NetBSD
Date: 2010-09-17T20:59:50Z
This distribution has been tested as part of the CPAN Testers
project, supporting the Perl programming language. See
http://wiki.cpantesters.org/ for more information or email
questions to cpan-testers-discuss@perl.org
--
Dear Kazuhiro Osawa,
This is a computer-generated report for Log-Dispatch-Screen-Color-0.04
on perl 5.13.4, created by CPAN-Reporter-1.1801.
Thank you for uploading your work to CPAN. Congratulations!
All tests were successful.
Sections of this report:
* Tester comments
* Program output
* Prerequisites
* Environment and other context
------------------------------
TESTER COMMENTS
------------------------------
Additional comments from tester:
this report is from an automated smoke testing program
and was not reviewed by a human for accuracy
------------------------------
PROGRAM OUTPUT
------------------------------
Output from '/usr/bin/make test':
PERL_DL_NONLAZY=1 /home/sts/cpansmoke/perl-5.13.4/bin/perl5.13.4 "-MExtUtils::Command::MM" "-e" "test_harness(0, 'inc', 'blib/lib', 'blib/arch')" t/*.t
t/00_compile.t ......... ok
# [47m[31mdebug[0m[0m
# [47m[31minfo[0m[0m
# [47m[31mnotice[0m[0m
# [47m[31mwarning[0m[0m
# [47m[31merr[0m[0m
# [47m[31merror[0m[0m
# [47m[31mcrit[0m[0m
# [47m[31mcritical[0m[0m
# [47m[31malert[0m[0m
# [47m[31memerg[0m[0m
# [47m[31memergency[0m[0m
t/01_basic.t ........... ok
# debug
# [34minfo[0m
# [32mnotice[0m
# [43m[30mwarning[0m[0m
# [43m[31merr[0m[0m
# [43m[31merror[0m[0m
# [41m[30mcrit[0m[0m
# [41m[30mcritical[0m[0m
# [1m[41m[37malert[0m[0m[0m
# [1m[41m[33memerg[0m[0m[0m
# [1m[41m[33memergency[0m[0m[0m
t/02_default.t ......... ok
# [47m[31mdebug[0m[0m
# [47m[31minfo[0m[0m
# [47m[31mnotice[0m[0m
# [47m[31mwarning[0m[0m
# [47m[31merr[0m[0m
# [47m[31merror[0m[0m
# [47m[31mcrit[0m[0m
# [47m[31mcritical[0m[0m
# [47m[31malert[0m[0m
# [47m[31memerg[0m[0m
# [47m[31memergency[0m[0m
t/03_change_default.t .. ok
t/04_newline.t ......... ok
All tests successful.
Files=5, Tests=36, 1 wallclock secs ( 0.06 usr 0.02 sys + 0.40 cusr 0.15 csys = 0.63 CPU)
Result: PASS
------------------------------
PREREQUISITES
------------------------------
Prerequisite modules loaded:
requires:
Module Need Have
------------------- ---- ------
ExtUtils::MakeMaker 6.42 6.5601
Filter::Util::Call 0 1.08
IO::Scalar 0 2.110
Log::Dispatch 0 2.26
Params::Validate 0 0.95
Term::ANSIColor 0 3.00
Test::More 0 0.96
configure_requires:
Module Need Have
------------------- ---- ------
ExtUtils::MakeMaker 6.42 6.5601
------------------------------
ENVIRONMENT AND OTHER CONTEXT
------------------------------
Environment variables:
AUTOMATED_TESTING = 1
PATH = /home/sts/bin:/bin:/sbin:/usr/bin:/usr/sbin:/usr/X11R7/bin:/usr/X11R6/bin:/usr/pkg/bin:/usr/pkg/sbin:/usr/games:/usr/local/bin:/usr/local/sbin
PERL5LIB = /home/sts/cpansmoke/perl-5.13.4/cpan/build/Log-Dispatch-2.26-viE9xd/blib/arch:/home/sts/cpansmoke/perl-5.13.4/cpan/build/Log-Dispatch-2.26-viE9xd/blib/lib:/home/sts/cpansmoke/perl-5.13.4/cpan/build/IO-stringy-2.110-T9FJ2g/blib/arch:/home/sts/cpansmoke/perl-5.13.4/cpan/build/IO-stringy-2.110-T9FJ2g/blib/lib:/home/sts/cpansmoke/perl-5.13.4/cpan/build/Params-Validate-0.95-Uiiiis/blib/arch:/home/sts/cpansmoke/perl-5.13.4/cpan/build/Params-Validate-0.95-Uiiiis/blib/lib
PERL5OPT =
PERL5_CPANPLUS_IS_RUNNING = 8019
PERL5_CPAN_IS_RUNNING = 8019
PERL5_CPAN_IS_RUNNING_IN_RECURSION = 21047,8019
PERL_CR_SMOKER_CURRENT = Log-Dispatch-Screen-Color-0.04
PERL_EXTUTILS_AUTOINSTALL = --defaultdeps
PERL_MM_USE_DEFAULT = 1
SHELL = /bin/sh
TERM = screen
Perl special variables (and OS-specific diagnostics, for MSWin32):
$^X = /home/sts/cpansmoke/perl-5.13.4/bin/perl5.13.4
$UID/$EUID = 1000 / 1000
$GID = 100 100 0
$EGID = 100 100 0
Perl module toolchain versions installed:
Module Have
------------------- -------
CPAN 1.94_57
Cwd 3.31
ExtUtils::CBuilder 0.2703
ExtUtils::Command 1.16
ExtUtils::Install 1.55
ExtUtils::MakeMaker 6.5601
ExtUtils::Manifest 1.58
ExtUtils::ParseXS 2.2207
File::Spec 3.31_01
Module::Build 0.3607
Module::Signature n/a
Test::Harness 3.22
Test::More 0.96
YAML 0.72
YAML::Syck 1.14
version 0.82
--
Summary of my perl5 (revision 5 version 13 subversion 4) configuration:
Platform:
osname=netbsd, osvers=5.0.2, archname=i386-netbsd-thread-multi
uname='netbsd cpansmoke2 5.0.2 netbsd 5.0.2 (xen3_domu) #0: sat feb 6 17:51:58 utc 2010 builds@b7.netbsd.org:homebuildsabnetbsd-5-0-2-releasei386201002061851z-objhomebuildsabnetbsd-5-0-2-releasesrcsysarchi386compilexen3_domu i386 '
config_args='-des -Dusedevel -Dusethreads -Dprefix=/home/sts/cpansmoke/perl-5.13.4'
hint=recommended, useposix=true, d_sigaction=define
useithreads=define, usemultiplicity=define
useperlio=define, d_sfio=undef, uselargefiles=define, usesocks=undef
use64bitint=undef, use64bitall=undef, uselongdouble=undef
usemymalloc=y, bincompat5005=undef
Compiler:
cc='cc', ccflags ='-fno-strict-aliasing -pipe -fstack-protector -I/usr/pkg/include',
optimize='-O',
cppflags='-fno-strict-aliasing -pipe -fstack-protector -I/usr/pkg/include'
ccversion='', gccversion='4.1.3 20080704 prerelease (NetBSD nb2 20081120)', gccosandvers=''
intsize=4, longsize=4, ptrsize=4, doublesize=8, byteorder=1234
d_longlong=define, longlongsize=8, d_longdbl=define, longdblsize=12
ivtype='long', ivsize=4, nvtype='double', nvsize=8, Off_t='off_t', lseeksize=8
alignbytes=4, prototype=define
Linker and Libraries:
ld='cc', ldflags =' -Wl,-rpath,/usr/pkg/lib -Wl,-rpath,/usr/local/lib -fstack-protector -L/usr/pkg/lib'
libpth=/usr/pkg/lib /lib /usr/lib
libs=-lm -lcrypt -lutil -lc -lposix -lpthread
perllibs=-lm -lcrypt -lutil -lc -lposix -lpthread
libc=/lib/libc.so, so=so, useshrplib=false, libperl=libperl.a
gnulibc_version=''
Dynamic Linking:
dlsrc=dl_dlopen.xs, dlext=so, d_dlsymun=undef, ccdlflags='-Wl,-E '
cccdlflags='-DPIC -fPIC ', lddlflags='--whole-archive -shared -L/usr/pkg/lib -fstack-protector'
Characteristics of this binary (from libperl):
Compile-time options: MULTIPLICITY MYMALLOC PERL_DONT_CREATE_GVSV
PERL_IMPLICIT_CONTEXT PERL_MALLOC_WRAP PERL_USE_DEVEL
USE_ITHREADS USE_LARGE_FILES USE_PERLIO USE_PERL_ATOF
USE_REENTRANT_API
Built under netbsd
Compiled at Sep 14 2010 22:07:43
%ENV:
PERL5LIB="/home/sts/cpansmoke/perl-5.13.4/cpan/build/Log-Dispatch-2.26-viE9xd/blib/arch:/home/sts/cpansmoke/perl-5.13.4/cpan/build/Log-Dispatch-2.26-viE9xd/blib/lib:/home/sts/cpansmoke/perl-5.13.4/cpan/build/IO-stringy-2.110-T9FJ2g/blib/arch:/home/sts/cpansmoke/perl-5.13.4/cpan/build/IO-stringy-2.110-T9FJ2g/blib/lib:/home/sts/cpansmoke/perl-5.13.4/cpan/build/Params-Validate-0.95-Uiiiis/blib/arch:/home/sts/cpansmoke/perl-5.13.4/cpan/build/Params-Validate-0.95-Uiiiis/blib/lib"
PERL5OPT=""
PERL5_CPANPLUS_IS_RUNNING="8019"
PERL5_CPAN_IS_RUNNING="8019"
PERL5_CPAN_IS_RUNNING_IN_RECURSION="21047,8019"
PERL_CR_SMOKER_CURRENT="Log-Dispatch-Screen-Color-0.04"
PERL_EXTUTILS_AUTOINSTALL="--defaultdeps"
PERL_MM_USE_DEFAULT="1"
@INC:
/home/sts/cpansmoke/perl-5.13.4/cpan/build/Log-Dispatch-2.26-viE9xd/blib/arch
/home/sts/cpansmoke/perl-5.13.4/cpan/build/Log-Dispatch-2.26-viE9xd/blib/lib
/home/sts/cpansmoke/perl-5.13.4/cpan/build/IO-stringy-2.110-T9FJ2g/blib/arch
/home/sts/cpansmoke/perl-5.13.4/cpan/build/IO-stringy-2.110-T9FJ2g/blib/lib
/home/sts/cpansmoke/perl-5.13.4/cpan/build/Params-Validate-0.95-Uiiiis/blib/arch
/home/sts/cpansmoke/perl-5.13.4/cpan/build/Params-Validate-0.95-Uiiiis/blib/lib
/home/sts/cpansmoke/perl-5.13.4/lib/site_perl/5.13.4/i386-netbsd-thread-multi
/home/sts/cpansmoke/perl-5.13.4/lib/site_perl/5.13.4
/home/sts/cpansmoke/perl-5.13.4/lib/5.13.4/i386-netbsd-thread-multi
/home/sts/cpansmoke/perl-5.13.4/lib/5.13.4
.