Crypt-OpenSSL-PKCS10 v0.35 Perl 5 v5.41.9 amd64-netbsd

Status
Pass
From
Carlos Guevara
Dist
Crypt-OpenSSL-PKCS10 v0.35
Platform
Perl 5 v5.41.9 amd64-netbsd
Date
2025-02-12 10:31:26
ID
832b6e5e-e92c-11ef-a946-c03f3350bfaf
This distribution has been tested as part of the CPAN Testers
project, supporting the Perl programming language.  See
http://wiki.cpantesters.org/ for more information or email
questions to cpan-testers-discuss@perl.org


--
Dear Timothy Legge,

This is a computer-generated report for Crypt-OpenSSL-PKCS10-0.35
on perl 5.41.9, created by CPAN-Reporter-1.2020.

Thank you for uploading your work to CPAN.  Congratulations!
All tests were successful.

Sections of this report:

    * Tester comments
    * Program output
    * Prerequisites
    * Environment and other context

------------------------------
TESTER COMMENTS
------------------------------

Additional comments from tester:

this report is from an automated smoke testing program
and was not reviewed by a human for accuracy

------------------------------
PROGRAM OUTPUT
------------------------------

Output from '/usr/bin/make test':

"/home/cpan/bin/perl/bin/perl5.41.9" -MExtUtils::Command::MM -e 'cp_nonempty' -- PKCS10.bs blib/arch/auto/Crypt/OpenSSL/PKCS10/PKCS10.bs 644
PERL_DL_NONLAZY=1 "/home/cpan/bin/perl/bin/perl5.41.9" "-MExtUtils::Command::MM" "-MTest::Harness" "-e" "undef *Test::Harness::Switches; test_harness(0, 'blib/lib', 'blib/arch')" t/*.t
# OpenSSL 3.0.12 24 Oct 2023 (Library: OpenSSL 3.0.12 24 Oct 2023)
t/00-openssl-version.t .. ok
t/10-rsa-keys.t ......... ok
t/20-ec.t ............... ok
t/30-ec-keys.t .......... ok
t/author-pod-spell.t .... skipped: these tests are for testing by the author
t/author-pod-syntax.t ... skipped: these tests are for testing by the author
-----BEGIN CERTIFICATE REQUEST-----
MIIBPzCBqQIBADAAMIGfMA0GCSqGSIb3DQEBAQUAA4GNADCBiQKBgQDFj7Yz3QQn
00Ey1PWsbI/x+ZOmuBR4XppmJC3NRJY4JuCgppiWqfpISGsABrUu4VMmiyVpHKQ3
GkyM7LUhcmG4EJ3cZQRCJrJ2j5rCvZwK4zQB1rWWCM4iaElBfpTk8Blzmp6uZZ51
UMox0eLLHRoXLjmigguu1fDTIOeEKEVq4QIDAQABoAAwDQYJKoZIhvcNAQELBQAD
gYEAwFh7HcouNyQjt19g1iYnP6PrL+I75ZjgvEkyU7QPdiA8iVbwmcHgiIzmEqDh
X7b4YG23ByRsWUOQJwYtNlypaRO5T6mrM0/ZHURRydAyYKee9INm3dHCMFWDd34a
P1xGSnJ5HLsfimM9o/sTIDFWB2SkFB4I31gCTWHy/nsLLgE=
-----END CERTIFICATE REQUEST-----
-----BEGIN PRIVATE KEY-----
MIICdgIBADANBgkqhkiG9w0BAQEFAASCAmAwggJcAgEAAoGBAMWPtjPdBCfTQTLU
9axsj/H5k6a4FHhemmYkLc1Eljgm4KCmmJap+khIawAGtS7hUyaLJWkcpDcaTIzs
tSFyYbgQndxlBEImsnaPmsK9nArjNAHWtZYIziJoSUF+lOTwGXOanq5lnnVQyjHR
4ssdGhcuOaKCC67V8NMg54QoRWrhAgMBAAECgYEAqj856F+h4R/vo3pZa4jyUrec
QaOIIGKF81diEO319dWq5UYrYEqCYB/n9VHSeN+75A8s4fPIn6OOLDMfs/75rT0P
4RyKhR4BpAFlGtbCEMIfEeUtl497yrsYUmES6Kktddc1UZdeBcIFqsRV8o0o9L8i
hfkyvyAZpL6pnn8Vl3ECQQDmLWRGNSiFHboUkHqL01WTql3gCk5U5a6Y/nv2SWB1
eX5VmHJqawym3clIFnH0XYmur8DyRd4UQbpYjeZvepSPAkEA27maK2mAU35s3oFL
92oQQgfIK9VOR5fBuetR+THRMYI1ZeaXTpb7gugpd6548qb3rSk3byHwzOLEnUbc
3vohjwJAGQgAqp3nTSqhbNEVcpVF7iwNz2pvgE4GAb9TDcKHCd9vfLF6Z9ZCZvch
h4RhWhi9+1BDpFUyxHMtZ6nu0Fq9QwJAbaqXXi+MEyA4ql2SUuynLK3BpM8UAPun
f2oKQfwxUyqQCEotHtaQtee2OrvkNghL+itmNZuVGk3coDssJkZl1QJAGOicf3cK
wmIElIqOUeUb0uknl0rtMjPupVIrOJuuPlwWJ9sSqu76nq22WYL8tRjt3UjNlFkX
eznRu1jcl2uyGQ==
-----END PRIVATE KEY-----


Public-Key: (1024 bit)
Modulus:
    00:c5:8f:b6:33:dd:04:27:d3:41:32:d4:f5:ac:6c:
    8f:f1:f9:93:a6:b8:14:78:5e:9a:66:24:2d:cd:44:
    96:38:26:e0:a0:a6:98:96:a9:fa:48:48:6b:00:06:
    b5:2e:e1:53:26:8b:25:69:1c:a4:37:1a:4c:8c:ec:
    b5:21:72:61:b8:10:9d:dc:65:04:42:26:b2:76:8f:
    9a:c2:bd:9c:0a:e3:34:01:d6:b5:96:08:ce:22:68:
    49:41:7e:94:e4:f0:19:73:9a:9e:ae:65:9e:75:50:
    ca:31:d1:e2:cb:1d:1a:17:2e:39:a2:82:0b:ae:d5:
    f0:d3:20:e7:84:28:45:6a:e1
Exponent: 65537 (0x10001)

-----BEGIN CERTIFICATE REQUEST-----
MIIBPzCBqQIBADAAMIGfMA0GCSqGSIb3DQEBAQUAA4GNADCBiQKBgQCXDW2TRtge
dhTz3EioIExVlWPCVo1iStrcLexCM9lqdhIUz0DLpjAd1+61asjAM6ynhTTcO63L
5JxjfXYU77aWOI3r6cIozTWWydeAkxfvicejCIeHlbEmPjUj3v1DZd4NsubxRtGm
/lG8vbIsmB+hUcL40bMgFPTKC6lXk3OcHQIDAQABoAAwDQYJKoZIhvcNAQELBQAD
gYEAg6HY4Ap9xmlQZbmjCJCoq5Q3g0PCUnCDP2zfJyw3NwVX+xVjS+XQnSFIWpuV
lxantWvE/W9vG5wpmAJpR+WAoSwymmRkGv5//AzeOLL8GjVM0nXJBBBI5zw+HBvM
9QCdmvnjT30dwdVhsgYIbtWlyKNSCnckxmtgiGx48BiMY38=
-----END CERTIFICATE REQUEST-----

Public-Key: (1024 bit)
Modulus:
    00:97:0d:6d:93:46:d8:1e:76:14:f3:dc:48:a8:20:
    4c:55:95:63:c2:56:8d:62:4a:da:dc:2d:ec:42:33:
    d9:6a:76:12:14:cf:40:cb:a6:30:1d:d7:ee:b5:6a:
    c8:c0:33:ac:a7:85:34:dc:3b:ad:cb:e4:9c:63:7d:
    76:14:ef:b6:96:38:8d:eb:e9:c2:28:cd:35:96:c9:
    d7:80:93:17:ef:89:c7:a3:08:87:87:95:b1:26:3e:
    35:23:de:fd:43:65:de:0d:b2:e6:f1:46:d1:a6:fe:
    51:bc:bd:b2:2c:98:1f:a1:51:c2:f8:d1:b3:20:14:
    f4:ca:0b:a9:57:93:73:9c:1d
Exponent: 65537 (0x10001)

rsa
-----BEGIN PUBLIC KEY-----
MIGfMA0GCSqGSIb3DQEBAQUAA4GNADCBiQKBgQCXDW2TRtgedhTz3EioIExVlWPC
Vo1iStrcLexCM9lqdhIUz0DLpjAd1+61asjAM6ynhTTcO63L5JxjfXYU77aWOI3r
6cIozTWWydeAkxfvicejCIeHlbEmPjUj3v1DZd4NsubxRtGm/lG8vbIsmB+hUcL4
0bMgFPTKC6lXk3OcHQIDAQAB
-----END PUBLIC KEY-----

-----BEGIN CERTIFICATE REQUEST-----
MIIBPzCBqQIBADAAMIGfMA0GCSqGSIb3DQEBAQUAA4GNADCBiQKBgQCxjrMVJfnk
BQEt/cyChMQV2BYtc76LzrqTIXow4rb1dua85UyOnWAaXXfow/GPBTOl2bji+G6L
WHsv50Bj7AdPLCdIbfSTw5srL+EVmQPFXLvHKAXZnztIZno63PG3+juu/cLH5xkO
7vS87NMc7Ec/elNNEIJ2jIF+m2exQqhgBwIDAQABoAAwDQYJKoZIhvcNAQEMBQAD
gYEABXuax9AYfjMbD/OAvhBXwuuqogYlOJNHu7yQe5FEsTSkI8mNiEotey8Wsc2d
bZZyR9SbYMXpNoP0A1tgqF7uc5yhC4or44ZONu4H217zgtXVZBLPROmhVqxybU1e
3HH2aC3USNRrA/EFAGOks/dHicDHwx6UJda4b0EghmXJQis=
-----END CERTIFICATE REQUEST-----

Public-Key: (1024 bit)
Modulus:
    00:b1:8e:b3:15:25:f9:e4:05:01:2d:fd:cc:82:84:
    c4:15:d8:16:2d:73:be:8b:ce:ba:93:21:7a:30:e2:
    b6:f5:76:e6:bc:e5:4c:8e:9d:60:1a:5d:77:e8:c3:
    f1:8f:05:33:a5:d9:b8:e2:f8:6e:8b:58:7b:2f:e7:
    40:63:ec:07:4f:2c:27:48:6d:f4:93:c3:9b:2b:2f:
    e1:15:99:03:c5:5c:bb:c7:28:05:d9:9f:3b:48:66:
    7a:3a:dc:f1:b7:fa:3b:ae:fd:c2:c7:e7:19:0e:ee:
    f4:bc:ec:d3:1c:ec:47:3f:7a:53:4d:10:82:76:8c:
    81:7e:9b:67:b1:42:a8:60:07
Exponent: 65537 (0x10001)

rsa
-----BEGIN PUBLIC KEY-----
MIGfMA0GCSqGSIb3DQEBAQUAA4GNADCBiQKBgQCxjrMVJfnkBQEt/cyChMQV2BYt
c76LzrqTIXow4rb1dua85UyOnWAaXXfow/GPBTOl2bji+G6LWHsv50Bj7AdPLCdI
bfSTw5srL+EVmQPFXLvHKAXZnztIZno63PG3+juu/cLH5xkO7vS87NMc7Ec/elNN
EIJ2jIF+m2exQqhgBwIDAQAB
-----END PUBLIC KEY-----

-----BEGIN CERTIFICATE REQUEST-----
MIICJzCCAZACAQAwKTELMAkGA1UEBhMCUk8xDDAKBgNVBAoMA1VUSTEMMAoGA1UE
CwwDc3NpMIGfMA0GCSqGSIb3DQEBAQUAA4GNADCBiQKBgQC3lRD3OqXOp5LghAu3
IgDui3aj7+Lm5m3nnh9FEYXCqm/wUmTFEfsXy8BDn5HF9kPXe2zYd73omNYzRKO7
PSJwU8FUPvWW43PqALKJpO0KmW0fYgcqq1Iwld3i0PgQ4mFoZFunVx0FBdlKqucw
3VpXgpcqgOEI/yPdro/ChoSnyQIDAQABoIG9MIG6BgkqhkiG9w0BCQ4xgawwgakw
DgYDVR0PAQH/BAQDAgWgMC4GA1UdJQQnMCUGCCsGAQUFBwMBBglghkgBhvhCBAEG
CisGAQQBgjcKAwMGAisEMBwGA1UdEQQVMBOBEXN0ZXZlQG9wZW5zc2wub3JnMB0G
A1UdDgQWBBRyB9gpsfZRjY4/gD6XQX0Ea60zBDAZBgMqAwMEEhYQTXkgbmV3IGV4
dGVuc2lvbjAPBgMqAwQECB4GAGEAYgBjMA0GCSqGSIb3DQEBCwUAA4GBAG74lDrp
9dSeP+Dmo97G47BeFi565tp9IhDb37wq98lbOv33ZiqiOwlJskRSYasks40OThOX
av2bssSmx8kTk8dLkh5/wNXEC7Rv1lNnCUVb39tXmwmiLjC+fpvVpamQiUvkkFJC
X8WGaxFBZiRwlSOZAitBw9BH1qH1Tr2kjqtg
-----END CERTIFICATE REQUEST-----
Public-Key: (1024 bit)
Modulus:
    00:b7:95:10:f7:3a:a5:ce:a7:92:e0:84:0b:b7:22:
    00:ee:8b:76:a3:ef:e2:e6:e6:6d:e7:9e:1f:45:11:
    85:c2:aa:6f:f0:52:64:c5:11:fb:17:cb:c0:43:9f:
    91:c5:f6:43:d7:7b:6c:d8:77:bd:e8:98:d6:33:44:
    a3:bb:3d:22:70:53:c1:54:3e:f5:96:e3:73:ea:00:
    b2:89:a4:ed:0a:99:6d:1f:62:07:2a:ab:52:30:95:
    dd:e2:d0:f8:10:e2:61:68:64:5b:a7:57:1d:05:05:
    d9:4a:aa:e7:30:dd:5a:57:82:97:2a:80:e1:08:ff:
    23:dd:ae:8f:c2:86:84:a7:c9
Exponent: 65537 (0x10001)

-----BEGIN PUBLIC KEY-----
MIGfMA0GCSqGSIb3DQEBAQUAA4GNADCBiQKBgQC3lRD3OqXOp5LghAu3IgDui3aj
7+Lm5m3nnh9FEYXCqm/wUmTFEfsXy8BDn5HF9kPXe2zYd73omNYzRKO7PSJwU8FU
PvWW43PqALKJpO0KmW0fYgcqq1Iwld3i0PgQ4mFoZFunVx0FBdlKqucw3VpXgpcq
gOEI/yPdro/ChoSnyQIDAQAB
-----END PUBLIC KEY-----

t/Mytest.t .............. ok
t/release-kwalitee.t .... skipped: these tests are for release candidate testing
t/release-meta-json.t ... skipped: these tests are for release candidate testing
All tests successful.
Files=9, Tests=102,  5 wallclock secs ( 0.04 usr  0.01 sys +  4.38 cusr  0.35 csys =  4.78 CPU)
Result: PASS

------------------------------
PREREQUISITES
------------------------------

Prerequisite modules loaded:

requires:

    Module                Need  Have    
    --------------------- ----- --------
    Crypt::OpenSSL::RSA   0     0.33    
    Exporter              0     5.78    
    perl                  5.008 5.041009
    XSLoader              0     0.32    

build_requires:

    Module                Need  Have    
    --------------------- ----- --------
    Crypt::OpenSSL::Guess 0.11  0.15    
    Crypt::OpenSSL::RSA   0     0.33    
    File::Slurper         0     0.014   
    File::Spec::Functions 0     3.93    
    File::Temp            0     0.2311  
    Import::Into          0     1.002005
    Test::Lib             0     0.003   
    Test::More            0     1.302209

configure_requires:

    Module                Need  Have    
    --------------------- ----- --------
    Crypt::OpenSSL::Guess 0.11  0.15    
    ExtUtils::MakeMaker   0     7.70    


------------------------------
ENVIRONMENT AND OTHER CONTEXT
------------------------------

Environment variables:

    AUTOMATED_TESTING = 1
    DATE_MANIP_TEST_DM5 = 1
    LC_ALL = C
    NONINTERACTIVE_TESTING = 1
    NO_NETWORK_TESTING = 1
    PATH = /home/cpan/bin/perl/bin:/home/cpan/bin:/home/cpan/bin:/bin:/sbin:/usr/bin:/usr/sbin:/usr/X11R7/bin:/usr/pkg/bin:/usr/pkg/sbin:/usr/games:/usr/local/bin:/usr/local/sbin
    PERL5LIB = 
    PERL5OPT = 
    PERL5_CPANPLUS_IS_RUNNING = 25527
    PERL5_CPAN_IS_RUNNING = 25527
    PERL_MM_USE_DEFAULT = 1
    PERL_USE_UNSAFE_INC = 1
    SHELL = /usr/pkg/bin/bash
    TERM = screen
    TMPDIR = /home/cpan/tmp

Perl special variables (and OS-specific diagnostics, for MSWin32):

    $^X = /home/cpan/bin/perl/bin/perl5.41.9
    $UID/$EUID = 1001 / 1001
    $GID = 100 100
    $EGID = 100 100

Perl module toolchain versions installed:

    Module              Have    
    ------------------- --------
    CPAN                2.38    
    CPAN::Meta          2.150010
    Cwd                 3.92    
    ExtUtils::CBuilder  0.280240
    ExtUtils::Command   7.70    
    ExtUtils::Install   2.22    
    ExtUtils::MakeMaker 7.70    
    ExtUtils::Manifest  1.75    
    ExtUtils::ParseXS   3.57    
    File::Spec          3.93    
    JSON                4.10    
    JSON::PP            4.16    
    Module::Build       0.4234  
    Module::Signature   0.89    
    Parse::CPAN::Meta   2.150010
    Test2               1.302209
    Test::Harness       3.50    
    Test::More          1.302209
    YAML                1.31    
    YAML::Syck          1.34    
    version             0.9933  


--

Summary of my perl5 (revision 5 version 41 subversion 9) configuration:
  Commit id: 59755da51174de089a5879a07f721569dcc77964
  Platform:
    osname=netbsd
    osvers=10.0
    archname=amd64-netbsd
    uname='netbsd cjg-netbsd10 10.0 netbsd 10.0 (generic) #0: thu mar 28 08:33:33 utc 2024 mkrepro@mkrepro.netbsd.org:usrsrcsysarchamd64compilegeneric amd64 '
    config_args='-des -Dprefix=/home/cpan/bin/perl -Dscriptdir=/home/cpan/bin/perl/bin -Dusedevel -Duse64bitall'
    hint=recommended
    useposix=true
    d_sigaction=define
    useithreads=undef
    usemultiplicity=undef
    use64bitint=define
    use64bitall=define
    uselongdouble=undef
    usemymalloc=n
    default_inc_excludes_dot=define
  Compiler:
    cc='cc'
    ccflags ='-fwrapv -fno-strict-aliasing -pipe -fstack-protector-strong -I/usr/pkg/include -D_FORTIFY_SOURCE=2'
    optimize='-O'
    cppflags='-fwrapv -fno-strict-aliasing -pipe -fstack-protector-strong -I/usr/pkg/include'
    ccversion=''
    gccversion='10.5.0'
    gccosandvers=''
    intsize=4
    longsize=8
    ptrsize=8
    doublesize=8
    byteorder=12345678
    doublekind=3
    d_longlong=define
    longlongsize=8
    d_longdbl=define
    longdblsize=16
    longdblkind=3
    ivtype='long'
    ivsize=8
    nvtype='double'
    nvsize=8
    Off_t='off_t'
    lseeksize=8
    alignbytes=8
    prototype=define
  Linker and Libraries:
    ld='cc'
    ldflags =' -Wl,-rpath,/usr/pkg/lib -Wl,-rpath,/usr/local/lib -fstack-protector-strong -L/usr/pkg/lib'
    libpth=/usr/lib /usr/pkg/lib /lib
    libs=-lpthread -lm -lcrypt -lutil -lc -lposix
    perllibs=-lpthread -lm -lcrypt -lutil -lc -lposix
    libc=/lib/libc.so
    so=so
    useshrplib=false
    libperl=libperl.a
    gnulibc_version=''
  Dynamic Linking:
    dlsrc=dl_dlopen.xs
    dlext=so
    d_dlsymun=undef
    ccdlflags='-Wl,-E '
    cccdlflags='-DPIC -fPIC '
    lddlflags='-shared  -L/usr/pkg/lib -fstack-protector-strong'


Characteristics of this binary (from libperl): 
  Compile-time options:
    HAS_LONG_DOUBLE
    HAS_STRTOLD
    HAS_TIMES
    PERLIO_LAYERS
    PERL_COPY_ON_WRITE
    PERL_DONT_CREATE_GVSV
    PERL_HASH_FUNC_SIPHASH13
    PERL_HASH_USE_SBOX32
    PERL_MALLOC_WRAP
    PERL_OP_PARENT
    PERL_PRESERVE_IVUV
    PERL_USE_DEVEL
    PERL_USE_SAFE_PUTENV
    USE_64_BIT_ALL
    USE_64_BIT_INT
    USE_LARGE_FILES
    USE_LOCALE
    USE_LOCALE_COLLATE
    USE_LOCALE_CTYPE
    USE_LOCALE_NUMERIC
    USE_LOCALE_TIME
    USE_PERLIO
    USE_PERL_ATOF
  Built under netbsd
  Compiled at Feb 11 2025 22:22:33
  %ENV:
    PERL5LIB=""
    PERL5OPT=""
    PERL5_CPANPLUS_IS_RUNNING="25527"
    PERL5_CPAN_IS_RUNNING="25527"
    PERL_MM_USE_DEFAULT="1"
    PERL_USE_UNSAFE_INC="1"
  @INC:
    /home/cpan/bin/perl/lib/site_perl/5.41.9/amd64-netbsd
    /home/cpan/bin/perl/lib/site_perl/5.41.9
    /home/cpan/bin/perl/lib/5.41.9/amd64-netbsd
    /home/cpan/bin/perl/lib/5.41.9
    .