Report for Zabbix2-API-0.012

Back
From: metabase:user:314402c4-2aae-11df-837a-5e0a49663a4f
Subject: UNKNOWN Zabbix2-API-0.012 v5.14.4 GNU/Linux
Date: 2014-11-17T17:09:38Z

This distribution has been tested as part of the CPAN Testers
project, supporting the Perl programming language.  See
http://wiki.cpantesters.org/ for more information or email
questions to cpan-testers-discuss@perl.org


--
Dear Fabrice Gabolde,

This is a computer-generated report for Zabbix2-API-0.012
on perl 5.14.4, created by CPAN-Reporter-1.2011.

Thank you for uploading your work to CPAN.  However, attempting to
test your distribution gave an inconclusive result.

This could be because your distribution had an error during the make/build
stage, did not define tests, tests could not be found, because your tests were
interrupted before they finished, or because the results of the tests could not
be parsed.  You may wish to consult the CPAN Testers Wiki:

http://wiki.cpantesters.org/wiki/CPANAuthorNotes

Sections of this report:

    * Tester comments
    * Program output
    * Prerequisites
    * Environment and other context

------------------------------
TESTER COMMENTS
------------------------------

Additional comments from tester:

none provided

------------------------------
PROGRAM OUTPUT
------------------------------

Output from './Build test':

t/actions.t ............ skipped: Needs an URL in $ENV{ZABBIX_SERVER} to run tests.
t/applications.t ....... skipped: Needs an URL in $ENV{ZABBIX_SERVER} to run tests.
t/connect-and-fetch.t .. skipped: Needs an URL in $ENV{ZABBIX_SERVER} to run tests.
t/graphs.t ............. skipped: Needs an URL in $ENV{ZABBIX_SERVER} to run tests.
t/hostgroups.t ......... skipped: Needs an URL in $ENV{ZABBIX_SERVER} to run tests.
t/hosts.t .............. skipped: Needs an URL in $ENV{ZABBIX_SERVER} to run tests.
t/items.t .............. skipped: Needs an URL in $ENV{ZABBIX_SERVER} to run tests.
t/macros.t ............. skipped: Needs an URL in $ENV{ZABBIX_SERVER} to run tests.
t/maps.t ............... skipped: Needs an URL in $ENV{ZABBIX_SERVER} to run tests.
t/screens.t ............ skipped: Needs an URL in $ENV{ZABBIX_SERVER} to run tests.
t/triggers.t ........... skipped: Needs an URL in $ENV{ZABBIX_SERVER} to run tests.
t/usergroups.t ......... skipped: Needs an URL in $ENV{ZABBIX_SERVER} to run tests.
t/users.t .............. skipped: Needs an URL in $ENV{ZABBIX_SERVER} to run tests.
Files=13, Tests=0,  2 wallclock secs ( 0.05 usr  0.08 sys +  1.02 cusr  0.35 csys =  1.50 CPU)
Result: NOTESTS

------------------------------
PREREQUISITES
------------------------------

Prerequisite modules loaded:

requires:

    Module           Need    Have    
    ---------------- ------- --------
    autodie          0       2.25    
    Carp             0       1.3301  
    constant         0       1.27    
    JSON             0       2.90    
    List::Util       0       1.41    
    Log::Any         0       0.15    
    LWP::UserAgent   0       6.06    
    Module::Load     0       0.32    
    Module::Loaded   0       0.06    
    Moo              1.001   1.006001
    Moo::Lax         0       0.15    
    Params::Validate 0       1.13    
    perl             5.01    5.014004
    Scalar::Util     0       1.41    
    strict           0       1.04    
    Text::ParseWords 0       3.27    
    URI              0       1.64    
    utf8             0       1.09    
    warnings         0       1.12    

build_requires:

    Module           Need    Have    
    ---------------- ------- --------
    Test::Deep       0       0.113   
    Test::Exception  0       0.32    
    Test::More       0       1.001009

configure_requires:

    Module           Need    Have    
    ---------------- ------- --------
    Module::Build    0.36_14 0.4210  


------------------------------
ENVIRONMENT AND OTHER CONTEXT
------------------------------

Environment variables:

    DBIC_NO_WARN_BAD_PERL = 1
    LANG = C
    LC_ALL = de_DE.UTF-8
    PATH = /usr/local/bin:/usr/bin:/bin:/usr/local/sbin:/usr/sbin:/sbin:/home/eserte/bin/linux-gnu:/home/eserte/bin/sh:/home/eserte/bin:/usr/games:/home/eserte/devel:/home/eserte/src/srezic-misc/scripts
    PERL5LIB = /home/eserte/.cpan/build/Heise-Shariff-1.01-drh8AV/blib/arch:/home/eserte/.cpan/build/Heise-Shariff-1.01-drh8AV/blib/lib:/home/eserte/.cpan/build/Shariff-1.01-m8_rka/blib/arch:/home/eserte/.cpan/build/Shariff-1.01-m8_rka/blib/lib
    PERL5OPT = 
    PERL5_CPANPLUS_IS_RUNNING = 10291
    PERL5_CPAN_IS_RUNNING = 10291
    PERL5_CPAN_IS_RUNNING_IN_RECURSION = 10214,10291
    PERLDOC = -MPod::Perldoc::ToTextOverstrike
    PERL_BATCH = yes
    PERL_CPAN_REPORTER_CONFIG = /var/tmp/cpansmoker-1001/s7GqZ9IDTI_config.ini
    PERL_EXTUTILS_AUTOINSTALL = --defaultdeps
    PERL_HTML_DISPLAY_CLASS = HTML::Display::Mozilla
    PERL_PARALLEL_SMOKER = yes
    SHELL = /bin/zsh
    TERM = screen
    TMPDIR = /var/tmp/cpansmoker-1001

Perl special variables (and OS-specific diagnostics, for MSWin32):

    $^X = /bbbike/perl-5.14.4/bin/perl5.14.4
    $UID/$EUID = 1001 / 1001
    $GID = 1001 109 1001
    $EGID = 1001 109 1001

Perl module toolchain versions installed:

    Module              Have     
    ------------------- ---------
    CPAN                1.9600_01
    CPAN::Meta          2.142690 
    Cwd                 3.47     
    ExtUtils::CBuilder  0.280217 
    ExtUtils::Command   1.17     
    ExtUtils::Install   2.04     
    ExtUtils::MakeMaker 7.00     
    ExtUtils::Manifest  1.68     
    ExtUtils::ParseXS   3.24     
    File::Spec          3.47     
    JSON                2.90     
    JSON::PP            2.27203  
    Module::Build       0.4210   
    Module::Signature   0.73     
    Parse::CPAN::Meta   1.4414   
    Test::Harness       3.34     
    Test::More          1.001009 
    YAML                1.13     
    YAML::Syck          1.27     
    version             0.9909   


--

Summary of my perl5 (revision 5 version 14 subversion 4) configuration:
   
  Platform:
    osname=linux, osvers=3.2.0-4-amd64, archname=x86_64-linux
    uname='linux eserte 3.2.0-4-amd64 #1 smp debian 3.2.57-3 x86_64 gnulinux '
    config_args='-ds -e -Dprefix=/opt/perl-5.14.4'
    hint=recommended, useposix=true, d_sigaction=define
    useithreads=undef, usemultiplicity=undef
    useperlio=define, d_sfio=undef, uselargefiles=define, usesocks=undef
    use64bitint=define, use64bitall=define, uselongdouble=undef
    usemymalloc=n, bincompat5005=undef
  Compiler:
    cc='cc', ccflags ='-fno-strict-aliasing -pipe -fstack-protector -I/usr/local/include -D_LARGEFILE_SOURCE -D_FILE_OFFSET_BITS=64',
    optimize='-O2',
    cppflags='-fno-strict-aliasing -pipe -fstack-protector -I/usr/local/include'
    ccversion='', gccversion='4.7.2', gccosandvers=''
    intsize=4, longsize=8, ptrsize=8, doublesize=8, byteorder=12345678
    d_longlong=define, longlongsize=8, d_longdbl=define, longdblsize=16
    ivtype='long', ivsize=8, nvtype='double', nvsize=8, Off_t='off_t', lseeksize=8
    alignbytes=8, prototype=define
  Linker and Libraries:
    ld='cc', ldflags =' -fstack-protector -L/usr/local/lib'
    libpth=/usr/local/lib /lib/x86_64-linux-gnu /lib/../lib /usr/lib/x86_64-linux-gnu /usr/lib/../lib /lib /usr/lib
    libs=-lnsl -ldb -ldl -lm -lcrypt -lutil -lc
    perllibs=-lnsl -ldl -lm -lcrypt -lutil -lc
    libc=, so=so, useshrplib=false, libperl=libperl.a
    gnulibc_version='2.13'
  Dynamic Linking:
    dlsrc=dl_dlopen.xs, dlext=so, d_dlsymun=undef, ccdlflags='-Wl,-E'
    cccdlflags='-fPIC', lddlflags='-shared -O2 -L/usr/local/lib -fstack-protector'


Characteristics of this binary (from libperl): 
  Compile-time options: PERL_DONT_CREATE_GVSV PERL_MALLOC_WRAP
                        PERL_PRESERVE_IVUV USE_64_BIT_ALL USE_64_BIT_INT
                        USE_LARGE_FILES USE_PERLIO USE_PERL_ATOF
  Built under linux
  Compiled at May 15 2014 16:40:06
  %ENV:
    PERL5LIB="/home/eserte/.cpan/build/Heise-Shariff-1.01-drh8AV/blib/arch:/home/eserte/.cpan/build/Heise-Shariff-1.01-drh8AV/blib/lib:/home/eserte/.cpan/build/Shariff-1.01-m8_rka/blib/arch:/home/eserte/.cpan/build/Shariff-1.01-m8_rka/blib/lib"
    PERL5OPT=""
    PERL5_CPANPLUS_IS_RUNNING="10291"
    PERL5_CPAN_IS_RUNNING="10291"
    PERL5_CPAN_IS_RUNNING_IN_RECURSION="10214,10291"
    PERLDOC="-MPod::Perldoc::ToTextOverstrike"
    PERL_BATCH="yes"
    PERL_CPAN_REPORTER_CONFIG="/var/tmp/cpansmoker-1001/s7GqZ9IDTI_config.ini"
    PERL_EXTUTILS_AUTOINSTALL="--defaultdeps"
    PERL_HTML_DISPLAY_CLASS="HTML::Display::Mozilla"
    PERL_PARALLEL_SMOKER="yes"
  @INC:
    /home/eserte/.cpan/build/Heise-Shariff-1.01-drh8AV/blib/arch
    /home/eserte/.cpan/build/Heise-Shariff-1.01-drh8AV/blib/lib
    /home/eserte/.cpan/build/Shariff-1.01-m8_rka/blib/arch
    /home/eserte/.cpan/build/Shariff-1.01-m8_rka/blib/lib
    /opt/perl-5.14.4/lib/site_perl/5.14.4/x86_64-linux
    /opt/perl-5.14.4/lib/site_perl/5.14.4
    /opt/perl-5.14.4/lib/5.14.4/x86_64-linux
    /opt/perl-5.14.4/lib/5.14.4
    .