BenchmarkAnything-Storage-Backend-SQL v0.029 Perl 5 v5.20.0 x86_64-linux

Status
Unknown
From
Slaven Rezić
Dist
BenchmarkAnything-Storage-Backend-SQL v0.029
Platform
Perl 5 v5.20.0 x86_64-linux
Date
2020-12-10 22:10:29
ID
836d7722-3b34-11eb-8e75-d13c1f24ea8f
This distribution has been tested as part of the CPAN Testers
project, supporting the Perl programming language.  See
http://wiki.cpantesters.org/ for more information or email
questions to cpan-testers-discuss@perl.org


--
Dear Steffen Schwigon,

This is a computer-generated report for BenchmarkAnything-Storage-Backend-SQL-0.029
on perl 5.20.0, created by CPAN-Reporter-1.2018.

Thank you for uploading your work to CPAN.  However, attempting to
test your distribution gave an inconclusive result.

This could be because your distribution had an error during the make/build
stage, did not define tests, tests could not be found, because your tests were
interrupted before they finished, or because the results of the tests could not
be parsed.  You may wish to consult the CPAN Testers Wiki:

http://wiki.cpantesters.org/wiki/CPANAuthorNotes

Sections of this report:

    * Tester comments
    * Program output
    * Prerequisites
    * Environment and other context

------------------------------
TESTER COMMENTS
------------------------------

Additional comments from tester:

none provided

------------------------------
PROGRAM OUTPUT
------------------------------

Output from '/usr/bin/make test':

Skip blib/lib/auto/share/dist/BenchmarkAnything-Storage-Backend-SQL/create-schema.mysql (unchanged)
Skip blib/lib/auto/share/dist/BenchmarkAnything-Storage-Backend-SQL/create-schema.SQLite (unchanged)
PERL_DL_NONLAZY=1 "/opt/perl-5.20.0/bin/perl" "-MExtUtils::Command::MM" "-MTest::Harness" "-e" "undef *Test::Harness::Switches; test_harness(0, 'blib/lib', 'blib/arch')" t/*.t
t/author-eol.t ............ skipped: these tests are for testing by the author
t/author-no-tabs.t ........ skipped: these tests are for testing by the author
t/author-pod-syntax.t ..... skipped: these tests are for testing by the author
t/release-pod-coverage.t .. skipped: these tests are for release candidate testing
Files=4, Tests=0,  0 wallclock secs ( 0.00 usr +  0.02 sys =  0.02 CPU)
Result: NOTESTS

------------------------------
PREREQUISITES
------------------------------

Prerequisite modules loaded:

requires:

    Module                                            Need  Have    
    ------------------------------------------------- ----- --------
    base                                              0     2.22    
    BenchmarkAnything::Storage::Search::Elasticsearch 0     0.005   
    Carp                                              0     1.38    
    CHI                                               0     0.60    
    Data::Dumper                                      0     2.161   
    DateTime::Format::Strptime                        0     1.68    
    DBD::SQLite                                       1.48  1.50    
    Digest::MD5                                       0     2.55    
    Hash::Merge                                       0     0.200   
    JSON::XS                                          0     3.02    
    List::MoreUtils                                   0     0.416   
    MCE::Flow                                         0     1.805   
    Module::Load                                      0     0.32    
    perl                                              5.008 5.020000
    Sereal::Decoder                                   0     3.015   
    Sereal::Encoder                                   0     3.015   
    strict                                            0     1.08    
    Try::Tiny                                         0     0.27    
    utf8                                              0     1.13    
    warnings                                          0     1.23    

build_requires:

    Module                                            Need  Have    
    ------------------------------------------------- ----- --------
    ExtUtils::MakeMaker                               0     7.24    

configure_requires:

    Module                                            Need  Have    
    ------------------------------------------------- ----- --------
    ExtUtils::MakeMaker                               0     7.24    
    File::ShareDir::Install                           0.06  0.11    


------------------------------
ENVIRONMENT AND OTHER CONTEXT
------------------------------

Environment variables:

    LANG = en_US.UTF-8
    LANGUAGE = en_US:en
    LC_ALL = en_US.UTF-8
    PATH = /usr/local/bin:/usr/bin:/bin:/usr/local/sbin:/usr/sbin:/sbin:/home/cpansand/bin/linux-gnu:/home/cpansand/bin/sh:/home/cpansand/bin:/usr/games:/home/cpansand/devel:/home/eserte/src/srezic-misc/scripts
    PERL5LIB = /home/cpansand/.cpan/build/2020121023/BenchmarkAnything-Storage-Search-Elasticsearch-0.005-0/blib/arch:/home/cpansand/.cpan/build/2020121023/BenchmarkAnything-Storage-Search-Elasticsearch-0.005-0/blib/lib
    PERL5OPT = 
    PERL5_CPANPLUS_IS_RUNNING = 10817
    PERL5_CPAN_IS_RUNNING = 10817
    PERL5_CPAN_IS_RUNNING_IN_RECURSION = 10703,10817
    PERLDOC = -MPod::Perldoc::ToTextOverstrike
    PERL_BATCH = yes
    PERL_CANARY_STABILITY_NOPROMPT = 1
    PERL_CPAN_REPORTER_CONFIG = /var/tmp/cpansmoker-1023/2020121023/cpanreporter_000_config.ini
    PERL_EXTUTILS_AUTOINSTALL = --defaultdeps
    PERL_USE_UNSAFE_INC = 1
    SHELL = /bin/zsh
    TERM = screen
    TMPDIR = /var/tmp/cpansmoker-1023/2020121023

Perl special variables (and OS-specific diagnostics, for MSWin32):

    $^X = /opt/perl-5.20.0/bin/perl
    $UID/$EUID = 1023 / 1023
    $GID = 1023 1023
    $EGID = 1023 1023

Perl module toolchain versions installed:

    Module              Have    
    ------------------- --------
    CPAN                2.16    
    CPAN::Meta          2.150010
    Cwd                 3.62    
    ExtUtils::CBuilder  0.280216
    ExtUtils::Command   7.24    
    ExtUtils::Install   1.67    
    ExtUtils::MakeMaker 7.24    
    ExtUtils::Manifest  1.70    
    ExtUtils::ParseXS   3.24    
    File::Spec          3.62    
    JSON                2.90    
    JSON::PP            2.27400 
    Module::Build       0.4220  
    Module::Signature   0.81    
    Parse::CPAN::Meta   2.150010
    Test::Harness       3.30    
    Test::More          1.302056
    YAML                1.17    
    YAML::Syck          1.29    
    version             0.9917  


--

Summary of my perl5 (revision 5 version 20 subversion 0) configuration:
   
  Platform:
    osname=linux, osvers=3.2.0-4-amd64, archname=x86_64-linux
    uname='linux cvrsnica-wheezy 3.2.0-4-amd64 #1 smp debian 3.2.54-2 x86_64 gnulinux '
    config_args='-ds -e -Dprefix=/opt/perl-5.20.0'
    hint=recommended, useposix=true, d_sigaction=define
    useithreads=undef, usemultiplicity=undef
    use64bitint=define, use64bitall=define, uselongdouble=undef
    usemymalloc=n, bincompat5005=undef
  Compiler:
    cc='cc', ccflags ='-fwrapv -fno-strict-aliasing -pipe -fstack-protector -I/usr/local/include -D_LARGEFILE_SOURCE -D_FILE_OFFSET_BITS=64',
    optimize='-O2',
    cppflags='-fwrapv -fno-strict-aliasing -pipe -fstack-protector -I/usr/local/include'
    ccversion='', gccversion='4.7.2', gccosandvers=''
    intsize=4, longsize=8, ptrsize=8, doublesize=8, byteorder=12345678
    d_longlong=define, longlongsize=8, d_longdbl=define, longdblsize=16
    ivtype='long', ivsize=8, nvtype='double', nvsize=8, Off_t='off_t', lseeksize=8
    alignbytes=8, prototype=define
  Linker and Libraries:
    ld='cc', ldflags =' -fstack-protector -L/usr/local/lib'
    libpth=/usr/local/lib /usr/lib/gcc/x86_64-linux-gnu/4.7/include-fixed /usr/include/x86_64-linux-gnu /usr/lib /lib/x86_64-linux-gnu /lib/../lib /usr/lib/x86_64-linux-gnu /usr/lib/../lib /lib
    libs=-lnsl -ldb -ldl -lm -lcrypt -lutil -lc
    perllibs=-lnsl -ldl -lm -lcrypt -lutil -lc
    libc=libc-2.13.so, so=so, useshrplib=false, libperl=libperl.a
    gnulibc_version='2.13'
  Dynamic Linking:
    dlsrc=dl_dlopen.xs, dlext=so, d_dlsymun=undef, ccdlflags='-Wl,-E'
    cccdlflags='-fPIC', lddlflags='-shared -O2 -L/usr/local/lib -fstack-protector'


Characteristics of this binary (from libperl): 
  Compile-time options: HAS_TIMES PERLIO_LAYERS PERL_DONT_CREATE_GVSV
                        PERL_HASH_FUNC_ONE_AT_A_TIME_HARD PERL_MALLOC_WRAP
                        PERL_NEW_COPY_ON_WRITE PERL_PRESERVE_IVUV
                        USE_64_BIT_ALL USE_64_BIT_INT USE_LARGE_FILES
                        USE_LOCALE USE_LOCALE_COLLATE USE_LOCALE_CTYPE
                        USE_LOCALE_NUMERIC USE_PERLIO USE_PERL_ATOF
  Built under linux
  Compiled at Jul 19 2014 07:43:18
  %ENV:
    PERL5LIB="/home/cpansand/.cpan/build/2020121023/BenchmarkAnything-Storage-Search-Elasticsearch-0.005-0/blib/arch:/home/cpansand/.cpan/build/2020121023/BenchmarkAnything-Storage-Search-Elasticsearch-0.005-0/blib/lib"
    PERL5OPT=""
    PERL5_CPANPLUS_IS_RUNNING="10817"
    PERL5_CPAN_IS_RUNNING="10817"
    PERL5_CPAN_IS_RUNNING_IN_RECURSION="10703,10817"
    PERLDOC="-MPod::Perldoc::ToTextOverstrike"
    PERL_BATCH="yes"
    PERL_CANARY_STABILITY_NOPROMPT="1"
    PERL_CPAN_REPORTER_CONFIG="/var/tmp/cpansmoker-1023/2020121023/cpanreporter_000_config.ini"
    PERL_EXTUTILS_AUTOINSTALL="--defaultdeps"
    PERL_USE_UNSAFE_INC="1"
  @INC:
    /home/cpansand/.cpan/build/2020121023/BenchmarkAnything-Storage-Search-Elasticsearch-0.005-0/blib/arch
    /home/cpansand/.cpan/build/2020121023/BenchmarkAnything-Storage-Search-Elasticsearch-0.005-0/blib/lib
    /opt/perl-5.20.0/lib/site_perl/5.20.0/x86_64-linux
    /opt/perl-5.20.0/lib/site_perl/5.20.0
    /opt/perl-5.20.0/lib/5.20.0/x86_64-linux
    /opt/perl-5.20.0/lib/5.20.0
    .