Report for POE-Component-Server-SimpleHTTP-2.26

Back
From: metabase:user:30977d10-2aae-11df-837a-5e0a49663a4f
Subject: PASS POE-Component-Server-SimpleHTTP-2.26 v5.18.4 SunOS/Solaris
Date: 2017-03-19T08:39:06Z

This distribution has been tested as part of the CPAN Testers
project, supporting the Perl programming language.  See
http://wiki.cpantesters.org/ for more information or email
questions to cpan-testers-discuss@perl.org


--
Dear Chris Williams,

This is a computer-generated report for POE-Component-Server-SimpleHTTP-2.26
on perl 5.18.4, created by CPAN-Reporter-1.2018.

Thank you for uploading your work to CPAN.  Congratulations!
All tests were successful.

Sections of this report:

    * Tester comments
    * Program output
    * Prerequisites
    * Environment and other context

------------------------------
TESTER COMMENTS
------------------------------

Additional comments from tester:

this report is from an automated smoke testing program
and was not reviewed by a human for accuracy

------------------------------
PROGRAM OUTPUT
------------------------------

Output from '/usr/bin/make test':

PERL_DL_NONLAZY=1 "/home/stro/perl/5.18.4t/bin/perl" "-MExtUtils::Command::MM" "-MTest::Harness" "-e" "undef *Test::Harness::Switches; test_harness(0, 'blib/lib', 'blib/arch')" t/*.t
t/00-compile.t ........... ok
# GET http://pocosimpletest.com:43927/ HTTP/1.1
# Host: 127.0.0.1:43927
# 
# HTTP/1.1 200 (OK)
# Date: Sun, 19 Mar 2017 07:51:57 GMT
# Content-Length: 3
# Content-Type: text/plain
# 
# Moo
t/02_simple.t ............ ok
# HTTP/1.1 404 (Not Found)
# Date: Sun, 19 Mar 2017 07:51:57 GMT
# Content-Length: 13
# Content-Type: text/plain
# 
# 404 Not Found
t/03_bad_handler.t ....... ok
# GEt http://pocosimpletest.com:35189/ HTTP/1.1
# Host: 127.0.0.1:35189
# 
# HTTP/1.1 200 (OK)
# Date: Sun, 19 Mar 2017 07:51:58 GMT
# Content-Length: 3
# Content-Type: text/plain
# 
# Moo
t/03_bad_request.t ....... ok
# 200 (OK)
# Date: Sun, 19 Mar 2017 07:51:58 GMT
# Content-Length: 11
# Content-Type: text/plain
# X-HTTP-Version: 1.1
# 
# this is top
# 200 (OK)
# Date: Sun, 19 Mar 2017 07:51:58 GMT
# Content-Length: 12
# Content-Type: text/plain
# X-HTTP-Version: 1.1
# 
# this is honk
# 200 (OK)
# Date: Sun, 19 Mar 2017 07:51:58 GMT
# Content-Length: 123
# Content-Type: text/html
# X-HTTP-Version: 1.1
# 
# <html>
# <head><title>YEAH!</title></head>
# <body><p>This, my friend, is the page you've been looking for.</p></body>
# </html>
# 404 (Not Found)
# Date: Sun, 19 Mar 2017 07:51:58 GMT
# Content-Length: 13
# Content-Type: text/plain
# X-HTTP-Version: 1.1
# 
# 404 Not Found
t/04_run_close.t ......... ok
# 200 (OK)
# Date: Sun, 19 Mar 2017 07:51:59 GMT
# Content-Length: 11
# Content-Type: text/plain
# X-HTTP-Version: 1.1
# 
# this is top
# 200 (OK)
# Date: Sun, 19 Mar 2017 07:51:59 GMT
# Content-Length: 12
# Content-Type: text/plain
# X-HTTP-Version: 1.1
# 
# this is honk
# 200 (OK)
# Date: Sun, 19 Mar 2017 07:51:59 GMT
# Content-Length: 123
# Content-Type: text/html
# X-HTTP-Version: 1.1
# 
# <html>
# <head><title>YEAH!</title></head>
# <body><p>This, my friend, is the page you've been looking for.</p></body>
# </html>
# 404 (Not Found)
# Date: Sun, 19 Mar 2017 07:51:59 GMT
# Content-Length: 13
# Content-Type: text/plain
# X-HTTP-Version: 1.1
# 
# 404 Not Found
t/04_run_keepalive.t ..... ok
# POST http://pocosimpletest.com:38648/ HTTP/1.1
# Host: 127.0.0.1:38648
# Content-Length: 40
# 
# brother !~we need to get off this island
# 200 (OK)
# Date: Sun, 19 Mar 2017 07:51:59 GMT
# Content-Length: 40
# Content-Type: text/plain
# X-HTTP-Version: 1.1
# 
# we need to get off this island brother !
t/05_post.t .............. ok
t/06_stream.t ............ skipped: POE::Component::Client::HTTP is required for this test
t/author-pod-coverage.t .. skipped: these tests are for testing by the author
t/author-pod-syntax.t .... skipped: these tests are for testing by the author
All tests successful.
Files=10, Tests=45,  7 wallclock secs ( 0.06 usr  0.02 sys +  5.82 cusr  0.73 csys =  6.63 CPU)
Result: PASS

------------------------------
PREREQUISITES
------------------------------

Prerequisite modules loaded:

requires:

    Module                    Need   Have    
    ------------------------- ------ --------
    Carp                      0      1.38    
    HTTP::Date                0      6.02    
    HTTP::Request             0      6.11    
    HTTP::Response            0      6.11    
    Moose                     0.9    2.2004  
    MooseX::POE               0.205  0.215   
    perl                      5.006  5.018004
    POE                       1.0000 1.367   
    Socket                    0      2.024   
    Storable                  0      3.05    
    Sys::Hostname             0      1.17    

build_requires:

    Module                    Need   Have    
    ------------------------- ------ --------
    ExtUtils::MakeMaker       6.59   7.24    
    File::Spec                0      3.62    
    IO::Handle                0      1.34    
    IPC::Open3                0      1.13    
    POE::Filter::HTTP::Parser 1.06   1.08    
    Test::More                0.47   1.302075
    Test::POE::Client::TCP    0.1    1.12    

configure_requires:

    Module                    Need   Have    
    ------------------------- ------ --------
    ExtUtils::MakeMaker       0      7.24    


------------------------------
ENVIRONMENT AND OTHER CONTEXT
------------------------------

Environment variables:

    AUTOMATED_TESTING = 1
    LANG = en_US.UTF-8
    PATH = /usr/gnu/bin:/usr/bin:/usr/sbin:/sbin:/usr/sfw/bin:
    PERL5LIB = 
    PERL5OPT = 
    PERL5_CPANPLUS_IS_RUNNING = 17533
    PERL5_CPAN_IS_RUNNING = 17533
    PERL5_CPAN_IS_RUNNING_IN_RECURSION = 2495,17533
    PERL_CR_SMOKER_CURRENT = POE-Component-Server-SimpleHTTP-2.26
    PERL_EXTUTILS_AUTOINSTALL = --defaultdeps
    PERL_MM_USE_DEFAULT = 1
    SHELL = /bin/bash
    TERM = xterm

Perl special variables (and OS-specific diagnostics, for MSWin32):

    $^X = /home/stro/perl/5.18.4t/bin/perl
    $UID/$EUID = 101 / 101
    $GID = 10 10
    $EGID = 10 10

Perl module toolchain versions installed:

    Module              Have    
    ------------------- --------
    CPAN                2.16    
    CPAN::Meta          2.150010
    Cwd                 3.62    
    ExtUtils::CBuilder  0.280224
    ExtUtils::Command   7.24    
    ExtUtils::Install   2.04    
    ExtUtils::MakeMaker 7.24    
    ExtUtils::Manifest  1.70    
    ExtUtils::ParseXS   3.30    
    File::Spec          3.62    
    JSON                2.90    
    JSON::PP            2.27400 
    Module::Build       0.4220  
    Module::Signature   0.81    
    Parse::CPAN::Meta   2.150010
    Test::Harness       3.36    
    Test::More          1.302075
    YAML                1.22    
    YAML::Syck          1.29    
    version             0.9917  


--

Summary of my perl5 (revision 5 version 18 subversion 4) configuration:
   
  Platform:
    osname=solaris, osvers=2.11, archname=i86pc-solaris-thread-multi
    uname='sunos vm-openindiana-001 5.11 illumos-2816291 i86pc i386 i86pc '
    config_args='-Dcc=gcc'
    hint=recommended, useposix=true, d_sigaction=define
    useithreads=define, usemultiplicity=define
    useperlio=define, d_sfio=undef, uselargefiles=define, usesocks=undef
    use64bitint=undef, use64bitall=undef, uselongdouble=undef
    usemymalloc=n, bincompat5005=undef
  Compiler:
    cc='gcc', ccflags ='-D_REENTRANT -fno-strict-aliasing -pipe -I/usr/gnu/include -D_LARGEFILE_SOURCE -D_FILE_OFFSET_BITS=64 -DPERL_USE_SAFE_PUTENV',
    optimize='-O',
    cppflags='-D_REENTRANT -fno-strict-aliasing -pipe -I/usr/gnu/include'
    ccversion='', gccversion='3.4.3 (csl-sol210-3_4-20050802)', gccosandvers='solaris2.11'
    intsize=4, longsize=4, ptrsize=4, doublesize=8, byteorder=1234
    d_longlong=define, longlongsize=8, d_longdbl=define, longdblsize=12
    ivtype='long', ivsize=4, nvtype='double', nvsize=8, Off_t='off_t', lseeksize=8
    alignbytes=4, prototype=define
  Linker and Libraries:
    ld='gcc', ldflags =' -L/usr/gnu/lib '
    libpth=/usr/gnu/lib /usr/lib /usr/ccs/lib
    libs=-lsocket -lnsl -lgdbm -ldb -ldl -lm -lpthread -lc
    perllibs=-lsocket -lnsl -ldl -lm -lpthread -lc
    libc=/lib/libc.so, so=so, useshrplib=false, libperl=libperl.a
    gnulibc_version=''
  Dynamic Linking:
    dlsrc=dl_dlopen.xs, dlext=so, d_dlsymun=undef, ccdlflags=' '
    cccdlflags='-fPIC', lddlflags='-shared -L/usr/gnu/lib'


Characteristics of this binary (from libperl): 
  Compile-time options: HAS_TIMES MULTIPLICITY PERLIO_LAYERS
                        PERL_DONT_CREATE_GVSV
                        PERL_HASH_FUNC_ONE_AT_A_TIME_HARD
                        PERL_IMPLICIT_CONTEXT PERL_MALLOC_WRAP
                        PERL_PRESERVE_IVUV PERL_SAWAMPERSAND
                        PERL_USE_SAFE_PUTENV USE_ITHREADS USE_LARGE_FILES
                        USE_LOCALE USE_LOCALE_COLLATE USE_LOCALE_CTYPE
                        USE_LOCALE_NUMERIC USE_PERLIO USE_PERL_ATOF
                        USE_REENTRANT_API
  Built under solaris
  Compiled at Dec 27 2016 10:15:48
  %ENV:
    PERL5LIB=""
    PERL5OPT=""
    PERL5_CPANPLUS_IS_RUNNING="17533"
    PERL5_CPAN_IS_RUNNING="17533"
    PERL5_CPAN_IS_RUNNING_IN_RECURSION="2495,17533"
    PERL_CR_SMOKER_CURRENT="POE-Component-Server-SimpleHTTP-2.26"
    PERL_EXTUTILS_AUTOINSTALL="--defaultdeps"
    PERL_MM_USE_DEFAULT="1"
  @INC:
    /home/stro/perl/5.18.4t/lib/site_perl/5.18.4/i86pc-solaris-thread-multi
    /home/stro/perl/5.18.4t/lib/site_perl/5.18.4
    /home/stro/perl/5.18.4t/lib/5.18.4/i86pc-solaris-thread-multi
    /home/stro/perl/5.18.4t/lib/5.18.4
    .