Report for XML-SemanticDiff-1.0000

Back
From: metabase:user:30f4dfbe-2aae-11df-837a-5e0a49663a4f
Subject: PASS XML-SemanticDiff-1.0000 v5.10.0 NetBSD
Date: 2011-10-22T01:38:16Z

This distribution has been tested as part of the CPAN Testers
project, supporting the Perl programming language.  See
http://wiki.cpantesters.org/ for more information or email
questions to cpan-testers-discuss@perl.org


--
Dear Shlomi Fish,

This is a computer-generated report for XML-SemanticDiff-1.0000
on perl 5.10.0, created by CPAN-Reporter-1.2002.

Thank you for uploading your work to CPAN.  Congratulations!
All tests were successful.

Sections of this report:

    * Tester comments
    * Program output
    * Prerequisites
    * Environment and other context

------------------------------
TESTER COMMENTS
------------------------------

Additional comments from tester:

this report is from an automated smoke testing program
and was not reviewed by a human for accuracy

------------------------------
PROGRAM OUTPUT
------------------------------

Output from './Build test':

t/01basic.t ........................... ok
t/02load_xml.t ........................ ok
t/03simple_compare.t .................. ok
t/04namespaces.t ...................... ok
t/05simple_handler.t .................. ok
t/06pass_to_handler.t ................. ok
t/07pitest.t .......................... ok
t/08nonexist_ns.t ..................... ok
t/09two-tags.t ........................ ok
t/10wide-chars.t ...................... ok
t/11tag-in-different-locations.t ...... ok
t/12missing-element-has-o-as-cdata.t .. ok
t/13to-doc-read.t ..................... ok
t/14ignore_xpath.t .................... ok
t/15ignore_multi.t .................... ok
t/pod-coverage.t ...................... ok
t/pod.t ............................... ok
All tests successful.
Files=17, Tests=31,  5 wallclock secs ( 0.13 usr  0.07 sys +  2.20 cusr  1.23 csys =  3.63 CPU)
Result: PASS

------------------------------
PREREQUISITES
------------------------------

Prerequisite modules loaded:

requires:

    Module        Need  Have    
    ------------- ----- --------
    Digest::MD5   0     2.51    
    Encode        0     2.44    
    perl          5.006 5.010000
    XML::Parser   0     2.41    

configure_requires:

    Module        Need  Have    
    ------------- ----- --------
    Module::Build 0.34  0.3800  


------------------------------
ENVIRONMENT AND OTHER CONTEXT
------------------------------

Environment variables:

    AUTOMATED_TESTING = 1
    PATH = /usr/bin:/bin:/usr/pkg/bin:/usr/local/bin
    PERL5LIB = /home/njh/.cpan/build/XML-LibXML-1.88-BMP_He/blib/arch:/home/njh/.cpan/build/XML-LibXML-1.88-BMP_He/blib/lib:/home/njh/.cpan/build/XML-SAX-0.99-dTiiF0/blib/arch:/home/njh/.cpan/build/XML-SAX-0.99-dTiiF0/blib/lib:/home/njh/.cpan/build/XML-NamespaceSupport-1.11-Ermm59/blib/arch:/home/njh/.cpan/build/XML-NamespaceSupport-1.11-Ermm59/blib/lib:/home/njh/.cpan/build/XML-SAX-Base-1.08-uKeNaY/blib/arch:/home/njh/.cpan/build/XML-SAX-Base-1.08-uKeNaY/blib/lib
    PERL5OPT = 
    PERL5_CPANPLUS_IS_RUNNING = 21037
    PERL5_CPAN_IS_RUNNING = 21037
    PERL5_MINISMOKEBOX = 0.54
    PERL_EXTUTILS_AUTOINSTALL = --defaultdeps
    PERL_MM_USE_DEFAULT = 1
    SHELL = /bin/sh

Perl special variables (and OS-specific diagnostics, for MSWin32):

    $^X = /home/njh/perl5/perlbrew/perls/perl-5.10.0/bin/perl
    $UID/$EUID = 500 / 500
    $GID = 100 0 100
    $EGID = 100 0 100

Perl module toolchain versions installed:

    Module              Have    
    ------------------- --------
    CPAN                1.9800  
    CPAN::Meta          2.112621
    Cwd                 3.33    
    ExtUtils::CBuilder  0.280202
    ExtUtils::Command   1.17    
    ExtUtils::Install   1.54    
    ExtUtils::MakeMaker 6.59    
    ExtUtils::Manifest  1.60    
    ExtUtils::ParseXS   3.05    
    File::Spec          3.33    
    JSON                2.53    
    JSON::PP            2.27200 
    Module::Build       0.3800  
    Module::Signature   n/a     
    Parse::CPAN::Meta   1.4401  
    Test::Harness       3.23    
    Test::More          0.98    
    YAML                0.77    
    YAML::Syck          1.17    
    version             0.94    


--

Summary of my perl5 (revision 5 version 10 subversion 0) configuration:
  Platform:
    osname=netbsd, osvers=4.0, archname=i386-netbsd
    uname='netbsd philips.bandsman.co.uk 4.0 netbsd 4.0 (generic) #0: sun dec 16 00:20:10 pst 2007 builds@wb34:homebuildsabnetbsd-4-0-releasei386200712160005z-objhomebuildsabnetbsd-4-0-releasesrcsysarchi386compilegeneric i386 '
    config_args='-de -Dprefix=/home/njh/perl5/perlbrew/perls/perl-5.10.0'
    hint=recommended, useposix=true, d_sigaction=define
    useithreads=undef, usemultiplicity=undef
    useperlio=define, d_sfio=undef, uselargefiles=define, usesocks=undef
    use64bitint=undef, use64bitall=undef, uselongdouble=undef
    usemymalloc=n, bincompat5005=undef
  Compiler:
    cc='cc', ccflags ='-fno-strict-aliasing -pipe -I/usr/pkg/include -I/usr/local/include',
    optimize='-O',
    cppflags='-fno-strict-aliasing -pipe -I/usr/pkg/include -I/usr/local/include'
    ccversion='', gccversion='4.1.2 20061021 prerelease (NetBSD nb3 20061125)', gccosandvers=''
    intsize=4, longsize=4, ptrsize=4, doublesize=8, byteorder=1234
    d_longlong=define, longlongsize=8, d_longdbl=define, longdblsize=12
    ivtype='long', ivsize=4, nvtype='double', nvsize=8, Off_t='off_t', lseeksize=8
    alignbytes=4, prototype=define
  Linker and Libraries:
    ld='cc', ldflags =' -Wl,-rpath,/usr/pkg/lib -Wl,-rpath,/usr/local/lib -L/usr/pkg/lib -L/usr/local/lib'
    libpth=/usr/pkg/lib /usr/local/lib /lib /usr/lib
    libs=-lgdbm -lm -lcrypt -lutil -lc -lposix
    perllibs=-lm -lcrypt -lutil -lc -lposix
    libc=/lib/libc.so, so=so, useshrplib=false, libperl=libperl.a
    gnulibc_version=''
  Dynamic Linking:
    dlsrc=dl_dlopen.xs, dlext=so, d_dlsymun=undef, ccdlflags='-Wl,-E '
    cccdlflags='-DPIC -fPIC ', lddlflags='--whole-archive -shared  -L/usr/pkg/lib -L/usr/local/lib'


Characteristics of this binary (from libperl): 
  Compile-time options: PERL_DONT_CREATE_GVSV PERL_MALLOC_WRAP
                        USE_LARGE_FILES USE_PERLIO
  Built under netbsd
  Compiled at Jul 15 2011 23:01:57
  %ENV:
    PERL5LIB="/home/njh/.cpan/build/XML-LibXML-1.88-BMP_He/blib/arch:/home/njh/.cpan/build/XML-LibXML-1.88-BMP_He/blib/lib:/home/njh/.cpan/build/XML-SAX-0.99-dTiiF0/blib/arch:/home/njh/.cpan/build/XML-SAX-0.99-dTiiF0/blib/lib:/home/njh/.cpan/build/XML-NamespaceSupport-1.11-Ermm59/blib/arch:/home/njh/.cpan/build/XML-NamespaceSupport-1.11-Ermm59/blib/lib:/home/njh/.cpan/build/XML-SAX-Base-1.08-uKeNaY/blib/arch:/home/njh/.cpan/build/XML-SAX-Base-1.08-uKeNaY/blib/lib"
    PERL5OPT=""
    PERL5_CPANPLUS_IS_RUNNING="21037"
    PERL5_CPAN_IS_RUNNING="21037"
    PERL5_MINISMOKEBOX="0.54"
    PERL_EXTUTILS_AUTOINSTALL="--defaultdeps"
    PERL_MM_USE_DEFAULT="1"
  @INC:
    /home/njh/.cpan/build/XML-LibXML-1.88-BMP_He/blib/arch
    /home/njh/.cpan/build/XML-LibXML-1.88-BMP_He/blib/lib
    /home/njh/.cpan/build/XML-SAX-0.99-dTiiF0/blib/arch
    /home/njh/.cpan/build/XML-SAX-0.99-dTiiF0/blib/lib
    /home/njh/.cpan/build/XML-NamespaceSupport-1.11-Ermm59/blib/arch
    /home/njh/.cpan/build/XML-NamespaceSupport-1.11-Ermm59/blib/lib
    /home/njh/.cpan/build/XML-SAX-Base-1.08-uKeNaY/blib/arch
    /home/njh/.cpan/build/XML-SAX-Base-1.08-uKeNaY/blib/lib
    /home/njh/perl5/perlbrew/perls/perl-5.10.0/lib/5.10.0/i386-netbsd
    /home/njh/perl5/perlbrew/perls/perl-5.10.0/lib/5.10.0
    /home/njh/perl5/perlbrew/perls/perl-5.10.0/lib/site_perl/5.10.0/i386-netbsd
    /home/njh/perl5/perlbrew/perls/perl-5.10.0/lib/site_perl/5.10.0
    .